Workbook

Sheet Перелік таблиць
A2: № з.п. | B2: Назва таблиці | C2: сторінка
A3: 1 | B3: Перелік територій та об`єктів природно-запвідного фонду загальнодержавного та місцевого значення
A4: 2 | B4: Структура кількості та площ територій та об"єктів ПЗФ України за категоріями
A5: 3 | B5: Розподіл кількості об"єктів ПЗФ та їх площі за адміністративними одиницями (АО).
A6: 4 | B6: Частка площі ПЗФ України в межах адміністративних одиниць від їх площі
A7: 5 | B7: Динаміка кількості та площі територій та об`єтів ПЗФ з 01.01.2007 по 01.01.2013

Sheet АРК
A1: Автономна республіка Крим
A2: Перелік територій та об`єктів природно-заповідного фонду загальнодержавного та місцевого значення
A4: № з.п. | B4: Назва території чи об’єкта ПЗФ | C4: Категорія | D4: Тип | E4: Площа, га | F4: Місце розташування території чи об`єкту ПЗФ | G4: Назва установи, підпрємства, організації, землекористувача (землевласника), у віданні якого знаходиться територія чи об’єкт ПЗФ | H4: Рішення, згідно з яким створено (змінено) дану територію чи об’єкт ПЗФ
A8: 1 | B8: 2 | C8: 3 | D8: 4 | E8: 5 | F8: 6 | G8: 7 | H8: 8
A9: Території та об`єкти ПЗФ загальнодержавного значення
A10: 1 | B10: Карадазький | C10: природний заповідник | E10: 2874.17 | F10: 98188 м. Феодосія,сел. Курортне | G10: НАН України | H10: Постанова РМ УССРвід 9.08. 1979 р. № 386
A11: 2 | B11: Кримський | C11: природний заповідник | E11: 44175.5 | F11: м. Алушта | G11: Державне управліннясправами ПрезидентаУкраїни | H11: Постанова РМ УССРвід 9.06. 1991 р. № 64
A12: 3 | B12: "МисМарт'ян" | C12: природний заповідник | E12: 240 | F12: м. Ялта,сел. Нікіта | G12: НБС ННЦ | H12: Постанова РМ УССРвід 20.02.1973 р. № 84
A13: 4 | B13: ЯлтинськийГЛ | C13: природний заповідник | E13: 14523 | F13: м. Ялта | G13: ДЛМГ Кримліс | H13: Постанова РМ УССРвід 20.02.1973 р. № 84
A14: 5 | B14: Казантипський | C14: природний заповідник | E14: 450.1 | F14: 98213 Ленінський р-н,м. Щолкіне | G14: Мінприроди України | H14: Указ Президента України від12.05.1998 р. № 458/98
A15: 6 | B15: Опукський | C15: природний заповідник | E15: 1592.3 | F15: Ленінський р-н,с. Яковенкове,вул.. Чорноморська, 1а | G15: Мінприроди України | H15: Указ ПрезидентаУкраїни від12.05.1998 р. № 458/98
B16: Всього природних заповідників | C16: 6 | E16: =SUM(E10:E15) -> 63855.07
A17: 1 | B17: Чарівна гавань | C17: національний природний парк | E17: 10900 | F17: Чорноморський район Оленьовський с/р Окуньовська с/р | G17: Мінприроди України | H17: Указ ПрезидентаУкраїни від11.12.2009 р. № 1037/2009
B18: Всього національних природних парків | C18: 1 | E18: =E17 -> 10900
A19: 1 | B19: Аю-Даг | C19: заказник | D19: ландшафтний | E19: 527 | F19: Запрудниньське л-во, кв.32 сел. Партеніт | G19: ДП «Алуштинське ЛГ» | H19: Пост. РМ УРСР від 28.10.1974 р. № 500
A20: 2 | B20: Великий каньйон Криму | C20: заказник | D20: ландшафтний | E20: 300 | F20: Бахчисарайський р-н, Соколинівське л-во | G20: ДП «Куйбишевське ЛГ» | H20: Пост. РМ УРСР від 28.10.1974 р. № 500
A21: 3 | B21: Плакуча скеля | C21: заказник | D21: ландшафтний | E21: 21.7 | F21: Сімферопольський р-н, с. Пожарське | G21: Пожарська с/р | H21: Пост. РМ УРСР від 13.02.1989 р. № 53
B22: Разом заказників ландшафтних | C22: 3 | E22: =SUM(E19:E21) -> 848.7
A23: 1 | B23: Арабатський | C23: заказник | D23: ботанічний | E23: 600 | F23: Ленінський р-н,с. Кам'янка | G23: СПГ "Семісотка" | H23: Пост. РМ УРСР від 28.10.1974 р. № 500
A24: 2 | B24: Урочище "Карабі-Яйла" | C24: заказник | D24: ботанічний | E24: 491 | F24: Новокленівське л-во, кв. 74,75,84-86 | G24: ДП «Білогірське ЛГ» | H24: Пост. РМ УРСР від 03.08.1978 р. № 383
A25: 3 | B25: Канака | C25: заказник | D25: ботанічний | E25: 160 | F25: Привітненське л-во, кв. 38-40 | G25: ДП «Судакське ЛМГ» | H25: Пост. РМ УРСР від 07.01.1987 р. № 2
A26: 4 | B26: Урочище "Кубалач" | C26: заказник | D26: ботанічний | E26: 526 | F26: Білогірський р-н, с. Мелихово, Пристепне л-во кв. 25,26,28,29,32,33. | G26: ДП «Білогірське ЛГ» | H26: Пост. РМ УРСР від 03.08.1978 р. № 383
A27: 5 | B27: Новий Світ | C27: заказник | D27: ботанічний | E27: 470 | F27: Судакське л-во кв.42-46,67 | G27: ДП «Судакське ЛМГ» | H27: Пост РМ УРСРвід 28.10.1974 р. № 500
A28: 6 | B28: Мале філофорне поле | C28: заказник | D28: ботанічний | E28: 38500 | F28: Акваторія Чорного моря | G28: Науково-дослідна установа «Український науковий центр екології моря» Міністерства екології та природних ресурсів України | H28: Указ Президента Українивід 31.08.2012 р. № 527/2012
B29: Разом заказників ботанічних | C29: 6 | E29: =SUM(E23:E28) -> 40747
A30: 1 | B30: Астанінські плавні | C30: заказник | D30: орнітологічний | E30: 50 | F30: Ленінський р-н, с. Астаніне | H30: Пост. РМ УРСРвід 28.10.1974 р. № 500
A31: 2 | B31: Каркінітський | C31: заказник | D31: орнітологічний | E31: 27646 | F31: Акваторія Чорного моря, Роздольненський р-н, Красноперекопський р-н | G31: Кримський ПЗ | H31: Пост. РМ УРСР від 11.01.1978 р. № 43
B32: Разом заказників орнітологічних | C32: 2 | E32: =SUM(E30:E31) -> 27696
A33: 1 | B33: Хапхальський | C33: заказник | D33: гідрологічний | E33: 250 | F33: м. Алушта, Сонячногірське л-во, кв. 9-11 | G33: ДП «Алуштинське ЛГ» | H33: Пост. РМ УРСР від 28.10.1974 р. № 500
B34: Разом заказників гідрологічних | C34: 1 | E34: =SUM(E33) -> 250
A35: 1 | B35: Качинський каньйон | C35: заказник | D35: геологічний | E35: 100 | F35: Бахчисарайській р-н Михайлівське л-во долина р. Кача кв. 55-57,61 | G35: ДП «Бахчисарайське ЛГ» | H35: Пост. РМ УРСР від 28.10.1974 р. № 500
A36: 2 | B36: Гірський карст Криму | C36: заказник | D36: геологічний | E36: 4316 | F36: Білогірський р-н, Новокленівське л-во, Привітнінське л-во | G36: ДП «Білогірське ЛГ» ДП «Алуштинське ЛГ» ДП «Судакське ЛМГ» | H36: Пост. РМ УРСР від 13.02.1989 р.№ 53
B37: Разом заказників геологічних | C37: 2 | E37: =SUM(E35:E36) -> 4416
B38: Всього заказників загальнодержавного значення | C38: =C37+C34+C32+C29+C22 -> 14 | E38: =E37+E34+E32+E29+E22 -> 73957.7
A39: 1 | B39: Агармишський ліс | C39: пам`ятка природи | D39: комплексна | E39: 40 | F39: м. Старий Крим, Старокримське л-во, кв. 13 | G39: ДП «Старокримське ЛГ» | H39: Пост. РМ УРСР від 14.10.1975 р. № 780-р
A40: 2 | B40: Бельбекський каньон | C40: пам`ятка природи | D40: комплексна | E40: 100 | F40: Бахчисарайський р-н, долина р. Бельбек с. Танкове | G40: ВАТ агрофірма ім. Іліча | H40: Пост. РМ УРСР від 14.10.1975 р. № 780-р
A41: 3 | B41: Гора Ак-Кая | C41: пам`ятка природи | D41: комплексна | E41: 30 | F41: Білогірський р-н,с. Біла Скеля | G41: Вишенська с/р | H41: Пост. РМ УРСР від 30.03.1981 р.№ 145
A42: 4 | B42: Гора Кішка | C42: пам`ятка природи | D42: комплексна | E42: 50 | F42: м. Ялта, смт. Сімеїз | G42: Сімеїзська с/р | H42: Пост. РМ УРСР від 21.03.1984 р. № 139
A43: 5 | B43: Гірський масив "Караул-Оба" | C43: пам`ятка природи | D43: комплексна | E43: 100 | F43: Судакський р-н,с. Новий світ,Морське л-во, кв. 45 | G43: ДП «Судакське ЛМГ» | H43: Пост. РМ УРСР від. 14.10.1975 р. № 780-р
A44: 6 | B44: Гора останец "Мангуп-Кале" | C44: пам`ятка природи | D44: комплексна | E44: 90 | F44: Бахчисарайській р-н,с. Залісне | G44: Бахчисарайський державний історико-культурний заповідник | H44: Пост. РМ УРСР від.14.10.1975 р. № 780-р
B45: Разом пам`яток природи комплексних | C45: 6 | E45: =SUM(E39:E44) -> 410
A46: 1 | B46: Гора Кара-Тау | C46: пам`ятка природи | D46: ботанічна | E46: 100 | F46: м. Алушта с. Генеральське Сонячногірське л-во, кв.75 | G46: ДП «Алуштинське ЛГ» | H46: Пост. РМ УРСР від.30.03.1981 р.№145
A47: 2 | B47: Карабі-яйлинська котловина | C47: пам`ятка природи | D47: ботанічна | E47: 32 | F47: Білогірський р-н, с. Новокленівка, Новокленівське л-во, кв.75, східна частина Карабі-Яйли | G47: ДП «Білогірське ЛГ» | H47: Пост. РМ УРСР від. 14.10.1975 р. № 780-р
B48: Разом пам`яток природи ботанічних | C48: 2 | E48: =SUM(E46:E47) -> 132
A49: 1 | B49: Урочище "Карасу-Баші" | C49: пам`ятка природи | D49: гідрологічна | E49: 24 | F49: Білогірський р-н ,с. Новокленівка, Новокленівське л-во, кв.14 | G49: ДП «Білогірське ЛГ» | H49: Пост. РМ УРСР від 14.10.1975 р. № 780-р
B50: Разом пам`яток природи гідрологічних | C50: 1 | E50: =SUM(E49) -> 24
A51: 1 | B51: Кизил-Коба | C51: пам`ятка природи | D51: геологічна | E51: 33 | F51: Сімферопольський р-н, с. Перевальне | G51: Підприємство «Кизил- Коба» | H51: Пост. РМ УРСР від 07.08.1963 р. № 1180-р
A52: 2 | B52: Сопка "Джау-Тепе" | C52: пам`ятка природи | D52: геологічна | E52: 10 | F52: Ленінський р-н, с. Вулканівка | G52: Кіровська с/р | H52: Пост. РМ УРСР від 14.10.1975 р. № 780-р
A53: 3 | B53: Урочище"Демерджи" | C53: пам`ятка природи | D53: геологічна | E53: 20 | F53: м. Алушта, с. Лучисте,Алуштинське л-во, кв. 38 | G53: ДП «Алуштинське ЛГ» | H53: Пост. РМ УРСРвід 30.03.1981 р.№ 145
A54: 4 | B54: Карстова шахта Солдатська | C54: пам`ятка природи | D54: геологічна | E54: 10 | F54: Привітненьське л-во,кв. 48 | G54: ДП «Судакське ЛМГ» | H54: Пост. РМ УРСРвід 14.10.1975 р. № 780-р
B55: Разом пам`яток природи геологічних | C55: 4 | E55: =SUM(E51:E54) -> 73
B56: Всього пам`яток природи загальнодержавного значення | C56: =C55+C50+C48+C45 -> 13 | E56: =E55+E50+E48+E45 -> 639
A57: 1 | B57: Нікітський ботанічний сад | C57: ботанічний сад | E57: 876.6 | F57: м. Ялта, сел. Нікіта | G57: УААН | H57: Пост. РМ УРСР від 14.10.1975 р. № 780-р
B58: Всього ботанічних садів загальнодержавного значення | C58: 1 | E58: =SUM(E57) -> 876.6
A59: 1 | B59: Алупкінський | C59: парк-пам`ятка садово-паркового мистецтва | E59: 30.95 | F59: 98676 м. Ялта,м. Алупка,Шоссе Дворцовое, 10 | G59: Пост.колегії Держкомприроди УССР від 22.07.1972 р.;Пост.Держкомитета Української ССР з екології та рац.природ. від 30.08.1990 р. № 18
A60: 2 | B60: Гурзуфський | C60: парк-пам`ятка садово-паркового мистецтва | E60: 12 | F60: 98640м. Ялта, с. Гурзуф,вул.. Ленінградська, 10 | G60: Пост. РМ УРСР від 29.01.1975р. № 105
A61: 3 | B61: Кіпарісний | C61: парк-пам`ятка садово-паркового мистецтва | E61: 9 | F61: м. Ялта, сел. Гурзуф | G61: Пост. РМ УРСР від 29.01.1975 р. № 105Пост.колегії Держкомітет УССР з охорони природи від 22.07.1972 р.
A62: 4 | B62: Лівадійський | C62: парк-пам`ятка садово-паркового мистецтва | E62: 40.1 | F62: м. Ялта,сел. Лівадія | G62: Пост. РМ УРСР від 29.01.1960 р. № 105
A63: 5 | B63: Масандрівський | C63: парк-пам`ятка садово-паркового мистецтва | E63: 44.1 | F63: м. Ялта, сел. МасандраМасандрівський паркб. 40 | G63: Пост. РМ УРСР від 29.01.1960 р. № 105
A64: 6 | B64: Місхорський | C64: парк-пам`ятка садово-паркового мистецтва | E64: 23 | F64: 98600 м. Ялта, Парковий проїзд, ½ | G64: Пост. РМ УРСР від 29.01.1960 р. № 105Пост. Держком.УССР з екол та раціон.природоп. від 30.08.1990 р. № 18
A65: 7 | B65: Утьос-Карасан | C65: парк-пам`ятка садово-паркового мистецтва | E65: 23 | F65: м. Алушта, сел. Утьос | G65: Пост. РМ УРСР від 29.01.1960 р. № 105
A66: 8 | B66: Фороський | C66: парк-пам`ятка садово-паркового мистецтва | E66: 70 | F66: 98690 м. Ялта, сел. Форос | G66: Пост. РМ УРСР від 29.01.1960 р. № 105
A67: 9 | B67: Харакський | C67: парк-пам`ятка садово-паркового мистецтва | E67: 15 | F67: 98662 м. Ялта, сел. Гаспра-2 | G67: Пост. РМ УРСР від.29.01.1975 р. № 105
B68: Всього парків-пам`яток садово-паркового мистецтва загальнодержавного значення | C68: 9 | E68: =SUM(E59:E67) -> 267.15
B69: Всього територій та об`єктів ПЗФ загальнодержавного значення | C69: =C68+C58+C56+C38+C18+C16 -> 44 | E69: =E68+E58+E56+E38+E18+E16 -> 150495.52
A70: Території та об’єкти місцевого значення
A71: 1 | B71: Калинівський | C71: Регіональний ландшафтний парк | E71: 12000 | F71: Джанкойський р-н ,с. Прозрачне | G71: Азовський ЛГЗ-4108, Акваторія оз. Сиваш -5583; Джанкойське СТПУ-48 – 2309; | H71: Пост. ВР АРК від. 16.02.2000р. № 913-2/2000
A72: 2 | B72: Бакальська коса | C72: Регіональний ландшафтний парк | E72: 1520 | F72: Роздольненський р-н с. Стерегуще | G72: ДП «Роздольненське ЛГ» | H72: Пост. ВР АРК від. 16.02.2000 р. № 913-2/2000
A73: 3 | B73: Караларський | C73: Регіональний ландшафтний парк | E73: 6806 | F73: Ленінський р-н, сел. Багерове,с. Золоте,с. Чистопілля | H73: Постанова ВР АРК від 20.06.2007 р. № 509-5/07 «Про створення рег.ланд.парка «Карал.» в АРК
A74: 4 | B74: «Тиха бухта» | C74: Регіональний ландшафтний парк | E74: 1508 | F74: м. Феодосія, сел. Орджонікідзе,с. Насипне,сел. Коктебель | G74: Орджонікідзівська с/р, Насипновська с/р, Коктебельська с/р | H74: Постанова ВР АРК від 19.12.2007 р. № 708-5/07
A75: 5 | B75: «Лисяча бухта Ечкі-Даг» | C75: Регіональний ландшафтний парк | E75: 1561 | F75: м. Судак,м. Феодосія | G75: Сонечнодолинська с/р, Щебетівська с/р | H75: Постанова ВР АРК від 17.09.2008 р. № 950-5/08
A76: 6 | B76: «Воздухоплавний комплекс «Узун-Сирт, гора Клементьева» | C76: Регіональний ландшафтний парк | E76: 840 | F76: с. Первомайське (Кіровський р-н), с. Насипне, с. Коктебель (м. Феодосія) | G76: Первомайська с/рНасипновська с/рКоктебельський с/р | H76: Постанова ВР АРК від 22.09.2010 р. № 1883-5/10
A77: 7 | B77: «Научний» | C77: Регіональний ландшафтний парк | E77: 965 | F77: Бахчисарайський р-н, на території ДП «Бахчисарайське ЛГ» у с. Научне | H77: Пост. ВР АРК від 21.12.2011 р. №643-6/11
A78: 8 | B78: «Біла скеля» | C78: Регіональний ландшафтний парк | E78: 2256 | F78: Білогірський р-н, за межами населених пунктів Вішенського, Василівського, Мічурінської сільських рад | H78: Пост. ВР АРК від 21.12.2011 р. №643-6/11
A79: 9 | B79: «Бахчисарай» | C79: Регіональний ландшафтний парк | E79: 10300 | F79: Бахчисарайський р-н, за межами населених пунктів | G79: ДП «Бахчисарайське ЛГ», ДП «Куйбмшівське ЛГ» КРУ «Бахчисарайський історико-культурний заповідник» | H79: Пост. ВР АРК від 21.12.2011 р. №643-6/11
A80: 10 | B80: «Урочище Кізіл-Коба» | C80: Регіональний ландшафтний парк | E80: 102 | F80: Сімферопольський р-н, за межами начселених пунктів Добровської сільської ради на західному схилі Долгоруківського карстоаого масиву у верхів’ях р. Червонопечерної | H80: Пост. ВР АРК від 21.12.2011 р. №643-6/11
A81: 11 | B81: "Донузлав" | C81: Регіональний ландшафтний парк | E81: 2335 | H81: Постанова ВР АРК від 27.02.2013 №1196-6/13
A82: 12 | B82: "Мис Такіль" | C82: Регіональний ландшафтний парк | E82: 850 | H82: Постанова ВР АРК від 27.02.2013 №1196-6/13
A83: 13 | B83: "Бітак" | C83: Регіональний ландшафтний парк | E83: 55 | H83: Постанова ВР АРК від 27.02.2013 №1196-6/13
A84: 14 | B84: "Атлеш" | C84: Регіональний ландшафтний парк | E84: 260 | H84: Постанова ВР АРК від 27.02.2013 №1196-6/13
B85: Всього регіональних ландшафтних парків | C85: 14 | E85: =SUM(E71:E84) -> 41358
A86: 1 | B86: Джангульський зсувне узбережжя | C86: заказник | D86: ландшафтний | E86: 100 | F86: Чорноморський р-н ,с. Оленівка | G86: Оленівська с/р | H86: Рішення Облвиконкому від. 20.05.1980 р.№ 353
A87: 2 | B87: Ділянка степу ус. Клепиніне | C87: заказник | D87: ландшафтний | E87: 3 | F87: с. Клепиніно | G87: Кримська ДСГОС | H87: РішенняОблвиконкомувід. 15.04.1986 р. № 156
A88: 3 | B88: Ділянка степу у с. Сонячне | C88: заказник | D88: ландшафтний | E88: 5 | F88: Симферопольський р-н, с. Сонячне | G88: Молодіжненська с/р | H88: Рішення Облвиконкому від. 15.04.1986 р.№ 156
A89: 4 | B89: Цилінний степ у с. Григор'ївка | C89: заказник | D89: ландшафтний | E89: 208 | F89: Красногвардійський р-н, с. Григор'ївка | G89: Янтарненська с/р | H89: Пост. ВР АРК від. 16.02.2000 р. № 913-2/2000
A90: 5 | B90: Ай-Петринська яйла | C90: заказник | D90: ландшафтний | E90: 1795 | F90: ДП «Куйбишевське ЛГ», Соколінське лісництво кв. 54, 55, 59-65, 72, 75, 76, 81, 83 | G90: ДП «Куйбишевське ЛГ» | H90: Пост. ВР АРК від. 22.12.2010 р. № 126-6/10
A91: 6 | B91: Карабі-Яйла | C91: заказник | D91: ландшафтний | E91: 2829 | F91: ДП «Білогірське ЛГ», Новокленівське лісництво кв. 69-73, 76-78, 80-83, 92-99, 102-105, 109-114 | G91: ДП «Білогірське ЛГ» | H91: Пост. ВР АРК від. 22.12.2010 р. № 126-6/10
A92: 7 | B92: Джемерджи яйла | C92: заказник | D92: ландшафтний | E92: 2076 | F92: ДП «Алуштинське ЛГ» кв. 12-19, 37-40 | G92: ДП «Алуштинське ЛГ» | H92: Пост. ВР АРК від. 21.12.2011 р. № 643-6/11
A93: 8 | B93: Сасикський | C93: заказник | D93: ландшафтний | E93: 5000 | F93: Сакський р-н за межами населених пунктів Лесновської, Охотніковської, Суворівської сільських рад | G93: ДП «Євпаторійське ЛГ» | H93: Пост. ВР АРК від. 21.12.2011 р. № 643-6/11
A94: 9 | B94: Осовинський степ | C94: заказник | D94: ландшафтний | E94: 3472 | F94: Ленінський р-н, за межами населених пунктів Войковської і Глазовської сільських рад | H94: Пост. ВР АРК від. 21.12.2011 р. № 643-6/11
A95: 10 | B95: Степова ділянка у селі Шкільне | C95: заказник | D95: ландшафтний | E95: 224 | F95: Сімферопольський район, у селі Шкільне, за межами населених пунктів Родніковської та Скворцовської селищних рад | H95: Пост. ВР АРК від. 21.12.2011 р. № 643-6/11
A96: 11 | B96: Долгоруківська яйла | C96: заказник | D96: ландшафтний | E96: 2130 | F96: Сімферопольський район, за межами населених пунктів Добровської мільської ради | H96: Пост. ВР АРК від. 21.12.2011 р. № 643-6/11
B97: Разом заказників ландшафтних | C97: 11 | E97: =SUM(E86:E96) -> 17842
A98: 1 | B98: Зелене коло | C98: заказник | D98: лісовий | E98: 172 | F98: Ленінський р-н, сел. Леніне | G98: ДП «Ленінське ЛГ»кв. 2-4 | H98: Рішення Облвиконкому від. 20.05.1980 р.№ 353
B99: Разом заказників лісових | C99: 1 | E99: =SUM(E98) -> 172
A100: 1 | B100: Тирке | C100: заказник | D100: ботанічний | E100: 1500 | F100: Сімферопольський р-н с. Перевальне, Перевальнинське л-во кв. 6-12,14,27,28–921гаБілогорський р-н: Красногірське л-во, кв.71 – 171 га;Міжгірське л-во, кв.43-45 - 408 га; | G100: ДП«Симферопольське ЛМГ» | H100: Рішення Облвиконкому від. 11.11.1979 р. № 617
A101: 2 | B101: Урочище Парагільмєн | C101: заказник | D101: ботанічний | E101: 225 | F101: м. Алушта, с. Малий Маяк,Запруднинське л-во кв.8, 10, 11, 13 | G101: ДП «Алуштинське ЛГ» | H101: Рішення Облвиконкомувід. 11.11.1979 р. № 617
A102: 3 | B102: Кастель | C102: заказник | D102: ботанічний | E102: 150 | F102: м. Алушта, с. Малий Маяк, Алуштинське л-во, кв. 70,71 | G102: ДП «Алуштинське ЛГ» | H102: Рішення Облвиконкому від. 11.11.1979 р. № 617
A103: 4 | B103: Михайлівський | C103: заказник | D103: ботанічний | E103: 145 | F103: Бахчисарайський р-н с. Долинне, Михайлівське л-во, кв. 7,8,13,16,24-30 | G103: ДП «Бахчисарайське ЛГ» | H103: Рішення Облвиконкому від. 11.11.1979 р. № 617
A104: 5 | B104: Бельбекський тисовий гай | C104: заказник | D104: ботанічний | E104: 20 | F104: Бахчисарайський р-н сел. Куйбишеве, Куйбишевське л-во кв.12 | G104: ДП «Куйбишевське ЛГ» | H104: Рішення Облвиконкому від. 20.05.1980 р. № 353
...

Sheet Вінницька обл.
A1: Вінницька область
A2: Перелік територій та об`єктів природно-заповідного фонду загальнодержавного та місцевого значення
A4: № з.п. | B4: Назва території чи об’єкта ПЗФ | C4: Категорія | D4: Тип | E4: Площа, га | F4: Місце розташування території чи об`єкту ПЗФ | G4: Назва установи, підпрємства, організації, землекористувача (землевласника), у віданні якого знаходиться територія чи об’єкт ПЗФ | H4: Рішення, згідно з яким створено (змінено) дану територію чи об’єкт ПЗФ
A8: 1 | B8: 2 | C8: 3 | D8: 4 | E8: 5 | F8: 6 | G8: 7 | H8: 8
A9: Території та об`єкти ПЗФ загальнодержавного значення
A10: 1 | B10: «Кармелюкове Поділля» | C10: Національний природний парк | E10: 20203.4 | F10: Чечельницький районБондурівська, Бритавська, Вербська, Демівська, Куренівська, Любомирська, Лузька, Стратіївська, Тартацька, Червоногреблянська сільські ради Чечельницької селищної ради Чечельницького районуТростянецький районс.Торканівка | G10: Мінприроди | H10: Указ Президента України № 1057/2009 від 16 грудня 2009 року
B11: Всього національних природних парків | C11: 1 | E11: =SUM(E10) -> 20203.4
A12: 1 | B12: Урочище "Устянська дача" | C12: заказник | D12: ботанічний | E12: 173 | F12: Бершадський районПоташнянська с/р,Бершадське лісництво,кв. 54-55 | G12: Бершадський ДЛГ | H12: Постанова РМ УРСР від 16.12.82р. №617
A13: 2 | B13: Іллінецький | C13: заказник | D13: ботанічний | E13: 432 | F13: Іллінецький районІллінецька міська рада ,Васильківська сільська рада (кв.36,37),Іллінецьке лісництво,кв.35-37, кв.47-50 | G13: Іллінецький ДЛГ | H13: Постанова РМ УРСР від2.11.84р. №434
A14: 3 | B14: Дашівський | C14: заказник | D14: ботанічний | E14: 116 | F14: Іллінецький районБілківська сільська радаДашівське лісництво кв. 75,76 | G14: Дашівське лісомисливське господарство | H14: Постанова РМ УРСР від2.11.84р. №434
A15: 4 | B15: Урочище "Сестринівська дача" | C15: заказник | D15: ботанічний | E15: 48 | F15: Козятинська сільська рада,Козятинське лісництво,кв. 8 | G15: Хмільницький ДЛГ | H15: Постанова РМ УРСР від16.12.82р. №617
A16: 5 | B16: Дяківці | C16: заказник | D16: ботанічний | E16: 223 | F16: Літинський районДяковецька сільська рада | G16: Хмільницький ДЛГ | H16: Постанова РМ УРСР від2.11.84р. №434
A17: 6 | B17: Бронницький | C17: заказник | D17: ботанічний | E17: 265 | F17: Мог. - Подільський район,Суботіївська сільська радас. Бронниця | G17: Мог. - Подільськийрайагроліс | H17: Постанова РМ УРСР від28.10.74р. №500
A18: 7 | B18: Вендичанська дубина | C18: заказник | D18: ботанічний | E18: 373 | F18: Мог.- Подільський районВендичанська сільська радаЮрковецьке лісництво,кв.кв. 1-11,біля с. Вендичани | G18: Мог .- Подільський ДЛГ | H18: Постанова РМ УРСР від03.08.78р. № 383
A19: 8 | B19: Гарячківська дача | C19: заказник | D19: ботанічний | E19: 774 | F19: Піщанський районСтавківська та Миролюбівська сільські радиРудницьке лісництво кв. кв. 10 -16 ,21-24,28,29,31,33 | G19: Крижопільський ДЛГ | H19: Указ Президента від 21.02.02 № 167/2002
A20: 9 | B20: Гайдамацька балка | C20: заказник | D20: ботанічний | E20: 1217 | F20: Тростянецький район,Ободівська сільська рада,Цибулівське лісництвокв. . 28-38,43-49,55-58. | G20: Ободівське ДЛМГ | H20: Постанова РМ УРСР від13.02.89 р. №53
A21: 10 | B21: Урочище "Журавлівська дача" | C21: заказник | D21: ботанічний | E21: 595 | F21: Тульчинський районСуворівська сільська радаЖуравлівське лісництвокв. кв . 24-27, 36 -39поблизу с. Журавлівка | G21: Тульчинське лісомисливське господарство | H21: Постанова РМ УРСР від16.12.82 р. №617
A22: 11 | B22: Хмільницька дача | C22: заказник | D22: ботанічний | E22: 50 | F22: Хмільницький районШироко - Гребельська сільська радаХмільницьке лісництво,кв.29 | G22: Хмільницький ДЛГ | H22: Постанова Ради Міністрів УРСР від03.08.78 р.. № 383
A23: 12 | B23: Бритавський | C23: заказник | D23: ботанічний | E23: 3259 | F23: Чечельницький районБритавська сільська рада Бритавське лісництво,кв.кв. 24-26,39-42,53-72,76-110 | G23: Чечельницький ДЛГ | H23: Постанова Ради Міністрів УРСР від 02.06.90 р.№ 123
... A25: 14 | B25: Урочище "Криве" | C25: заказник | D25: ботанічний | E25: 226 | F25: Ямпільський районСеверинівська сільська радаСеверинівське лісництво,кв.27-30 | G25: Ямпільський ДЛГ | H25: Постанова РМ УРСР від02.11.84 р. № 434
B26: Разом заказників ботанічних | C26: 14 | E26: =SUM(E12:E25) -> 7969
A27: 1 | B27: Коростовецький | C27: заказник | D27: ландшафтний | E27: 370 | F27: Гайсинський район | G27: Гайсинський ДЛГ | H27: Указ Президента України від 21.02.02. № 167/2002
A28: 2 | B28: Володимирська дубина | C28: заказник | D28: ландшафтний | E28: 133 | F28: Жмеринський район,Браїлівська сільська рада,Гніванське лісництво кв.32-35 | G28: Вінницький лісо-виробничий комплекс | H28: Постанова Ради Міністрів УРСР від28.10.74 р. № 500
A29: 3 | B29: Грабарківський | C29: заказник | D29: ландшафтний | E29: 487 | F29: Могилів - Подільський район,Юрковецька сільська рада,Юрковецьке лісництво ,кв.6-15 | G29: ДП “Могилів -Подільський ДЛГ” | H29: Постанова Ради Міністрів УРСР від28.10.74 р. № 500
A30: 4 | B30: Урочище "Самчинецьке" | C30: заказник | D30: ландшафтний | E30: 218 | F30: Немирівський район,Новообіходська сільська рада,Брацлавське лісництво,кв.1-4 | G30: ДП “Тульчинське ДЛМГ” | H30: Постанова Ради Міністрів УРСР від16.12.82 р. № 617
B31: Разом заказників ландшафтних | C31: 4 | E31: =SUM(E27:E30) -> 1208
A32: 1 | B32: Марксова дубина | C32: заказник | D32: лісовий | E32: 295 | F32: Немирівський район,Марківська сільська рада,Брацлавське лісництво,кв. 35-40 | G32: ДП “Тульчинське ДЛМГ” | H32: Постанова РМ УРСР від28.10.74 р. № 500
B33: Разом заказників лісових | C33: 1 | E33: =SUM(E32) -> 295
A34: 1 | B34: Буго - Деснянський | C34: заказник | D34: загальнозоологічний | E34: 1073 | F34: Вінницький район,Михайлівське лісництво- кв. 15-34Стрижавська с/р - кв. 15,17-21,25,26 =424,0 гаСосонська с/р -кв. 16,22-24 =198,0 гаСтадницька с/р - кв. 27-34=431,0га | G34: Вінницьке ДЛМГ | H34: Постанова РМ УРСР від28.10.74 р. № 500
A35: 2 | B35: Згарський | C35: заказник | D35: загальнозоологічний | E35: 3018.7 | F35: Жмеринський район:с. Лисогірка,с .Почапинці,Літинський район:с. Багринівці,с. Бірків,с. Горбівці,с. Микулинці | G35: Лисогірська сільська рада -59,5 га,Почапинецька сільська рада -716,1 га,Багриновецька сільська рада -499,8 га,Бірківська сільська рада -618,3 га,Горбовецька сільська рада -366,1 га,Микулинецька сільська рада -154,3 га,Літинський виробничий рибцех-444,8 гаЛітинський торфозавод -150,0 гаАдміністрація автомобільних доріг у Вінницькій області -9,8 га | H35: Указ Президента України від 21.02.02 № 167/ 2002
B36: Разом заказників загальнозоологічних | C36: 2 | E36: =SUM(E34:E35) -> 4091.7
B37: Всього заказників загальнодержавного значення | C37: =C36+C33+C31+C26 -> 21 | E37: =E36+E33+E31+E26 -> 13563.7
A38: 1 | B38: Урочище "Княгиня" | C38: пам`ятка природи | D38: комплексна | E38: 53 | F38: Піщанський район,Піщанська с/р,Піщанське лісництво квартали - 1,2 | G38: Крижопільський ДЛГ | H38: Розпорядження Ради Міністрів УРСР від 14.10.75 р. № 780-Р
A39: 2 | B39: Урочище "Стінка" | C39: пам`ятка природи | D39: комплексна | E39: 90 | F39: Ямпільський районПетрашівська с/рПетрашівське лісництво , кв.20 | G39: Ямпільський ДЛГ | H39: Розпорядження Ради Міністрів УРСР від 14.10.75 р. № 780-Р
B40: Разом пам`яток природи комплексних | C40: 2 | E40: =SUM(E38:E39) -> 143
A41: 1 | B41: "Терещуків яр" | C41: пам`ятка природи | D41: ботанічна | E41: 3.8 | F41: Чечельницький районЧечельницька селищна рада, смт. Чечельник, правий берег р. Савранки | G41: Чечельницька селищна рада | H41: Постанова Ради Міністрів УРСР від 28.12.89 р. № 324
A42: 2 | B42: "Ромашково" | C42: пам`ятка природи | D42: ботанічна | E42: 8.7 | F42: Чечельницький районЧечельницька селищна рада | G42: Чечельницька селищна рада | H42: Постанова Ради Міністрів УРСР від 28.12.89 р. № 324
B43: Разом пам`яток природи ботанічних | C43: 2 | E43: =SUM(E41:E42) -> 12.5
A44: 1 | B44: Урочище "Дубина" | C44: пам`ятка природи | D44: загально-зоологічна | E44: 29 | F44: Літинський район,Громадська с/р,Соснівська с/рЛітинське лісництво, кв.23,д. 1 | G44: Хмільницький ДЛГ | H44: Розпорядження Ради Міністрів УРСР від 14.10.75 р.№ 780 - р.
A45: 2 | B45: Урочище "Рибчинецька дубина" | C45: пам`ятка природи | D45: загально-зоологічна | E45: 40 | F45: Хмільницький район,с. Рибчинці с. Маркуші | G45: “Віноблагроліс”,Рибчинецька сільська рада | H45: Розпорядження Ради Міністрів УРСР від 14.10.75 р. № 780 -р.
B46: Разом пам`яток природи загально-зоологічних | C46: 2 | E46: =SUM(E44:E45) -> 69
A47: 1 | B47: Відслонення Грушанської світи | C47: пам`ятка природи | D47: геологічна | E47: 0.5 | F47: Могилів - Подільський район,с . Грушка, правий берег р. Мурафи, на північний схід від села | G47: Грушанська сільська рада | H47: Постанова Ради Міністрів УРСР від 21.03.84 р. № 139
A48: 2 | B48: Відслонення Могилівської світи | C48: пам`ятка природи | D48: геологічна | E48: 0.5 | F48: Могилів - Подільський район,с.Немія, північно- західна околиця м. Могилева -Подільського | G48: Немійська сільська рада | H48: Постанова Ради Міністрів УРСР від 21.03.84 р. № 139
A49: 3 | B49: „Березовий гай” | C49: пам`ятка природи | D49: геологічна | E49: 0.5 | F49: Могилів -Подільський район,північно - східна околиця с. Бернашівки | G49: Бернашівська сільська рада | H49: Постанова Ради Міністрів УРСР від 21.03.84 р. № 139
A50: 4 | B50: Урочище "Гайдамацький яр" | C50: пам`ятка природи | D50: геологічна | E50: 96 | F50: Чернівецький район,с.Бабчинці , вздовжр. БушанкиЯмпільський районс.Буша | G50: ТОВ Чернівецьке районне спеціалізоване лісогосподарське підприємство "Райкомунліс",Бушанська сільська рада | H50: Розпорядження Ради Міністрів УРСР від 14.10.75 р. № 780
B51: Разом пам`яток природи геологічних | C51: 4 | E51: =SUM(E47:E50) -> 97.5
B52: Всього пам`яток природи загальнодержавного значення | C52: =C51+C46+C43+C40 -> 10 | E52: =E51+E46+E43+E40 -> 322
A53: 1 | B53: Чернятинський парк | C53: парк-пам’ятка садово-паркового мистецтва | E53: 31 | F53: Жмеринський район,Чернятинська сільська рада | G53: Чернятинський аграрний технікум | H53: Постанова Ради Міністрів УРСР від29.01.60 р. № 105
A54: 2 | B54: Немерчанський парк | C54: парк-пам’ятка садово-паркового мистецтва | E54: 20 | F54: Муровано -Куриловецький район,с. Немерче | G54: Дослідне господарство "Україна" | H54: Постанова Ради Міністрів УРСР від29.01.60 р. № 105
A55: 3 | B55: Немирівський парк | C55: парк-пам’ятка садово-паркового мистецтва | E55: 85 | F55: Немирівський район,м. Немирів,вул. Шевченка ,1 | G55: Санаторій "Авангард" | H55: Постанова Ради Міністрів УРСР від29.01.60 р. № 105
A56: 4 | B56: Антопільський парк | C56: парк-пам’ятка садово-паркового мистецтва | E56: 27 | F56: Томашпільський район.Марківська сільська рада,с. Антопіль | G56: Антопільський будинок - інтернат для психічнохворих | H56: Постанова Ради Міністрів УРСР від29.01.60 р. № 105
A57: 5 | B57: Верхівський парк | C57: парк-пам’ятка садово-паркового мистецтва | E57: 25 | F57: Тростянецький район, Верхівська сільська рада | G57: Верхівський сільсько-господарський технікум | H57: Постанова Ради Міністрів УРСР від 29.01.60 р. № 105
A58: 6 | B58: Ободівський парк | C58: парк-пам’ятка садово-паркового мистецтва | E58: 17 | F58: Тростянецький район,Ободівська сільська рада | G58: Ободівська школа - інтернат | H58: Постанова Ради Міністрів УРСР від 29.01.60 р. № 105
A59: 7 | B59: Печерський парк | C59: парк-пам’ятка садово-паркового мистецтва | E59: 19 | F59: Тульчинський районс. Печера | G59: Печерська обласна лікарня відновлювального лікування | H59: Постанова колегії Держком-природи по охороні природи від 17.12.84 р. № 49
A60: 8 | B60: Парк ім. 50-річчя Жовтня | C60: парк-пам’ятка садово-паркового мистецтва | E60: 20 | F60: Хмільницький район,Хмільницька міська рада,вул. Шевченка,20 | G60: Лікарня південно- західної залізниці | H60: Постанова колегії Держком-природи по охороні природи від 27.07.87 р. № 25
A61: 9 | B61: Парк ім. Леніна | C61: парк-пам’ятка садово-паркового мистецтва | E61: 55 | F61: Хмільницький район,Хмільницька міська рада,вул. Першого Травня, 63 | G61: Центральний військовий клінічний санаторій "Хмільник" | H61: Постанова колегії Держком-природи по охороні природи від 10.06.82 р. № 14
A62: 10 | B62: Ботанічний сад "Поділля" | C62: парк-пам’ятка садово-паркового мистецтва | E62: 72 | F62: м. Вінниця, вул. Пирогова,155 | G62: Вінницький Державний аграрний університет, ботанічний сад "Поділля" | H62: Постанова колегії Держком-природи від 27.07.77 р. № 25
A63: 11 | B63: Центральний парк культури і відпочинку ім. Горького | C63: парк-пам’ятка садово-паркового мистецтва | E63: 30 | F63: м.Вінниця,вул. Хлібна,1 | G63: Центральний парк культури і відпочинку ім. Горького | H63: Постанова колегії Держком-природи від 27.07.77 р. № 25
B64: Всього парків-пам`яток садово-паркового мистецтва загальнодержавного значення | C64: 11 | E64: =SUM(E53:E63) -> 401
B65: Всього територій та об`єктів ПЗФ загальнодержавного значення | C65: =C64+C52+C37+C11 -> 43 | E65: =E64+E52+E37+E11 -> 34490.1
A66: Території та об`єкти ПЗФ місцевого значення
A67: 1 | B67: «Середнє Побужжя» | C67: регіональний ландшафтний парк | E67: 2618.2 | F67: Тиврівський район:Сутиська селищна рада, Тиврівська селищна рада, Довгополівська с/р, Дзвониська с/р, Шендерівська с/р, Колюхівська с/р, Маловулизька с/р | G67: Сутиська селищна рада, Тиврівська селищна рада, Довгополівська с/р, Дзвониська с/р, Шендерівська с/р, Колюхівська с/р, Маловулизька с/р | H67: Рішення 27 сесії Вінницької обласної ради 5 скликання № 903 від 10 грудня 2009 року
A68: 2 | B68: «Дністер» | C68: регіональний ландшафтний парк | E68: 6719.48 | F68: м..Могилів-Подільський, . – 1629,03гаМогилів-Подільський район;Бронницька, Ярузька, Суботівська с/р – 3420,0га.Ямпільський район – Бушанська, Гальжбіївська, Михайлівська с/р – 1670,45га. | G68: м..Могилів-Подільський,Бронницька, Ярузька, Суботівська с/рБушанська, Гальжбіївська, Михайлівська с/р | H68: Рішення 27 сесії Вінницької обласної ради 5 скликання № 903 від 10 грудня 2009 рокуРішення 5сесії Вінницької обласної ради 6 скликання № 104 від 29 квітня 2011року
A69: 3 | B69: «Мурафа» | C69: регіональний ландшафтний парк | E69: 3452.7 | F69: Чернівецька селищна рада – 78,8 ГАБабчинецька с/р-72,7 га, Вило-Ярузька с/р-1152,2 га, Гонтівська с/р- 53,0 га, Лозівська с/р-476,9 га, Мазурівська с/р- 537,2 га | G69: смт. Чернівціс.Гамулівка с. Коси, с. Лозовас. Вила Ярузькіс.Скалопільс.Скорячий Яр, с. Гонтівкас. Мазурівка | H69: Рішення 17 сесії Вінницької обласної ради 5 скликання № 573 від 29.05.08р
A70: 4 | B70: "Немирівське побужжя" | C70: регіональний ландшафтний парк | E70: 5678 | H70: Рішення 16 сесії Вінницької обласної ради 6 скликання "Про створення нових об`єктів природно-заповідного фонду місцевого значення" №548 від 20.06.2013 року
B71: Всього регіональних ландшафтних парків | C71: 4 | E71: =SUM(E67:E70) -> 18468.38
A72: 1 | B72: Урочище “Шиянецьке” | C72: заказник | D72: ботанічний | E72: 11 | F72: Барський районс.ГайовеГаєвська сільська рада | G72: ТОВ “Лан”, с. Гайове | H72: Рішення 11 сесії 23 скликання облради від 17.12.99 р.
A73: 2 | B73: “Крушинівський” | C73: заказник | D73: ботанічний | E73: 594 | F73: Бершадський районМаньківська сільська радаСумівське лісництво кв. 40-57 | G73: Бершадський ДЛГ | H73: Рішення облради № 263 від 25.10.90 р.
A74: 3 | B74: “Сумівський” | C74: заказник | D74: ботанічний | E74: 10 | F74: Бершадський районСумівська сільська радаСумівське лісництвокв.12, діл. 9 | G74: Бершадський ДЛГ | H74: Розпорядження № 421 від 25.10.77 р.
A75: 4 | B75: “П’ятничанський” | C75: заказник | D75: ботанічний | E75: 8.6 | F75: Вінницький районСтрижавська сільська радаЯкушинецьке лісництво кв.41, діл. 3-6 | G75: Вінницьке ДЛМГ | H75: Рішення облради № 371 від 29.08.84 р.
A76: 5 | B76: “Стрижавські орхідеї” | C76: заказник | D76: ботанічний | E76: 4.3 | F76: Вінницький районСтрижавська сільська рада | G76: Стрижавська сільська рада | H76: Рішення облради № 525 від 19.12.85 р.
A77: 6 | B77: “Запопова” | C77: заказник | D77: ботанічний | E77: 35.2 | F77: Іллінецький районс.КантелинаКантелинська сільська рада | G77: СТОВ “Дружба” | H77: Рішення 11 сесії 23 скликання облради від 17.12.99 р.
A78: 7 | B78: “Курочка” | C78: заказник | D78: ботанічний | E78: 50.4 | F78: Козятинський районс. ЗбаражЗбаразька сільська рада | G78: СФГ “Прогрес” | H78: Рішення 9 сесії облради від 28.03.97 р.
A79: 8 | B79: Урочище “Турська стінка” | C79: заказник | D79: ботанічний | E79: 40.8 | F79: Крижопільський районс.Вільшанка | G79: СТОВ “Вільшанське” | H79: Розпорядження облдержадміністрації № 200 від 22.12.95 р.
A80: 9 | B80: Урочище “Суха долина” | C80: заказник | D80: ботанічний | E80: 18.1 | F80: Крижопільський районс.Джугастра | G80: ТОВ “Агрофірма “Крижопіль” | H80: Розпорядження облдержадміністрації № 200 від 22.12.95 р.
A81: 10 | B81: “Григорівська гора” | C81: заказник | D81: ботанічний | E81: 53.7 | F81: Могилів –Подільський районс. Бронниця | G81: Бронницька сільська рада | H81: Рішення 11 сесії 23 скликання обласної ради від 17.12.1999р.
A82: 11 | B82: “Бронницька гора” | C82: заказник | D82: ботанічний | E82: 21.2 | F82: Могилів –Подільський районс. Бронниця | G82: Бронницька сільська рада | H82: Рішення 11 сесії 23 скликання обласної ради від 17.12.1999р.
A83: 12 | B83: “Криштофорівська гора ” | C83: заказник | D83: ботанічний | E83: 15.3 | F83: Могилів –Подільський районс. Бронниця | G83: Бронницька сільська рада | H83: Рішення 11 сесії 23 скликання обласної ради від 17.12.1999р.
... A113: 42 | B113: «Капличка» | C113: заказник | D113: ботанічний | E113: 20 | F113: Козятинський район, с.Махаринці | G113: Махаринецька с/р | H113: Рішення 28 сесії Вінницької обласної ради 5 скликання № 968 від 02березня 2010 року
A114: 43 | B114: "Долина ірисів" | C114: заказник | D114: ботанічний | E114: 13.7 | H114: Рішення 20 сесії Вінницької обласної ради 6 скликання "Про створення нових об`єктів природно-заповідного фонду місцевого значення" №645 від 20.12.2013 року
B115: Разом заказників ботанічних | C115: 43 | E115: =SUM(E72:E114) -> 5010.55
A116: 1 | B116: “Заповідні модрини” | C116: заказник | D116: лісовий | E116: 13.3 | F116: Барський район, Матійківська сільська рада, Барське лісництво, кв.74 діл.5 | G116: Жмеринський ДЛГ | H116: Рішення облвиконкому від 18.08.83р. №384
A117: 2 | B117: “Вороновицька дача” | C117: заказник | D117: лісовий | E117: 12 | F117: Вінницький район, Комарівська сільська рада, Вороновицьке лісництво, кв.12 діл.5 | G117: Вінницький лісо-виробничий комплекс | H117: Рішення облвиконкому від 18.08.83р. №384
A118: 3 | B118: “Калинівський” | C118: заказник | D118: лісовий | E118: 10 | F118: Калинівський район, Сальницька сільська рада, Калинівське лісництво, кв.122 діл. 2 | G118: Вінницький лісо-виробничий комплекс | H118: Рішення облвиконкому від 29.08.84р. №371
A119: 4 | B119: “Сосновий бір” | C119: заказник | D119: лісовий | E119: 17 | F119: Калинівський районс.СальникКалинівське лісництво, кв.104 діл. 1 | G119: Вінницький лісо-виробничий комплекс | H119: Рішення облвиконкому від 29.08.84р. №371
A120: 5 | B120: “Брацлавська дача” | C120: заказник | D120: лісовий | E120: 12 | F120: Немирівський район, Гриненська сільська рада, Брацлавське лісництво, кв. 58 діл. 8. | G120: Тульчинський ДЛМГ | H120: Рішення облвиконкому № 384 від 18.03.83 та №371 від 29.08.84р.
A121: 6 | B121: “Моївська дача” | C121: заказник | D121: лісовий | E121: 19 | F121: Чернівецький район, Білянська сільська рада, Моївське лісництво, кв.5 діл.1 | G121: Могилів-Полільський ДЛГ | H121: Рішення облвиконкому від 29.08.84р. №371
B122: Разом заказників лісових | C122: 6 | E122: =SUM(E116:E121) -> 83.3
A123: 1 | B123: “Мовчани” | C123: заказник | D123: ландшафтний | E123: 50.7 | F123: Жмеринський район, Мовчанівська сільська рада, с.Мовчани(лівий берег р.Мурашка) | G123: Жмеринська районна рада УТМР | H123: Рішення сесії обласної ради 9 сесії 22 скликання від 28.03.97р.
A124: 2 | B124: “Дністер” | C124: заказник | D124: ландшафтний | E124: 436.9 | F124: Муровано-Куриловецький районс. Жванс. Наддністрянське | G124: Могилів-Подільський ДЛГТОВ Мур-Куриловецький “Райкомунліс”Жванська сільська радаНаддністрянська сільська рада | H124: Рішення № 59327 сесії 3 скликання обласної ради від 19.02.2002 р.
A125: 3 | B125: “Лучанське” | C125: заказник | D125: ландшафтний | E125: 82 | F125: Немирівський район, Стрільчинецька сільська рада, Немирівське лісництво, кв.131, 132 (біля с.Стрільчинці) | G125: Іллінецький ДЛГ | H125: Рішення облвиконкому від 29.08.84р. №371
A126: 4 | B126: “Вище школи” | C126: заказник | D126: ландшафтний | E126: 10.6 | F126: Піщанський район, Болганська сільська рада(Західна частина с.Болган) | G126: Болганська сільська рада | H126: Розпорядження облдержадміністрації №200 від 22.12.95р.
A127: 5 | B127: Урочище “Біля вапняків” | C127: заказник | D127: ландшафтний | E127: 34.7 | F127: Піщанський район, Болганська сільська рада, с.Болган(по лівий берег р.Кам’янка) | G127: Болганська сільська рада | H127: Розпорядження облдержадміністрації №200 від 22.12.95р.
A128: 6 | B128: “Левада” | C128: заказник | D128: ландшафтний | E128: 75 | F128: Теплицький район, Брідоцька сільська рада, с.Брідок(південна околиця села) | G128: Брідоцька сільська рада | H128: Рішення облвиконкому від 25.10.90р. №263
A129: 7 | B129: “Бутова” | C129: заказник | D129: ландшафтний | E129: 67.4 | F129: Теплицький район с.Росоша, с.Веселівка(південно-східна околиця сіл) | G129: Росошанська сільська рада Веселівська сільська рада | H129: Розпорядження облдержадміністрації №200 від 22.12.95р.
A130: 8 | B130: “Прибузький” | C130: заказник | D130: ландшафтний | E130: 62.3 | F130: Тульчинський район, Печерська сільська рада(вздовж р.Південний Буг в межах Печерської сільської ради) | G130: Печерська сільська рада | H130: Рішення облради 13 сесії 22 скликання 26.12.97р.
A131: 9 | B131: “Марусине” | C131: заказник | D131: ландшафтний | E131: 12 | F131: Тульчинський район Кинашівська сільська рада(на півд.сх в 2,5 км від с.Мазурівка) | G131: ПСП “Україна” | H131: Розпорядження облдержадміністрації №200 від 22.12.95р
A132: 10 | B132: Урочище “Федьківське” | C132: заказник | D132: ландшафтний | E132: 129 | F132: Тульчинський район, с.Клебань | G132: СТОВ “1 –е Травня” | H132: Рішення 11 сесії 23 скликання обласної ради від 17.12.99 року
A133: 11 | B133: “Ковалева” | C133: заказник | D133: ландшафтний | E133: 25 | F133: Тульчинський район, с. Суворівка | G133: Суворівська сільська рада | H133: Розпорядження облдержадміністрації №200 від 22.12.95р
A134: 12 | B134: “Мурафа” | C134: заказник | D134: ландшафтний | E134: 220 | F134: Чернівецький район, Вил- Ярузька сільська рада, Лозівська сільська рада, Мазурівська сільська рада(між селами Скалопів і Вила Ярузькі, долина р.Мурафа) | G134: ТОВ Чернівецький “Райкомунліс” | H134: Рішення облвиконкому№ 263 від 28.10.90р.
...

Sheet Волинська обл.
A1: Волинська область
A2: Перелік територій та об`єктів природно-заповідного фонду загальнодержавного та місцевого значення
A4: № з.п. | B4: Назва території чи об’єкта ПЗФ | C4: Категорія | D4: Тип | E4: Площа, га | F4: Місце розташування території чи об`єкту ПЗФ | G4: Назва установи, підпрємства, організації, землекористувача (землевласника), у віданні якого знаходиться територія чи об’єкт ПЗФ | H4: Рішення, згідно з яким створено (змінено) дану територію чи об’єкт ПЗФ
A8: 1 | B8: 2 | C8: 3 | D8: 4 | E8: 5 | F8: 6 | G8: 7 | H8: 8
A9: Території та об`єкти ПЗФ загальнодержавного значення
A10: 1 | B10: Черемський | C10: природний заповідник | E10: 2975.7 | F10: Маневицький район, Черемський природний заповідник | G10: Черемський природний заповідник | H10: Указ Президента України від 19.12.2001 №1234/2001
B11: Всього природних заповідників | C11: 1 | E11: =SUM(E10) -> 2975.7
A12: 1 | B12: Шацький | C12: національний природний парк | E12: 48977 | F12: Шацький національний природний парк,ДП „Шацький учбово-досвідний лісгосп” | G12: Шацький національний природний парк | H12: Указ Президента України від 16.08.1999 № 992/99
A13: 2 | B13: „Прип’ять-Стохід” | C13: національний природний парк | E13: 39315.5 | F13: Любешівський р-н, ДП „Любешівське ЛМГ”, ДП СЛАП «Любешівагроліс», с/р | G13: Національний природний парк „Прип’ять-Стохід” | H13: Указ Президента України від 13.08.07 № 699/2007
A14: 3 | B14: «Цуманська пуща» | C14: національний природний парк | E14: 33475.34 | F14: Ківерцівський р-н, ДП «Цуманське ЛГ», ДП МГ «Звірівське», ДП КСЛП «Ківерціліс», с/р | G14: Ківерцівський національний природний парк «Цуманська пуща» | H14: Указ Президента України від 22.02.2010 № 203/2010
B15: Всього національних природних парків | C15: 3 | E15: =SUM(E12:E14) -> 121767.84
A16: 1 | B16: „Нечимне” | C16: заказник | D16: ландшафтний | E16: 40 | F16: Ковельський р-н, ДП „Ковельське ЛГ”, Скулинське л-во, кв.70 | G16: ДП „Ковельське ЛГ” | H16: Постанова Ради Міністрів України від 25.02.80 №132
A17: 2 | B17: „Чахівський” | C17: заказник | D17: ландшафтний | E17: 72.9 | F17: Шацький р-н, ДП „Любомльське ЛГ”, Головненське л-во, кв.6, вид.6, вид.14,16,18,22-25, кв.7, вид.1,2,5 | G17: ДП „Любомльське ЛГ” | H17: Указ Президента України від 10.12.1994 № 750/94
A18: 3 | B18: „Мошне” | C18: заказник | D18: ландшафтний | E18: 73.3 | F18: Любомльський р-н, ДП „Любомльське ЛГ”, Згоранське л-во, кв.21, вид.5,6,8,11,12,14 | G18: ДП „Любомльське ЛГ” | H18: Указ Президента України від 10.12.1994 № 750/94
A19: 4 | B19: „Згоранські озера” | C19: заказник | D19: ландшафтний | E19: 705.6 | F19: Любомльський р-н, с.Згорани | G19: Любомльське МСЛП | H19: Указ Президента України від 9.12.1998 № 1341/98
A20: 5 | B20: „Кормин” | C20: заказник | D20: ландшафтний | E20: 549 | F20: Ківерцівський р-н, ДП „Цуманське ЛГ”, Берестян-ське л-во: кв.1, вид.1-6,13, кв.2, вид.1-10, кв.4, вид.19-31, кв.7, вид.40,41, кв.12, вид.1-19,43,49, кв.15, вид.25-33, 36-40, кв.20, вид.33, кв.21, 1-21, кв.25, вид.1-32, кв.29, вид.15-34, кв.35, вид.33-47, кв.36, вид.1-17, кв.44, вид.16-37, кв.43, вид.31-41, кв.52, вид.41-47 | G20: ДП „Цуманське ЛГ” | H20: Указ Президента України від 10.12.1994 № 750/94
A21: 6 | B21: „Кручене озеро” | C21: заказник | D21: ландшафтний | E21: 75.9 | F21: Маневицький р-н, ДП „Городоцьке ЛГ”, Трояні вське л-во, кв.28, вид.20-23,26, кв.29, вид.1,5,7 | G21: ДП „Городоцьке ЛГ” | H21: Указ Президента України від 10.12.1994 № 750/94
A22: 7 | B22: „Джерела” | C22: заказник | D22: ландшафтний | E22: 90 | F22: Маневицький р-н, ДП „Маневицьке ЛГ”, Черевахівське л-во, кв.20, вид.3-6,9-11,15,16,18,25,26, кв.21, вид. | G22: ДП „Маневицьке ЛГ” | H22: Указ Президента України від 10.12.1994 № 750/94
A23: 8 | B23: „Стохід” | C23: заказник | D23: ландшафтний | E23: 4420 | F23: Камінь-Каширський і Маневицький райони | G23: ДП „Камінь-Каширське ЛГ”„Городоцьке ЛГ”,с/р | H23: Указ Президента України від 9.12.1998 № 1341/98
B24: Разом заказників ландшафтних | C24: 8 | E24: =SUM(E16:E23) -> 6026.7
A25: 1 | B25: „Воротнів” | C25: заказник | D25: ботанічний | E25: 600 | F25: Ківерцівський р-н, ДП „Ківерцівське ЛГ”, Луцьке л-во, кв.125-130,132-148 | G25: ДП „Ківерцівське ЛГ” | H25: Постанова Ради Міністрів України від 3.08.78 № 383
A26: 2 | B26: „Втенський” | C26: заказник | D26: ботанічний | E26: 130 | F26: Шацький р-н, ДП „Шацьке УДЛГ”, Ростанське л-во, кв.13, вид.15, кв.14, вид.17, кв.20, вид.3, кв.21, вид.1,15 | G26: ДП „Шацьке УДЛГ” | H26: Постанова Ради Міністрів України від 25.02.80 №132
A27: 3 | B27: „Вутвицький” | C27: заказник | D27: ботанічний | E27: 50 | F27: Камінь-Каширський р-н, ДП „Камінь-Каширсь-ке ЛГ”, Нуйнівське л-во, кв.22, вид.2-4,6-10,18-19,31 | G27: ДП „Камінь-Каширсь-ке ЛГ” | H27: Постанова Ради Міністрів України від 25.02.80 №132
A28: 4 | B28: „Губине” | C28: заказник | D28: ботанічний | E28: 418 | F28: Локачинський р-н, ДП „Володимир-Волинське ЛМГ”, Губинс яке л-во, кв.12,13,18,20 | G28: ДП „Володимир-Волинське ЛМГ” | H28: Указ Президента України від 10.12.1994 № 750/94
A29: 5 | B29: „Софіянівський” | C29: заказник | D29: ботанічний | E29: 87.6 | F29: Маневицький р-н, ДП „Маневицьке ЛГ”, Софіянівське л-во, кв.8, вид.19, кв.9 | G29: ДП „Маневицьке ЛГ” | H29: Указ Президента України від 10.12.1994 № 750/94
A30: 6 | B30: „Урочище Суничник” | C30: заказник | D30: ботанічний | E30: 99 | F30: Маневицький р-н, ДП „Городоцьке ЛГ”, Борове л-во, кв.21, вид.17-22,24-26, кв.32, вид.1-11,13-15,17,18,39 | G30: ДП „Городоцьке ЛГ” | H30: Указ Президента України від 10.12.1994 № 750/94
B31: Разом заказників ботанічних | C31: 6 | E31: =SUM(E25:E30) -> 1384.6
A32: 1 | B32: „Рись” | C32: заказник | D32: загально-зоологічний | E32: 320.5 | F32: Маневицький р-н, ДП „Городоцьке ЛГ”, Борове л-во, кв.3, вид.33-37, кв.6, вид.35,36, кв.7, кв.9 | G32: ДП „Городоцьке ЛГ” | H32: Постанова Ради Міністрів України від 2.06.90 № 123
B33: Разом заказників загальнозоологічних | C33: 1 | E33: =SUM(E32) -> 320.5
B34: Всього заказників загальнодержавного значення | C34: =C33+C31+C24 -> 15 | E34: =E33+E31+E24 -> 7731.8
A35: 1 | B35: „Горинські крутосхили” | C35: пам`ятка природи | D35: комплексна | E35: 30 | F35: Ківерцівський р-н, ДП „Цуманське ЛГ”, Горинсь-ке л-во: кв.39,вид.24,26,27,30,32,33,37,40,41,46,47 | G35: ДП „Цуманське ЛГ” | H35: Постанова Ради Міністрів України від 3.08.78 № 383
B36: Разом пам`яток природи комплексних | C36: 1 | E36: =SUM(E35) -> 30
A37: 2 | B37: „Озеро Святе” | C37: пам`ятка природи | D37: гідрологічна | E37: 44 | F37: Ратнівський р-н, ДП „Ратнівське ЛМГ”, Заболотівське л-во, кв.21, вид.10 | G37: ДП „Ратнівське ЛМГ” | H37: Розпорядження Ради Мін. України від 14.10.75 №780
A38: 3 | B38: „Озеро Добре” | C38: пам`ятка природи | D38: гідрологічна | E38: 46 | F38: Камінь-Каширський р-н, ДП „Камінь-Каширське ЛГ”, Нуйнівське л-во, кв.5, вид.23 | G38: ДП „Камінь-Каширське ЛГ” | H38: Розпорядження Ради Мін. України від 14.10.75 №780
B39: Разом пам`яток природи гідрологічних | C39: 2 | E39: =SUM(E37:E38) -> 90
B40: Всього пам`яток природи загальнодержавного значення | C40: =C39+C36 -> 3 | E40: =E36+E39 -> 120
A41: 1 | B41: Луцький ботанічний сад «Волинь» | C41: ботанічний сад | E41: 10 | F41: м.Луцьк, вул.К.Савура | G41: Волинський державний університет (дендрарій пл..2 га); Луцька м/р (пл..8га) | H41: Розпорядження Ради Мін. України від 14.10.75 №780
B42: Всього ботанічних садів загальнодержавного значення | C42: 1 | E42: =SUM(E41) -> 10
A43: 1 | B43: „Байрак” | C43: парк-пам`ятка садово-паркового мистецтва | E43: 13 | F43: Луцький р-н, смт.Рокині | G43: Музей історії сільського господарства Волині | H43: Указ Президента України № 715/96 від 20.08.1996
A44: 2 | B44: „Здоров’я” | C44: парк-пам`ятка садово-паркового мистецтва | E44: 13.6 | F44: Турійський р-н, смт.Луків | G44: Тублікарня ст.Мацеїв Львівської залізниці | H44: Указ Президента України № 715/96 від 20.08.1996
A45: 3 | B45: „Дубечнівський” | C45: парк-пам`ятка садово-паркового мистецтва | E45: 2 | F45: Старовижівський р-н, ДП „Старовижівське ЛГ”, Дубечнівське л-во. кв.29, вид.24, кв.30, вид.27 | G45: ДП „Старовижівське ЛГ” | H45: Указ Президента України № 715/96 від 20.08.1996
B46: Всього парків-пам`яток садово-паркового мистецтва загальнодержавного значення | C46: 3 | E46: =SUM(E43:E45) -> 28.6
B47: Всього територій та об`єктів ПЗФ загальнодержавного значення | C47: =C46+C42+C40+C34+C15+C11 -> 26 | E47: =E46+E42+E40+E34+E15+E11 -> 132633.94
A48: Території та об`єкти ПЗФ місцевого значення
A49: 1 | B49: „Березовий гай” | C49: заказник | D49: ландшафтний | E49: 36.7 | F49: Володимир-Волинський р-н, с.Лудин | H49: Рішення облради від 17.03.94 № 17/19
A50: 2 | B50: „Мочиська” | C50: заказник | D50: ландшафтний | E50: 127 | F50: Володимир-Волинський р-н, ДП „Володимир-Волинське ЛМГ”, Устилузьке л-во, кв.29 | G50: ДП „Володимир-Волинське ЛМГ” | H50: Рішення облради від 20.12.93 № 16/6
A51: 3 | B51: „Луга-Рачинська” | C51: заказник | D51: ландшафтний | E51: 37.7 | F51: Горохівський р-н, с.Рачин | G51: Рачинська сільська рада | H51: Рішення облради від 17.03.94 № 17/19
A52: 4 | B52: „Заставненський” | C52: заказник | D52: ландшафтний | E52: 156.8 | F52: Іваничівський р-н, с.Заставне | G52: Заставненська сільська рада | H52: Розпорядження облдержадміністрації від 12.12.95 № 213
A53: 5 | B53: „Бузаки” | C53: заказник | D53: ландшафтний | E53: 81.8 | F53: Камінь-Каширсьий р-н, ДП СЛАП «Камінь-Каширськагроліс», Полицівське л-во, кв.46, вид.2-15,18-30,34-37,39-43,45-48 | G53: ДП СЛАП «Камінь-Каширськагроліс» | H53: Рішення облвиконкому від 31.10.91 № 226
A54: 6 | B54: „Качинський” | C54: заказник | D54: ландшафтний | E54: 64 | F54: Камінь-Каширський р-н, с. Качин | G54: Качинська сільська рада | H54: Розпорядження облдержадміністрації від 26.05.92 № 132
A55: 7 | B55: „Свято-Бузаківський” | C55: заказник | D55: ландшафтний | E55: 2704.9 | F55: Камінь-Каширсьий р-н, ДП СЛАП «Камінь-Каширськагроліс», Полицівське л-во, кв.10,11, Сошичненське л-во, кв.1,2, Бузаківськие л-во, кв.25-45,58-63 | G55: ДП СЛАП «Камінь-Каширськагроліс» | H55: Розпорядження облдержадміністрації від 26.05.92 № 132
A56: 8 | B56: „Мішеч” | C56: заказник | D56: ландшафтний | E56: 68 | F56: Камігь-Каширський р-н, с.Воєгоща | G56: КСП „Воєгощанське” | H56: Розпорядження облдержадміністрації від 26.05.92 № 132
A57: 9 | B57: „Сірче” | C57: заказник | D57: ландшафтний | E57: 194.7 | F57: Камінь-Каширський р-н, с.Добре, ДП СЛАП «Камінь-Каширськагроліс» | G57: ДП СЛАП «Камінь-Каширськагроліс» | H57: Розпорядження облдержадміністрації від 26.05.92 № 132
A58: 10 | B58: „Прирічний” | C58: заказник | D58: ландшафтний | E58: 676 | F58: Ковельський р-н, ДП „Ковельське ЛГ”, Скулинське л-во, кв.40-42,67-69 | G58: ДП „Ковельське ЛГ” | H58: Рішення облради від 17.03.94 № 17/19
A59: 11 | B59: „Волошки” | C59: заказник | D59: ландшафтний | E59: 1255 | F59: Ковельський р-н, ДП „Ковельське ЛГ”, Ковельське л-во, кв.6-20 | G59: ДП „Ковельське ЛГ” | H59: Розпорядження облради від 20.12.93 № 15/6
A60: 12 | B60: „Радовичівський” | C60: заказник | D60: ландшафтний | E60: 33 | F60: Ковельський р-н, ДП „Ковельське ЛГ”, Радовичівське л-во, кв.22, вид.1 | G60: ДП „Ковельське ЛГ” | H60: Розпорядження облради від 3.03.93 № 18-р
A61: 13 | B61: „Скулинський | C61: заказник | D61: ландшафтний | E61: 150 | F61: Ковельський р-н, ДП „Ковельське ЛГ”, Скулинське л-во, кв.63,66 | G61: ДП „Ковельське ЛГ” | H61: Розпорядження облради від 3.03.93 № 18-р
... A77: 29 | B77: „Хотешівський” | C77: заказник | D77: ландшафтний | E77: 224 | F77: Камінь-Каширський р-н, ДП „Ратнівське ЛГ”, Поступельське л-во, кв.16, вид.1-50, кв.17, вид.1-27 | G77: ДП „Ратнівське ЛГ” | H77: Рішення облради від 22.12.2005 № 24/11
B78: Разом заказників ландшафтних | C78: 29 | E78: =SUM(E49:E77) -> 14505
A79: 1 | B79: „Стенжаричівський” | C79: заказник | D79: лісовий | E79: 32 | F79: Володимир-Волинський р-н, ДП „Володимир-Волинське ЛМГ”, Стенжаричівське л-во, кв.30, вид.14 | G79: ДП „Володимир-Волинське ЛМГ” | H79: Рішення облвиконкому від 31.10.1991 № 226
A80: 2 | B80: „Нехворощі” | C80: заказник | D80: лісовий | E80: 551.6 | F80: Володимир-Волинський р-н, ДП „Володимир-Волинське ЛМГ”, Микуличівське л-во, кв.35-39 | G80: ДП „Володимир-Волинське ЛМГ” | H80: Розпорядження облдержадміністрації від 26.05.92 № 132
A81: 3 | B81: „Новосілки” | C81: заказник | D81: лісовий | E81: 385 | F81: Володимир-Волинський р-н, ДП „Володимир-Волинське ЛМГ” | G81: ДП „Володимир-Волинське ЛМГ” | H81: Рішення облради від 20.12.93 № 16/6
A82: 4 | B82: „Липовий гай” | C82: заказник | D82: лісовий | E82: 24.8 | F82: Володимир-Волинський р-н, с.Зимне | G82: ДП „Володимир-Волинське ЛМГ” Устилузьке л-во | H82: Рішення облради від 17.03.94 № 17/19
A83: 5 | B83: „Микуличі” | C83: заказник | D83: лісовий | E83: 23.1 | F83: ДП „Володимир-Волинське ЛМГ”, Микуличівське л-во, кв.34, вид.9,21 | G83: ДП „Володимир-Волинське ЛМГ” | H83: Розпорядження облдержадміністрації від 12.02.97 № 94
A84: 6 | B84: „Силікатний” | C84: заказник | D84: лісовий | E84: 40.7 | F84: Камінь-Каширський р-н, ДП СЛАП «Камінь-Каширськагроліс», Полицівське л-во, кв.3, вид.9,21 | G84: ДП СЛАП «Камінь-Каширськагроліс» | H84: Розпорядження облдержадміністрації від 16.10.96 № 551
A85: 7 | B85: „Новочервищанський” | C85: заказник | D85: лісовий | E85: 9.7 | F85: Камінь-Каширський р-н, ДП СЛАП «Камінь-Каширськагроліс» | G85: ДП СЛАП «Камінь-Каширськагроліс» | H85: Рішення облвиконкому від 18.03.82 № 134
A86: 8 | B86: „Діброва” | C86: заказник | D86: лісовий | E86: 4.5 | F86: Камінь-Каширський р-н, ДП СЛАП «Камінь-Каширськагроліс», Кримнівське л-во, кв.8, вид.46 | G86: ДП СЛАП «Камінь-Каширськагроліс» | H86: Рішення облради від 3.12.2002 № 4/5
A87: 9 | B87: „Карпилівський” | C87: заказник | D87: лісовий | E87: 14 | F87: Камінь-Каширський р-н, ДП „Камінь-Каширське ЛГ”, Карпилівське л-во, кв.61, вид.16 | G87: ДП „Камінь-Каширське ЛГ” | H87: Рішення облвиконкому від 20.11.86 № 361-р
A88: 10 | B88: „Поступельський” | C88: заказник | D88: лісовий | E88: 12 | F88: Камінь-Каширський р-н, ДП „Ратнівське ЛМГ”, Поступельське л-во, кв.18, вид.9 | G88: ДП „Ратнівське ЛМГ” | H88: Рішення облради від 17.03.94 № 17/19
A89: 11 | B89: „Цуманський" | C89: заказник | D89: лісовий | E89: 35.30 | F89: Ківерцівський р-н, ДП „Цуманське ЛГ”, Цуманське л-во, кв.40, вид.2,3,11,12,14 | G89: ДП „Цуманське ЛГ” | H89: Розпорядження облради від 3.03.93 № 18-р
A90: 12 | B90: „Дольський” | C90: заказник | D90: лісовий | E90: 73.6 | F90: Любешівський р-н, ДП „Любешівське ЛМГ”, Дольське л-во, кв.4, вид.32, кв.7, вид.29,31,32, кв.8, вид.7, кв.14, вид.34,35,37, кв.16, вид.35, кв.17, вид.40, кв.18, вид.10,11 | G90: ДП „Любешівське ЛМГ” | H90: Рішення облради від 25.07.2003 № 6/33
A91: 13 | B91: „Пнівенський” | C91: заказник | D91: лісовий | E91: 10.3 | F91: Любешівський р-н, ДП „Любешівське ЛМГ”, Деревківське л-во, кв.56, вид.23,24 | G91: ДП „Любешівське ЛМГ” | H91: Рішення облради від 25.07.2003 № 6/33
A92: 14 | B92: „Білоозерський” | C92: заказник | D92: лісовий | E92: 276.5 | F92: Любешівський р-н, ДП „Любешівське ЛМГ”, Білоозерське л-во, кв.15, вид.14,20,22, кв.16, вид.13, кв.17, вид.14,21, кв.18, вид.15, кв.22, вид.1,35, кв.23, вид.7, кв.26, вид.6,9, кв.27, вид.6,7,10, кв.28, вид.5,7,8,13, кв.29, вид.13,17,26, кв.35, вид.8, кв.36, вид.7,10, кв.39, вид.8,9, кв.40, вид.2,9,15, кв.41, вид.6,9, кв.46, вид.23, кв.57, вид.20,21,30-32, кв.58, вид.2,8,13, кв.60, вид.12 | G92: ДП „Любешівське ЛМГ” | H92: Рішення облради від 25.07.2003 № 6/33
A93: 15 | B93: „Рись” | C93: заказник | D93: лісовий | E93: 65.7 | F93: Любешівський р-н, ДП „Любешівське ЛМГ”, Залізницьке л-во, кв.26, вид.34, кв.30, вид.10, кв.31, вид.21, кв.36, вид.10,16, кв.39, вид.20, кв.40, вид.1,3,4,6,11, кв.45, вид.14,19 | G93: ДП „Любешівське ЛМГ” | H93: Рішення облради від 25.07.2003 № 6/33
A94: 16 | B94: „Підсвиння” | C94: заказник | D94: лісовий | E94: 21 | F94: Любомльський р-н, ДП „Любомльське ЛМГ”, Головненське л-во, кв.54, вид.15 | G94: ДП „Любомльське ЛМГ” | H94: Рішення облради від 20.12.93 № 16/6
A95: 17 | B95: „Підгородненський” | C95: заказник | D95: лісовий | E95: 19.1 | F95: Любомльський р-н, ДП „Любомльське ЛМГ”, Любомльське л-во, кв.11, вид.11,15,20 | G95: ДП „Любомльське ЛМГ” | H95: Рішення облради від 20.12.93 № 16/6
A96: 18 | B96: „Заріччя” | C96: заказник | D96: лісовий | E96: 20 | F96: Маневицький р-н, ДП „Колківське ЛГ”, Тельчівське л-во, кв.7, вид.21 | G96: ДП „Колківське ЛГ” | H96: Рішення облради від 17.03.94 № 17/19
A97: 19 | B97: „Граддівська дубина” | C97: заказник | D97: лісовий | E97: 7.5 | F97: Маневицький р-н, ДП „Колківське ЛГ”, Граддівське л-во, кв.49, вид.30 | G97: ДП „Колківське ЛГ” | H97: Рішення облради від 17.03.94 № 17/19
A98: 20 | B98: „Рудниківський” | C98: заказник | D98: лісовий | E98: 6.5 | F98: Маневицький р-н, ДП „Колківське ЛГ”, Рудниківське л-во, кв.29, вид.4 | G98: ДП „Колківське ЛГ” | H98: Рішення облради від 17.03.94 № 17/19
A99: 21 | B99: „Карасинський” | C99: заказник | D99: лісовий | E99: 9.4 | F99: Маневицький р-н, ДП „Маневицьке ЛГ”, Карасинське л-во, кв.2, вид.3 | G99: ДП „Маневицьке ЛГ” | H99: Розпорядження облвиконкому від 20.11.86 № 361-р
A100: 22 | B100: „Маневицький” | C100: заказник | D100: лісовий | E100: 16 | F100: Маневицький р-н, ДП „Маневицьке ЛГ”, Маневицьке л-во, кв.14, вид.3 | G100: ДП „Маневицьке ЛГ” | H100: Розпорядження облвиконкому від 20.11.86 № 361-р
A101: 23 | B101: „Дубина” | C101: заказник | D101: лісовий | E101: 70.1 | F101: Маневицький р-н, ДП „Маневицьке ЛГ”, Маневицьке л-во, кв.25, вид.23, кв.26. вид.10, кв.29, вид.5,14,19, кв.30, вид.8,13 | G101: ДП „Маневицьке ЛГ” | H101: Рішення облвиконкому від 31.10.91 № 226
... A115: 37 | B115: «Мощаницький» | C115: заказник | D115: лісовий | E115: 57.6 | F115: Ківерцівський р-н, ДП «Цуманське ЛГ», Мощаницьке л-во | G115: ДП «Цуманське ЛГ» | H115: Розпорядження облради від 3.03.93 № 18-р
A116: 38 | B116: «Березово-Вільховий» | C116: заказник | D116: лісовий | E116: 338 | H116: Рішення облради від 12.03.12 № 10/67
A117: 39 | B117: «Сяньків Луг» | C117: заказник | D117: лісовий | E117: 159 | H117: Рішення облради від 21.06.12 № 12/35
A118: 40 | B118: „Садівська дача” | C118: заказник | D118: лісовий | E118: 2669.62 | F118: Локачинський р-н, Луцький р-н, ДП „Ківерцівське ЛГ”, Торчинське л-во, кв.52-96,103,107,108 | G118: ДП „Ківерцівське ЛГ”, Садівська сільська рада | H118: Рішення облради від 29.03.05 № 19/27 Рішення обласної ради від 04.11.2011 № 7/21 (зміна категорії із заповідного урочища за рішенням облради від 12.03.12 № 10/67)
B119: Разом заказників лісових | C119: 40 | E119: =SUM(E79:E118) -> 8348.12
A120: 1 | B120: „Грузьке болото” | C120: заказник | D120: ботанічний | E120: 195.1 | F120: Камінь-Каширський р-н, ДП „Камінь-Каширське ЛГ”Стобихівське л-во | G120: ДП „Камінь-Каширське ЛГ” | H120: Рішення облради від 3.12.02 № 4/5
A121: 2 | B121: „Підрічанський” | C121: заказник | D121: ботанічний | E121: 22.6 | F121: Камінь-Каширський р-н, ДП „Камінь-Каширське ЛГ”, Нуйнівське л-во, кв.19, вид.10,22,23 | G121: ДП „Камінь-Каширське ЛГ” | H121: Рішення облвиконкому від 30.12.80 № 493
A122: 3 | B122: „Карасинський” | C122: заказник | D122: ботанічний | E122: 15 | F122: Камінь-Каширський р-н, ДП „Камінь-Каширське ЛГ”, Карпилівське л-во, кв.44, вид.9 | G122: ДП „Камінь-Каширське ЛГ” | H122: Рішення облвиконкому від 30.12.80 № 493
A123: 4 | B123: „Верхівський” | C123: заказник | D123: ботанічний | E123: 8.7 | F123: Камінь-Каширський р-н, ДП „Камінь-Каширське ЛГ”, Карпилівське л-во, кв.30, вид.13,14 | G123: ДП „Камінь-Каширське ЛГ” | H123: Рішення облвиконкому від 30.12.80 № 493
A124: 5 | B124: „Мочуринський” | C124: заказник | D124: ботанічний | E124: 5.1 | F124: Камінь-Каширський р-н, ДП „Камінь-Каширське ЛГ”, Нуйнівське л-во, кв.5, вид.14 | G124: ДП „Камінь-Каширське ЛГ” | H124: Рішення облвиконкому від 30.12.80 № 493
A125: 6 | B125: „Нуйнівський” | C125: заказник | D125: ботанічний | E125: 6.7 | F125: Камінь-Каширський р-н, ДП „Камінь-Каширське ЛГ”, Нуйнівське л-во, кв.13, вид.1,15 | G125: ДП „Камінь-Каширське ЛГ” | H125: Рішення облвиконкому від 30.12.80 № 493
A126: 7 | B126: „Залазький” | C126: заказник | D126: ботанічний | E126: 35.5 | F126: Камінь-Каширський р-н, ДП „Камінь-Каширське ЛГ”, Видертське л-во, кв.32, вид.7 | G126: ДП „Камінь-Каширське ЛГ” | H126: Рішення облвиконкому від 30.12.80 № 493
A127: 8 | B127: „Поступельський журавдинник” | C127: заказник | D127: ботанічний | E127: 8.6 | F127: Камінь-Каширський р-н, ДП „Ратнівське ЛМГ” | G127: ДП „Ратнівське ЛМГ” | H127: Рішення облради від 17.03.94 № 17/19
A128: 9 | B128: „Лісова алея” | C128: заказник | D128: ботанічний | E128: 110.4 | F128: Ківерцівський р-н, ДП «Цуманське ЛГ», Мощаницьке л-во | G128: ДП «Цуманське ЛГ» | H128: Розпорядження облради від 3.03.93 № 18-р
A129: 10 | B129: „”Задибський” | C129: заказник | D129: ботанічний | E129: 309 | F129: Ковельський р-н, ДП «Ковельське ЛГ», Ковельське л-во, кв.22,24,30 | G129: ДП «Ковельське ЛГ» | H129: Рішення облвиконкому від 31.10.91 № 226
A130: 11 | B130: „Лісова дача” | C130: заказник | D130: ботанічний | E130: 21.2 | F130: Ковельський р-н, ДП «Ковельське ЛГ», Скулинське л-во, кв.65, вид.17,19,32,35 | G130: ДП «Ковельське ЛГ» | H130: Розпорядження облради від 3.03.93 № 18-р
A131: 12 | B131: „Мосирський” | C131: заказник | D131: ботанічний | E131: 307 | F131: Любомльський р-н, ДП «Любомльське ЛГ», Мозирське л-во, 42,48,60 | G131: ДП «Любомльське ЛГ» | H131: Рішення облради від7.03.2001 № 16/11
... A145: 26 | B145: „Дубовий закіт” | C145: заказник | D145: ботанічний | E145: 25.9 | F145: Рожищенський р-н, с. Кобче | G145: Сокольська сільська рада | H145: Рішення облвиконкому від 31.10.91 № 226
...

Sheet Дніпропетровська обл.
A1: Дніпропетровська область
A2: Перелік територій та об`єктів природно-заповідного фонду загальнодержавного та місцевого значення
A4: № з.п. | B4: Назва території чи об’єкта ПЗФ | C4: Категорія | D4: Тип | E4: Площа, га | F4: Місце розташування території чи об`єкту ПЗФ | G4: Назва установи, підпрємства, організації, землекористувача (землевласника), у віданні якого знаходиться територія чи об’єкт ПЗФ | H4: Рішення, згідно з яким створено (змінено) дану територію чи об’єкт ПЗФ
A8: 1 | B8: 2 | C8: 3 | D8: 4 | E8: 5 | F8: 6 | G8: 7 | H8: 8
A9: Території та об`єкти ПЗФ загальнодержавного значення
A10: 1 | B10: Дніпровсько-Орільський | C10: Природний заповідник | E10: 3766.2 | F10: Дніпропетровський та Петриківський райони, Орільське лісництво | G10: Дніпровсько-Орільський природний заповідник Дніпропетровське обласне управління лісового та мисливського господарства | H10: Постанова РМ УРСР 15.09.1990 № 262
B11: Всього природних заповідників | C11: 1 | E11: =SUM(E10) -> 3766.2
A12: 1. | B12: Приорільський | C12: заказник | D12: ландшафтний | E12: 8377 | F12: Між селами Орілька, Багате та Перещепине Новомосковського району та між селами Личкове,Бузівка, Ковпаківка, Котовка, Степанівка, Заплавка, Гупалівка Магдалинівського району | G12: Магдалинівська, Новомосковська райдержадміністрації, Новомосковський держлісгосп | H12: Указ Президента України 09.12.1998 № 1341/98
A13: 2 | B13: Богданівський | C13: заказник | D13: ландшафтний | E13: 1387 | F13: Нікопольський район | G13: ВАТ «ОГЗК» Марганецький держлісгосп | H13: Указ Президента України 09.12.1998 № 1341/98
A14: 3 | B14: Балка Північна Червона | C14: заказник | D14: ландшафтний | E14: 28 | F14: Північно-західна околиця м. Кривий Ріг | G14: Управління містобудування і архітектури виконкому Криворізької міськради | H14: Постанова РМ УРСР 12.12.1983 №495
A15: 4 | B15: Кільченський | C15: заказник | D15: ландшафтний | E15: 100 | F15: м. Підгородне Дніпропетровського району | G15: Дніпропетровська райдержадміністрація | H15: Постанова РМ УРСР 28.10.1974 №500
A16: 5 | B16: Комарівщина | C16: заказник | D16: ландшафтний | E16: 288 | F16: Відрадне лісництво кв.38,39,45,46,47 | G16: Новомосковський держлісгосп | H16: Постанова РМ УРСР 12.12.1983 №495
A17: 6 | B17: Солоний лиман | C17: заказник | D17: ландшафтний | E17: 341 | F17: Між с. Новотроїцьке, Знаменівка Новомосковського району | G17: Новомосковська райдержадміністрація | H17: Постанова РМ УРСР 25.02.1980 №132
A18: 7 | B18: Інгулецький степ | C18: заказник | D18: ландшафтний | E18: 65.6 | F18: с. Недайвода Криворізького району | G18: Криворізька райдержадміністрація | H18: Указ Президента України від 21.02.2002 №167/2002
A19: 8 | B19: Бакаї | C19: заказник | D19: ландшафтний | E19: 690 | F19: смт. Васильківка, с. Вовчанське Васильківського району | G19: Васильківська райдержадміністрація | H19: Указ Президента України від 12.09.2005 № 1238/2005
A20: 9 | B20: Преображенський | C20: заказник | D20: ландшафтний | E20: 312.6 | F20: с. Богданівка, селище Правда, с. Преображенське Васильківського району | G20: Васильківський держлісгосп, Васильківська райдержадміністрація | H20: Указ Президента України від 12.09.2005 № 1238/2005
A21: 10 | B21: Дебальцевські лимани | C21: заказник | D21: ландшафтний | E21: 429.3 | F21: с. Дебальцеве, с. Перевальське Васильківського району | G21: Васильківська райдержадміністрація | H21: Указ Президента України від 12.09.2005 № 1238/2005
A22: 11 | B22: Вишневський | C22: заказник | D22: ландшафтний | E22: 615 | F22: с. Семенівка, с. Барвінок Криничанського району | G22: Криничанська райдержадміністрація | H22: Указ Президента України від 12.09.2005 № 1238/2005
A23: 12 | B23: Мар’їн гай | C23: заказник | D23: ландшафтний | E23: 2803 | F23: с. Дмитрівка, с. Бажани, с. Миколаївка, с. Катеринівка Петропавлівського району | G23: Павлоградський держлісгосп, Петропавлівська райдержадміністрація | H23: Указ Президента України від 12.09.2005 № 1238/2005
A24: 13 | B24: Петропавлівські лимани | C24: заказник | D24: ландшафтний | E24: 4193 | F24: с. Коханівка, с. Брагинівка, с. Самарське, смт. Петропавлівка, с. Петрівка, с. Миколаївка Петропавлівського району | G24: Павлоградський держлісгосп, Петропавлівська райдержадміністрація | H24: Указ Президента України від 12.09.2005 № 1238/2005
A25: 14 | B25: Кам’янський прибережно-річковий комплекс | C25: заказник | D25: ландшафтний | E25: 2615 | F25: Михайлівка, Кам’янка, Токівське, Ленінське Апостолівського району | G25: Апостолівська райдержадміністрація | H25: Указ Президента України від 25.11.2008 № 1078/2008
B26: Разом заказників ландшафтних | C26: 14 | E26: =SUM(E12:E25) -> 22244.5
A27: 1 | B27: Урочище Яцево | C27: заказник | D27: лісовий | E27: 175 | F27: с. Любимівка Дніпропетровського району, Любимівське лісництво кв.18-20 | G27: Дніпропетровський держлісгосп | H27: Постанова РМ УРСР 19.04.1977 №198
A28: 2 | B28: Велика Западня | C28: заказник | D28: лісовий | E28: 157 | F28: с. Зарічне, Верхньодніпровського району Верхньодніпровське лісництво кв.3,4 | G28: Верхньодніпровський держлісгосп | H28: Постанова РМ УРСР 28.10.1974 №500
A29: 3 | B29: Грушеватський | C29: заказник | D29: лісовий | E29: 598 | F29: с. Іванівка П’ятихатського району П’ятихатське лісництво кв.58-90 | G29: Верхньодніпровський держлісгосп | H29: Постанова РМ УРСР 28.10.1974 №500
A30: 4 | B30: Комісарівський | C30: заказник | D30: лісовий | E30: 947 | F30: с. Новоукраїнка П’ятихатського району П’ятихатське лісництво кв.9-46 | G30: Верхньодніпровський держлісгосп | H30: Постанова РМ УРСР 28.10.1974 №500
A31: 5 | B31: Дібрівський | C31: заказник | D31: лісовий | E31: 1079 | F31: с. Великомихайлівка, Покровського району Великомихайлівське лісництво кв.1-24,26-29,31-39 | G31: Васильківський держлісгосп | H31: Постанова РМ УРСР 28.10.1974 №500
B32: Разом заказників лісових | C32: 5 | E32: =SUM(E27:E31) -> 2956
A33: 1 | B33: Грабівський | C33: заказник | D33: ботанічний | E33: 207 | F33: с. Біленщина, П’ятихатського району Мишурінорізьке лісництво кв.45-47 | G33: Верхньодніпровський держлісгосп | H33: Постанова РМ УРСР 28.10.1974 №500
A34: 2 | B34: Балка Бандурка | C34: заказник | D34: ботанічний | E34: 125 | F34: с. Євецько-Миколаївка, Новомосковського району Новомосковський військлісгосп кв.47,48 | G34: Новомосковський військлісгосп | H34: Постанова РМ УРСР 28.10.1974 №500
B35: Разом заказників ботанічних | C35: 2 | E35: =SUM(E33:E34) -> 332
A36: 1 | B36: Булахівський лиман | C36: заказник | D36: орнітологічний | E36: 100 | F36: с. Булахівка Павлоградського району | G36: Павлоградська райдержадміністрація | H36: Постанова РМ УРСР 19.04.1977 №198
A37: 2 | B37: Волошанська дача | C37: заказник | D37: орнітологічний | E37: 648 | F37: с. Преображенка Юр’ївського району, Юр’ївська виробнича ділянка кв.1-12 | G37: Павлоградський держлісгосп | H37: Постанова РМ УРСР 28.10.1974 №500
B38: Разом заказників орнітологічний | C38: 2 | E38: =SUM(E36:E37) -> 748
B39: Всього заказників загальнодержавного значення | C39: =C38+C35+C32+C26 -> 23 | E39: =E38+E35+E32+E26 -> 26280.5
A40: 1 | B40: Урочище «Лелія» | C40: пам`ятка природи | D40: комплексна | E40: 30 | F40: Біля с. Турово Царичанського району | G40: Царичанська райдержадміністрація | H40: Розпорядження РМ УРСР 14.10.1975 №780-Р
B41: Разом пам`яток природи комплексних | C41: 1 | E41: =SUM(E40) -> 30
A42: 1 | B42: Урочище Паськове | C42: пам`ятка природи | D42: ботанічна | E42: 56 | F42: В 4 км південніше с. Івашкове Верхньодніпровського району Бородаївське лісництво, кв.47 | G42: Верхньодніпровський держлісгосп | H42: Розпорядження РМ УРСР 14.10.1975 №780-Р
B43: Разом пам`яток природи ботанічних | C43: 1 | E43: =SUM(E42) -> 56
A44: 1 | B44: Скелі Мопра | C44: пам`ятка природи | D44: геологічна | E44: 62 | F44: м. Кривий Ріг | G44: Управління містобудування і архітектури виконкому Криворізької міськради | H44: Розпорядження РМ УРСР 14.10.1975 №780-Р
B45: Разом пам`яток природи геологічних | C45: 1 | E45: =SUM(E44) -> 62
B46: Всього пам`яток природи загальнодержавного значення | C46: =C45+C43+C41 -> 3 | E46: =E45+E43+E41 -> 148
A47: 1 | B47: Ботанічний сад Дніпропетровськ-кого національного університету | C47: ботанічний сад | E47: 33 | F47: м. Дніпропетровськ, пр. Гагаріна, 72 | G47: Дніпропетровський ботанічний сад Дніпропетровського національного університету Міносвіти України | H47: Постанова Держкомприроди УРСР 26.07.72 №22 /зміни Указ Президента України від 20.08.1996 №715/96
A48: 2 | B48: Криворізький ботанічний сад НАН України | C48: ботанічний сад | E48: 75 | F48: м. Кривий Ріг, Тернівський район | G48: Криворізький ботанічний сад НАН України | H48: Постанова Президії Академії наук України 20.05. 1992 №144
B49: Всього ботанічних садів загальнодержавного значення | C49: 2 | E49: =SUM(E47:E48) -> 108
A50: 1. | B50: Парк ім.Шевченка | C50: парк-пам`ятка садово-паркового мистецтва | E50: 45 | F50: м. Дніпропетровськ пл.ім. Шевченка, 1 | G50: Управління культури та мистецтв Дніпропетровської міськради | H50: Постанова РМ УРСР 26.07.1972. №22
B51: Всього парки-пам`ятки загальнодержавного значення загальнодержавного значення | C51: 1 | E51: =SUM(E50:E50) -> 45
B52: Всього територій та об`єктів ПЗФ загальнодержавного значення | C52: =C51+C49+C39+C11+C46 -> 30 | E52: =E51+E49+E39+E11+E46 -> 30347.7
A53: Території та об`єкти місцевого значення
A54: 1 | B54: «Придніпровський» | C54: регіональний ландшафтний парк | E54: 4917.9 | F54: Солонянського району Микільське лісництво | G54: Дніпропетровський держлісгосп Солонянська райдержадміністрація | H54: Рішення обласної ради від 25.09.2008 № 443-16/V
A55: 2 | B55: «Дніпровські ліси» | C55: регіональний ландшафтний парк | E55: 4437.465 | F55: смт. Кіровське, с. Балівка Дніпропетровського району, м. Дніпропетровськ Кіровське лісництво | G55: Дніпропетровський держлісгосп; Дніпропетровська райдержадміністрація; Дніпропетровська міська рада | H55: Рішення обласної ради від 22.09.2010 №783-27/V
A56: 3 | B56: «Самарські плавні» | C56: регіональний ландшафтний парк | E56: 2800.7 | F56: біля с. Орлівщина Новомосковського району | G56: Новомосковська районна державна адміністрація | H56: Рішення обласної ради від 03.02.2012 №247-11/VI
B57: Всього регіональних ландшафтних парків | C57: 3 | E57: =SUM(E54:E56) -> 12156.065
A58: 1 | B58: Балка Північна Червона | C58: заказник | D58: ландшафтний | E58: 26 | F58: Північно-західна околиця м. Кривого Рогу | G58: Управління містобудування і архітектури виконкому Криворізької міськради | H58: Рішення облвиконкому від 09.06.1988 №231
A59: 2 | B59: Балка Кирпична | C59: заказник | D59: ландшафтний | E59: 2.5 | F59: с. Новоолександрівка Дніпропетровського району | G59: Дніпропетровське заводоуправління будматеріалів | H59: Розпорядження облдержадміністрації 28.09.1992 №473
A60: 3 | B60: Старовишневець-кий | C60: заказник | D60: ландшафтний | E60: 113.4 | F60: с. Старовишневецьке Синельниківського району | G60: Синельниківська райдержадміністрація | H60: Рішення облвиконкому 07.12.1985 №703, /зміни Розпорядженням 19.12.1995 №50-Р/
A61: 4 | B61: Отченашкові наділи | C61: заказник | D61: ландшафтний | E61: 400 | F61: м. Підгородне Дніпропетровського району | G61: Дніпропетровська райдержадміністрація | H61: Розпорядження облдержадміністрації 19.12.1995 №50-Р
A62: 5 | B62: Вершина | C62: заказник | D62: ландшафтний | E62: 48.4 | F62: Біля хутора Вершина та смт. Просяна Покровського району | G62: ВАТ “Просянський гірничо-збагачувальний комбінат” | H62: Рішення обласної ради 16.10.1998 №70-3/XXIII
A63: 6 | B63: Візирка | C63: заказник | D63: ландшафтний | E63: 121 | F63: На північній околиці м. Інгулець | G63: ВАТ “ІнГЗК” | H63: Рішення облради від 28.12.2001 № 502-19/XXIII
A64: 7 | B64: Урочище Хорошево | C64: заказник | D64: ландшафтний | E64: 15 | F64: Біля с. Хорошеве Синельниківського району | G64: ФГ «ВЕК» | H64: Рішення облради від 28.12.2001 № 502-19/XXIII
A65: 8 | B65: Тернівський | C65: заказник | D65: ландшафтний | E65: 2156.4 | F65: с. Нова Дача, Нова Русь, Зелене, Поперечне Павлоградського району | G65: Павлоградська райдержадміністрація | H65: Рішення обласної ради від 25.09.2008 № 442-16/У
A66: 9 | B66: Балка Городище | C66: заказник | D66: ландшафтний | E66: 1053.58 | F66: с. Привовчанське та Троїцьке Павлоградського району | G66: Павлоградська райдержадміністрація | H66: Рішення обласної ради від 27.11.2008 № 482-17/V
A67: 10 | B67: Урочище Могила Баба | C67: заказник | D67: ландшафтний | E67: 625.7 | F67: с. Межиріч та Булахівка Павлоградського району | G67: Павлоградська райдержадміністрація | H67: Рішення обласної ради від 29.01.2009 № 521-18/V
A68: 11 | B68: Річка Соломчина | C68: заказник | D68: ландшафтний | E68: 385.09 | F68: Між селами Рубанівське, Аврамівка та Червона Долина Васильківського району | G68: Васильківська райдержадміністрація | H68: Рішення обласної ради від 18.12.2009 №657-22/V
A69: 12 | B69: Гришаї | C69: заказник | D69: ландшафтний | E69: 134.24 | F69: Між селами Лиса Балка, Гришаї та Дубовики Васильківського району | G69: - | H69: Рішення обласної ради від 18.12.2009 №657-22/V
... A92: 35 | B92: Мар’яно-Кулебівський | C92: заказник | D92: ландшафтний | E92: 1456 | F92: с. Мар’янівка, Новомосковського району | G92: Новомосковська райдержадміністрація | H92: Рішення Дніпропетровської облради від 03.02.2012 №247-11/VI
A93: 36 | B93: "Мости" | C93: заказник | D93: ландшафтний | E93: 2330.9 | H93: Рішення Дніпропетровської облради від 21.06.2013 №440-19/VI
A94: 37 | B94: "Домотканські валуни" | C94: заказник | D94: ландшафтний | E94: 826.7 | H94: Рішення Дніпропетровської облради від 21.06.2013 №440-19/VI
A95: 38 | B95: "Верхньочаплинський" | C95: заказник | D95: ландшафтний | E95: 232.5 | H95: Рішення Дніпропетровської облради від 21.06.2013 №440-19/VI
A96: 39 | B96: "Середньочаплинський" | C96: заказник | D96: ландшафтний | E96: 107.6 | H96: Рішення Дніпропетровської облради від 21.06.2013 №440-19/VI
A97: 40 | B97: "Заплавка" | C97: заказник | D97: ландшафтний | E97: 448.4 | H97: Рішення Дніпропетровської облради від 21.06.2013 №440-19/VI
A98: 41 | B98: "Верхньокільченський" | C98: заказник | D98: ландшафтний | E98: 909.6 | H98: Рішення Дніпропетровської облради від 21.06.2013 №440-19/VI
A99: 42 | B99: "Річка Багатенька" | C99: заказник | D99: ландшафтний | E99: 1653.4 | H99: Рішення Дніпропетровської облради від 21.06.2013 №440-19/VI
A100: 43 | B100: "Річка Кільченька" | C100: заказник | D100: ландшафтний | E100: 499.36 | H100: Рішення Дніпропетровської облради від 21.06.2013 №440-19/VI
A101: 44 | B101: "Долина річки Бик" | C101: заказник | D101: ландшафтний | E101: 2758.3 | H101: Рішення Дніпропетровської облради від 21.06.2013 №440-19/VI
A102: 45 | B102: "Балка Свідовок" | C102: заказник | D102: ландшафтний | E102: 793.1 | H102: Рішення Дніпропетровської облради від 21.06.2013 №440-19/VI
A103: 46 | B103: "Сухарева балка" | C103: заказник | D103: ландшафтний | E103: 617.4 | H103: Рішення Дніпропетровської облради від 30.08.2013 №465-20/VI
A104: 47 | B104: "Рекалівський" | C104: заказник | D104: ландшафтний | E104: 631 | H104: Рішення Дніпропетровської облради від 21.06.2013 №440-19/VI
B105: Разом заказників ландшафтних | C105: 47 | E105: =SUM(E58:E104) -> 37520.04
A106: 1 | B106: Балка Парна | C106: заказник | D106: лісовий | E106: 361 | F106: с. Бородаївка Верхньодніпровського району, Бородаївське лісництво кв.21-23,46,50 | G106: Верхньодніпровський держлісгосп | H106: Рішення облвиконкому 17.12.1990 №469
A107: 2 | B107: Андріївський ліс | C107: заказник | D107: лісовий | E107: 10 | F107: с. Андріївка Покровського району | G107: Васильківський держлісгосп | H107: Рішення облвиконкому 17.12.1990 №469
A108: 3 | B108: Новопавлівський ліс | C108: заказник | D108: лісовий | E108: 650 | F108: с. Новопавлівка Межівського району | G108: Васильківський держлісгосп | H108: Рішення облвиконкому 17.12.1990 №469
B109: Разом заказників лісових | C109: 3 | E109: =SUM(E106:E108) -> 1021
A110: 1 | B110: Балка Сад | C110: заказник | D110: ботанічний | E110: 38.6 | F110: с. Воскресенівка Васильківського району | G110: Васильківська райдержадміністрація | H110: Рішення облвиконкому 17.12.1990 №469
A111: 2 | B111: Урочище Балка Дурна | C111: заказник | D111: ботанічний | E111: 136 | F111: с. Івашкове Верхньодніпровського району, Верхньодніпровське лісництво, кв.18,19 | G111: Верхньодніпровський держлісгосп | H111: Рішення облвиконкому 21.07.1977 №473
A112: 3 | B112: Урочище Балка Глибока | C112: заказник | D112: ботанічний | E112: 150 | F112: Верхньодніпровське лісництво кв.10,11 | G112: Верхньодніпровський держлісгосп | H112: Рішення облвиконкому 21.07.1977 №473
A113: 4 | B113: Урочище Балка Яранська | C113: заказник | D113: ботанічний | E113: 4.2 | F113: с. Миколаївка П’ятихатського району, Мишуринорізьке лісництво кв.28,діл.4 | G113: Верхньодніпровський держлісгосп | H113: Рішення облвиконкому 21.07.1977 №473
A114: 5 | B114: Балка Павлівська | C114: заказник | D114: ботанічний | E114: 28 | F114: с. Василівка Дніпропетровського району | G114: Навчально-дослідне господарство “Самарський” | H114: Рішення облвиконкому 09.10.1979 №568
A115: 6 | B115: Балка Орлова | C115: заказник | D115: ботанічний | E115: 9.4 | F115: с. Василівка Дніпропетровського району | G115: Навчально-дослідне господарство “Самарський” | H115: Рішення облвиконкому 09.10.1979 №568
A116: 7 | B116: Балка Липова | C116: заказник | D116: ботанічний | E116: 3.1 | F116: с. Василівка Дніпропетровського району | G116: Навчально-дослідне господарство “Самарський” | H116: Рішення облвиконкому 22.06.1972 №391
A117: 8 | B117: Балка Осипова | C117: заказник | D117: ботанічний | E117: 14.4 | F117: с. Василівка Дніпропетровського району | G117: Навчально-дослідне господарство “Самарський” | H117: Рішення облвиконкому 22.06.1972 №391
A118: 9 | B118: Балка Бубликова | C118: заказник | D118: ботанічний | E118: 11.3 | F118: с. Василівка Дніпропетровського району | G118: Навчально-дослідне господарство “Самарський” | H118: Рішення облвиконкому 09.10.1979 №568
A119: 10 | B119: Балка Водяна | C119: заказник | D119: ботанічний | E119: 5 | F119: с. Преображенка Юр'ївського району | G119: Юр’ївська райдержадміністрація | H119: Рішення облвиконкому 09.10.1979 №568
A120: 11 | B120: Урочище Балка Климова | C120: заказник | D120: ботанічний | E120: 272 | F120: Бородаївське лісництво кв.4-8 | G120: Верхньодніпровський держлісгосп | H120: Рішення облвиконкому 21.07.1977 №№473 /зміни розпорядження 19.12.1995 №50-Р/
A121: 12 | B121: Урочище Балка Гостра | C121: заказник | D121: ботанічний | E121: 175 | F121: с. Суслівка Верхньодніпровського району, Бородаївське лісництво кв.2,3 | G121: Верхньодніпровський держлісгосп | H121: Рішення облвиконкому 21.07.1977 №473
A122: 13 | B122: Балка Ягідна | C122: заказник | D122: ботанічний | E122: 32 | F122: с. Ягідне Новомосковського району | G122: Новомосковська райдержадміністрація | H122: Рішення облвиконкому 09.10.1979 №568 /зміни розпорядження 19.12.1995 №50-Р
A123: 14 | B123: "Житлова балка" | C123: заказник | D123: ботанічний | E123: 397 | H123: Рішення Дніпропетровської облради від 21.06.2013 №440-19/VI
A124: 15 | B124: "Верхньобазавлуцький" | C124: заказник | D124: ботанічний | E124: 786 | H124: Рішення Дніпропетровської облради від 21.06.2013 №440-19/VI
A125: 16 | B125: "Витоки річки Базавлук" | C125: заказник | D125: ботанічний | E125: 671 | H125: Рішення Дніпропетровської облради від 21.06.2013 №440-19/VI
A126: 17 | B126: "Середньобазавлуцький" | C126: заказник | D126: ботанічний | E126: 1413 | H126: Рішення Дніпропетровської облради від 27.12.2013 №512-23/VI
...

Sheet Донецька обл.
A1: Донецька область
A2: Перелік територій та об`єктів природно-заповідного фонду загальнодержавного та місцевого значення
A4: № з.п. | B4: Назва території чи об’єкта ПЗФ | C4: Категорія | D4: Тип | E4: Площа, га | F4: Місце розташування території чи об`єкту ПЗФ | G4: Назва установи, підпрємства, організації, землекористувача (землевласника), у віданні якого знаходиться територія чи об’єкт ПЗФ | H4: Рішення, згідно з яким створено (змінено) дану територію чи об’єкт ПЗФ
A8: 1 | B8: 2 | C8: 3 | D8: 4 | E8: 5 | F8: 6 | G8: 7 | H8: 8
A9: Території та об`єкти ПЗФ загальнодержавного значення
A10: 1 | B10: Український степовий | C10: природний заповідник | E10: 3033.2 | F10: Новоазовський р-н, с. Хомутове | H10: Постанова РМ УРСР №1118 від 22.07.61
A11: в т.ч. відділення:
B12: Хомутовський степ | C12: природний заповідник | E12: 1030.4 | F12: Новоазовський р-н, с. Хомутове | G12: Український степовий природний заповідник | H12: Постанова Маріупольського Окрвиконкому від 24.08.26 Постанова РМ УРСР №1118 від 22.07.61
B13: Кам’яні Могили | C13: природний заповідник | E13: 289.2 | F13: Володарський р-н, | G13: Український степовий природний заповідник | H13: Постанова Президії Маріупольського Окрвиконкому від 05.04.27, постанова РМ УРСР №1118 від 22.07.61
B14: Крейдяна флора | C14: природний заповідник | E14: 1134 | F14: Новокраснівська сільска рада, біля с. Назарівка Слов’янський р-н, біля с. Піскунівка, Краснолиманський р-н , біля с. Закітне та с. Крива Лука Слов’янський (634,0 га) та Краснолиманський р-ни (500,0 га) | G14: Український степовий природний заповідник | H14: Розпорядження РМ УРСР №310 - Р від 14.07.88
B15: Кальміуське | C15: природний заповідник | E15: 579.6 | F15: Тельманівський р-н, с.Стара Ласпа | G15: Український степовий природний заповідник | H15: Указ Президента України від 19.08.08 №723/2008
B16: Всього природних заповідників | C16: 1 | E16: =SUM(E10) -> 3033.2
A17: 1 | B17: Святі Гори | C17: національний природний парк | E17: 40605.5 | F17: Слов’янський та Краснолиманський р-ни, м. Слов’яногірськ | G17: Слов’янський р-н, ДП "Слов'янське лісове господарство", Долинська сільська рада Краснолиманський р-н, Краснолиманська міська рада, Криволуцька сільська рада, м. Святогірськ | H17: Указ Президента України №135/97 від 13.02.97,
A18: 2 | B18: Меотида | C18: національний природний парк | E18: 20720.953 | F18: Володарський, Новоазовський та Першотравневий райони | G18: ДП «Приазовське лісове господарство», Володарська райдержадміністрація, риболовецьке колективне господарство «Прибой», Новоазовська райдержадміністрація | H18: Указ Президента України № 1099/2009 від 25.12.09
B19: Всього національних природних парків | C19: 2 | E19: =SUM(E17:E18) -> 61326.453
A20: 1 | B20: Бердянський | C20: заказник | D20: лісовий | E20: 413 | F20: Амвросіївський р-н, ДП «Амвросіївське лісове господарство», Благодатнівське л-во, кв. 10-14; Степано-Кринське л-во, кв.31-35 | G20: ДП «Амвросіївське лісове господарство» | H20: Постанова РМ УРСР №500 від 28.10.74
A21: 2 | B21: Великоанодольський | C21: заказник | D21: лісовий | E21: 2543 | F21: Волноваський р-н,ДП «Великоанодольське лісове господарство», Великоанодольське л-во, кв. 1-90 | G21: ДП «Великоанодольське лісове господарство» | H21: Постанова РМ УРСР №500 від 28.10.74
B22: Разом заказників лісових | C22: 2 | E22: =SUM(E20:E21) -> 2956
A23: 1 | B23: Білосарайська коса | C23: заказник | D23: ландшафтний | E23: 616 | F23: Першотравневий р-н, ДП «Приазовське лісове господарство», Стародубівське л-во, кв. 51-58, акваторія Азовського моря –200,0 га | G23: ДП «Приазовське лісове господарство» | H23: Постанова РМ УРСР №132 від 25.02.80
B24: Разом заказників ландшафтних | C24: 1 | E24: =SUM(E23) -> 616
A25: 1 | B25: Роздольненський | C25: заказник | D25: геологічний | E25: 100 | F25: Старобешівський р-н, с. Роздольне | G25: Роздольненська сільська рада | H25: Постанова РМ УРСР №500 від 28.10.74
B26: Разом заказників геологічних | C26: 1 | E26: =SUM(E25) -> 100
A27: 1 | B27: «Приазовський чапельник» | C27: заказник | D27: орнітологічний | E27: 100 | F27: Першотравневий р-н, смт. Ялта, | G27: Першотравнева районна рада | H27: Указ Президента України №1207/2000 від 04.11.2000
A28: 2 | B28: «Єланчанські бакаї» | C28: заказник | D28: орнітологічний | E28: 289 | F28: Новоазовський р-н, с. Самсонове | G28: ДП «Тельманівське лісове господарство», АЦ № 27 ДП «Ілліч-Агро Донбас» | H28: Указ Президента України №167/2002 від 21.02.2002
A29: 3 | B29: «Бакаї Кривої коси» | C29: заказник | D29: орнітологічний | E29: 567.6 | F29: Новоазовський р-н, смт Сєдове | G29: ДП «Тельманівське лісове господарство», Седовська селищна.рада | H29: Указ Президента України №167/2002 від 21.02.2002
B30: Разом заказників орнітологічних | C30: 3 | E30: =SUM(E27:E29) -> 956.6
B31: Всього заказників загальнодержавного значення | C31: =C26+C24+C22+C30 -> 7 | E31: =E26+E24+E22+E30 -> 4628.6
A32: 1 | B32: Дружківські закам’янілі дерева | C32: пам`ятка природи | D32: Геологічна | E32: 1 | F32: Костянтинівський р-н, смт Олексієво-Дружківка | G32: Кондратівська сільська рада | H32: Розпорядження РМ УРСР №780 - р від 14.10.75
A33: 2 | B33: Клебан - Бицьке відслонення | C33: пам`ятка природи | D33: Геологічна | E33: 60 | F33: Костянтинівський р-н, лівий берег Клебан-Бикського водосховища | G33: Іллічівська сільська рада | H33: Розпорядження РМ УРСР №780 - р від 14.10.75
A34: 3 | B34: Балка Кровецька | C34: пам`ятка природи | D34: Геологічна | E34: 15 | F34: Костянтинівський р-н, східна околиця с. Іванопілля | G34: Іванопільська сільська рада | H34: Розпорядження РМ УРСР 780 - р від №14.10.75
A35: 4 | B35: Новокатеринівське відслонення | C35: пам`ятка природи | D35: Геологічна | E35: 10 | F35: Старобешівський р-н,с. Новокатеринівка | G35: Осиківська сільська рада | H35: Розпорядження РМ УРСР №780 - р від 14.10.75
A36: 5 | B36: Стильське відслонення | C36: пам`ятка природи | D36: Геологічна | E36: 25 | F36: Старобешівський р-н, с. Стила, берег Стильського водосховища | G36: Стильська сільська рада | H36: Розпорядження РМ УРСР №780 - р від 14.10.75
B37: Разом пам`яток природи геологічних | C37: 5 | E37: =SUM(E32:E36) -> 111
A38: 1 | B38: Балка Гірка | C38: пам`ятка природи | D38: Ботанічна | E38: 4 | F38: Амвросіївський р-н, ДП «Амвросіївське лісове господарство» Амвросіївське л-во, кв. 22, в. 8 | G38: ДП «Амвросіївське лісове господарство» | H38: Розпорядження РМ УРСР №780 - р від 14.10.75
A39: 2 | B39: Маяцька дача | C39: пам`ятка природи | D39: Ботанічна | E39: 18 | F39: Слов’янський р-н, ДП «Слов’янське лісове господарство», Маяцьке л-во, кв. 114 | G39: ДП «Слов’янське лісове господарство» | H39: Розпорядження РМ УРСР №780 - р від 14.10.75
A40: 3 | B40: Урочище Грабове | C40: пам`ятка природи | D40: Ботанічна | E40: 41 | F40: Шахтарський р-н, , ДП «Торезьке лісове господарство», Торезьке л-во, кв. 1 | G40: ДП «Торезьке лісове господарство» | H40: Рішення виконкому обласної ради № 310 від 21. 06. 72 та Розпорядженн Р М УРСР №780 - р від 14.10.75
B41: Разом пам`яток природи ботанічнх | C41: 3 | E41: =SUM(E38:E40) -> 63
A42: 1 | B42: Озеро Ріпне | C42: пам`ятка природи | D42: Гідрологічна | E42: 32 | F42: м. Слов’янськ | G42: ЗАТ лікувально-оздоровчих закладів профспілок України «Укрпрофоздоровниця», дочірнє підприємство «Слов`янська гідрологічна режимно-експлуатаційна станція” | H42: Розпорядження РМ УРСР №780 - р від 14.10.75
A43: 2 | B43: Озеро Сліпне | C43: пам`ятка природи | D43: Гідрологічна | E43: 30 | F43: м. Слов’янськ | G43: ЗАТ лікувально-оздоровчих закладів профспілок України «Укрпрофоздоровниця», дочірнє підприємство «Слов`янська гідрологічна режимно-експлуатаційна станція” | H43: Розпорядження РМ УРСР №780 - р від 14.10.75
B44: Разом пам`яток природи гідрологічних | C44: 2 | E44: =SUM(E42:E43) -> 62
B45: Всього пам`яток природи загальнодержавного значення | C45: =C44+C41+C37 -> 10 | E45: =E44+E41+E37 -> 236
A46: 1. | B46: Донецький ботанічний сад | C46: ботанічний сад | E46: 203 | F46: На північному сході м. Донецька | G46: Донецький ботанічний сад НАН України | H46: Постанова РМ та ЦК КП Української РСР № 805 від 28.07.64, Постанова РМ УРСР №311 від 22.07.83, Указ Президента України № 1392/2004 від 10.11.2004
B47: Всього ботанічних садів загальнодержавного значення | C47: 1 | E47: =SUM(E46) -> 203
B48: Вссього територій та об`єктів ПЗФ загальнодержавного значення | C48: =C47+C45+C31+C19+C16 -> 21 | E48: =E47+E45+E31+E19+E16 -> 69427.253
A49: Території та об`єкти місцевого значення
A50: 1 | B50: Меотида | C50: регіональний ландшафтний парк | E50: 14351.9 | F50: Новоазовський р-н (5078,2 га), Першотравневий р-н (8168,7 га), Володарський р-н (1105,0 га) та вузька смуга узбережжя Азовського моря | G50: АЦ №22 ДП «Ілліч-Агро Донбас» Зеленоярської сільської ради, АЦ №20 ДП «Ілліча-Агро Донбас» Старченківської сільської ради, Саханська Сільська рада, Безіменська сільська рада, Розовська сільська рада, Сєдовська сільська рада, Новоазовська міська рада, Стародубівська сільська рада, Урзуфська сільська рада, Ялтинська сільська рада, Мелекинська сільська рада, Іллічівська сільська рада. | H50: рішення обласної ради від 30.06.2000 №23/14-304 та від 20.07.2004 №4/17-474
A51: 2 | B51: Донецький кряж | C51: регіональний ландшафтний парк | E51: 7463.52 | F51: Шахтарський р-н (біля с. Саурівка та с. Петрівське) – 1599,2 га Амвросіївський р-н (біля с.Артемівка) – 2353,0 га | G51: Степановська сільська рада, КСП «Нива» Мануйлівська сільська рада, ДП «Амвросіївське лісове господарство», СТОВ «Зоря», СГВК «1 Травня» Благодатнівської сільської ради | H51: рішення обласної ради від 29.02.2000 №23/11-254, №3/16-364 від 09.11.2000 та № 5/18-561 від 26.09.2008
A52: 3 | B52: Клебан-Бик | C52: регіональний ландшафтний парк | E52: 2900.1 | F52: Костянтинівський та Артемівський р-ни, обидва береги Клебан-Бицького водосховище, територія «Білокузьминівська» та урочище «Стінки» | G52: Катеринівська сільська рада, СТОВ «Імпульс», ДП «Красноармійське лісове господарство», Олександро-Калинівська сільська рада, Іллічівська сільська рада, СТОВ «Обрій», Марківська сільська рада, СТОВ «Новодмитрієвське», СТОВ ім. Суворова, Кондратівська сільська рада, Іванопільська сільська рада, ДП «Слов’янське лісове господарство», Предтечинська сільська рада, Артемівський район Красненська сільська рада (30,74 га) | H52: Рішення обласної ради №23/11-256 від 29.02.2000, №4/2-37 від 23.05.02 та №4/31-775 від 23.12.05.
A53: 4. | B53: Зуївський | C53: регіональний ландшафтний парк | E53: 1532.6629 | F53: м. Харцизьк, смт Зуївка, заплава р. Кринка | G53: Зуївська сільська рада, Донецьке обласне управління лісового та мисливського господарства», СТОВ «Мир», радгосп «Зуївський» | H53: Рішення обласної ради №4/3-58 від 03.09.02 Рішення Донецької облради від 30.05.2013 № 6/21-523
A54: 5 | B54: Краматорський | C54: регіональний ландшафтний парк | E54: 2247.82 | F54: м.Краматорськ | G54: Краматорська міська рада, Біленьківська сільська рада, Красноторська сільська рада, ДП «Слов`янське лісове господарство» | H54: Рішення Донецької облради від 18.05.04 № 4/16-451 Рішення Донецької облради від 26.12.2013 №6/27-671
A55: 6 | B55: Слов`янський курорт | C55: регіональний ландшафтний парк | E55: 431.31 | F55: м.Слов`янськ | G55: Слов`янська міська рада | H55: Рішення Донецької обласної ради від 23.12.05 №4/31-773
B56: Всього регіональних ландшафтних парків | C56: 6 | E56: =SUM(E50:E55) -> 28927.313
A57: 1 | B57: Артемівські садово-дендрологічні насадження | C57: заказник | D57: ландшафтний | E57: 2071.29 | F57: Артемівський р-н, с-ще Опитне | G57: Дослідне господарство «Садове» Артемівської дослідної станції розсадництва Інституту дослідництва УААН | H57: Рішення виконкому обласної. Ради №276 від 27.06.84 та №3/25-639 від 22.03.02
A58: 2 | B58: Ліс по річці Кринка | C58: заказник | D58: ландшафтний | E58: 25 | F58: Амвросівський р-н, поблизу с-ща Родники | G58: Благодатнівська сільська рада | H58: Рішення виконкому обласної Ради № 276 від 27.06.84
A59: 3 | B59: Ларинський | C59: заказник | D59: ландшафтний | E59: 70 | F59: м. Донецьк, між смт Павлоградське та смт Ларинське | G59: Ларинська сільська рада | H59: Рішення обласно ради №4/3-59 від 03.09.2002
A60: 4 | B60: Красногорівський | C60: заказник | D60: ландшафтний | E60: 15.43 | F60: Мар’їнський р-н, поблизу м. Красногорівка | G60: Красногорівська міська рада | H60: Ріш6ення обласної ради №3/21-496 від 06.09.2001
A61: 5 | B61: Щуча заводь | C61: заказник | D61: ландшафтний | E61: 27 | F61: Великоновосілківський р-н, між селами Запоріжжя та Ялта | G61: Комарська сільська рада | H61: Рішення обласної ради №3/15-353 від 11.09.2000
A62: 6 | B62: Нескучненський ліс | C62: заказник | D62: ландшафтний | E62: 16 | F62: Великоновосілківський р-н, Великоновосілківське л-во, кв. 51 | G62: ДП «Великоанадольське лісове господарство» | H62: Рішення виконкому обласної Ради №276 від 27.06.84
A63: 7 | B63: Ямполівський | C63: заказник | D63: ландшафтний | E63: 77 | F63: Краснолиманський р-н, с. Терни, ДП «Краснолиманське лісове господарство», Торське л-во | G63: ДП «Краснолиманське лісове господарство» | H63: Рішення виконкому обласної Ради №549 від 24.12 .86
A64: 8 | B64: Бесташ | C64: заказник | D64: ландшафтний | E64: 437 | F64: Володарський р-н, с. Старченкове | G64: Старченковська с.р. | H64: Рішення обласної ради .№23/7-70 від 17.08.99
A65: 9 | B65: Урочище «Зоря» | C65: заказник | D65: ландшафтний | E65: 109 | F65: Красноармійський р-н, ДП «Красноармійське лісове господарстов», Красноармійське л-во, кв.39 | G65: ДП «Красноармійське лісове господарство» | H65: Рішення обласної ради №3/25-638 від 22.03.2002
A66: 10 | B66: Балка Скелева | C66: заказник | D66: ландшафтний | E66: 117.8 | F66: Єнакієвська міська рада в межах Ольховатської селищної ради | G66: Ольховатська селищна рада м. Єнакієве | H66: Рішення обласної ради від 14.05.2010 № 5/28-887
A67: 11 | C67: заказник | D67: ландшафтний | E67: 34.3787 | H67: Рішення обласної ради від 25.03.2013 №6/21-521
B68: Разом заказників ландшафтних місцевого значення | C68: 11 | E68: =SUM(E57:E67) -> 2999.8987
A69: 1 | B69: Новосілківський | C69: заказник | D69: Ентомологічний | E69: 3 | F69: Великоновосілківський р-н, смт Велика Новосілка | G69: Великоновосілківська сільська рада | H69: Рішення виконкому обласної Ради №652 від 17.12.82
A70: 2 | B70: Старченківський | C70: заказник | D70: Ентомологічний | E70: 5 | F70: Володарський р-н, с. Старченкове | G70: Старченковська с.р. | H70: Ріш. виконкому обл. Ради №652 від 17.12.82
A71: 3 | B71: Кальчицький | C71: заказник | D71: Ентомологічний | E71: 2 | F71: Володарський р-н, біля с. Шевченко | G71: Тополинська сільська рада | H71: Рішення виконкому обласної Ради №652 від 17.12.82
A72: 4 | B72: Старомихайлівський | C72: заказник | D72: Ентомологічний | E72: 0.5 | F72: Мар’їнський р-н, близько с-ща Старомихайлівка | G72: СФГ «Колос» | H72: Рішення виконкому обласної Ради №652 від 17.12.82
A73: 5 | B73: Круглик | C73: заказник | D73: Ентомологічний | E73: 12.9 | F73: Шахтарський р-н, на схід від с. Нікішине | G73: Нікішинська сільська рада | H73: Рішення обласної Ради від 10.03.93
B74: Разом заказників ентомоглогічних місцевого значення | C74: 5 | E74: =SUM(E69:E73) -> 23.4
A75: 1 | B75: Кривокоський лиман | C75: заказник | D75: Орнітологічний | E75: 468.7 | F75: Новоазовський р-н, смт Сєдове | G75: Сєдовська селищна рада | H75: Рішення виконкому обласної Ради №155 від 11.03.81 та №319 від 16.09.88
A76: 2 | B76: «Приозерний» | C76: заказник | D76: Орнітологічний | E76: 79.5 | F76: м. Слов’янськ, друга санзона Слов’янського курорту в заплаві р. Калантаївка | G76: Слов`янська міська рада | H76: Рішення обласної ради №3/22-558 від 06.12.2001 та №3/22-558 від 23.12.05
B77: Разом заказників орнітологічних місцевого значення | C77: 2 | E77: =SUM(E75:E76) -> 548.2
A78: 1 | B78: Азовська дача | C78: заказник | D78: Лісовий | E78: 1678 | F78: Володарський р-н, ДП «Приазовське лісове господарстов», Азовське л-во, кв. 1-72, поблизу смт Володарське | G78: ДП «Приазовське лісове господарство» Володарська селищна рада | H78: Рішення виконкому обласної Ради №276 від 27.06.84
A79: 2 | B79: Заплава – 1 | C79: заказник | D79: Лісовий | E79: 590 | F79: Слов’янський р-н, ДП «Слов’янське лісове господарство», Маяцьке л-во, кв. 174-185 | G79: ДП «Слов’янське лісове господарство» | H79: Рішення виконкому обласної Ради №310 від 21.06.72 та №276 від 27.06.84
A80: 3 | B80: Урочище Софіївське | C80: заказник | D80: Лісовий | E80: 565 | F80: м. Горлівка, ДП «Горлівське лісове господарство»,Єнакіївське л-во, кв. 28-49 | G80: ДП «Горлівське лісове господарство» | H80: Рішення виконкому обласної. Ради №310 від 21.06.72 та №276 від 27.06.84
A81: 4 | B81: Урочище Россоховате | C81: заказник | D81: Лісовий | E81: 100 | F81: м. Єнакієве, ДП «Горлівське лісове господарство»,Єнакіївське л-во, кв. 54,61,63,64 | G81: ДП «Горлівське лісове господарство» | H81: Рішення виконкому обласної Ради №310 від 21.06.72 та №276 від 27.06.84
A82: 5 | B82: Урочище Плоське | C82: заказник | D82: Лісовий | E82: 129 | F82: м. Єнакієве, ДП «Горлівське лісове господарство», Єнакіївське л-во, кв. 151-155 | G82: ДП «Горлівське лісове господарство» | H82: Рішення виконкому обл. Ради №310 від 21.06.72 та №276 від 27.06.84
A83: 6 | B83: Урочище Леонт’єво-Байрацьке | C83: заказник | D83: Лісовий | E83: 1290 | F83: м. Сніжне, ДП «Торезьке лісове господарство», Сніжнянське л-во, кв. 31-56 | G83: ДП «Торезьке лісове господарство» | H83: Рішення виконкому обласної Ради №622 від 25.12.75 та №276 від 27.06.84
B84: Разом заказників лісових місцевого значення | C84: 6 | E84: =SUM(E78:E83) -> 4352
A85: 1 | B85: Пристенське | C85: заказник | D85: Ботанічний | E85: 250 | F85: Амвросіївський р-н, ДП «Амвросіївське лісове господарство», Амвросіївське л-во, кв.14, 16-19 | G85: ДП «Амвросіївське лісове господарство» | H85: Рішення виконкому обласної Ради №9 від 10.01.79
A86: 2 | B86: Балка Північна | C86: заказник | D86: Ботанічний | E86: 12 | F86: Великоновосілківський р-н, біля с. Времівка | G86: Великоновосілківська селищна рада | H86: Рішення виконкому обласної Ради №7 від 09.01.91
A87: 3 | B87: Балка Орлинська | C87: заказник | D87: Ботанічний | E87: 9 | F87: Великоновосілківський р-н, 5 км на південний захід від с. Старомлинівка | G87: Старомлинівська сільська рада | H87: Рішення облвиконкому №652 від 17.12.82 р.
A88: 4 | B88: Палімбія | C88: заказник | D88: Ботанічний | E88: 50 | F88: Артемівський р-н, 2 км на північний схід від с. Васюківка | G88: Васюківська сільська рада | H88: Рішення обласної ради від 25.03.95
A89: 5 | B89: Крейдяна рослинність біля села Кірове | C89: заказник | D89: Ботанічний | E89: 342.3 | F89: Артемівський р-н, на північ від с. Кірове | G89: Різниківська сільська рада | H89: Рішення обласної ради від 25.03.95 Рішення обласної ради від 21.09.06 № 5/5-82
A90: 6 | B90: Конвалієва діброва | C90: заказник | D90: Ботанічний | E90: 5 | F90: Артемівський р-н, на північ від м. Сіверськ | G90: Дронівська сільська рада | H90: Рішення обласної ради від 25.03.95
A91: 7 | B91: Степ біля села Платонівка | C91: заказник | D91: Ботанічний | E91: 5 | F91: Артемівський р-н, 3 км на південний схід від с. Платонівка | G91: Дронівська сільська рада | H91: Рішення обласної ради від 25.03.95
A92: 8 | B92: Гектова балка | C92: заказник | D92: Ботанічний | E92: 290 | F92: Добропільський р-н,3 км на захід від с. Никанорівка | G92: Никанорівська сільська рада | H92: Рішення обласно ради від 25.03.95 Рішення Донецької облради від 30.05.2013 № 6/21-522
A93: 9 | B93: Грузька балка | C93: заказник | D93: Ботанічний | E93: 18 | F93: Добропільський р-н, 3 км на північ від с. Золотий Колодязь | G93: Никанорівська сільська рада | H93: Рішення обласної ради від 25.03.95
A94: 10 | B94: Кохане | C94: заказник | D94: Ботанічний | E94: 37 | F94: Олександрівський р-н, на південний захід від с. Зелене | G94: Микільська сільська рада | H94: Рішення обласної ради №XXII/14-30 від 30.09.97
A95: 11 | B95: Колодязне | C95: заказник | D95: Ботанічний | E95: 30.8 | F95: Олександрівський р-н, на південний захід від с. Зелене | G95: Микільська сільська рада | H95: Рішення обласної ради №XXII/14-30 від 30.09.97
A96: 12 | B96: Казанок | C96: заказник | D96: Ботанічний | E96: 38 | F96: Олександрівський р-н, 1,5 км на південний схід від с. Зелене | G96: Новоолександрівська сільська рада | H96: Рішення обласної ради №XXII/14-30 від 30.09.97
... A105: 21 | B105: Зорянський степ | C105: заказник | D105: Ботанічний | E105: 325.92 | F105: Поблизу селищ Межеве, Грузько-Зорянське та Грузько-Ломівка Макїївської міської ради | G105: Макїївська міська рада | H105: Рішення обласної ради від 21.10.2010 № 5/31-970
B106: Разом заказників:ботанічних місцевого значення | C106: 21 | E106: =SUM(E85:E105) -> 2075.22
B107: Всього заказників місцевого значення | C107: =C106+C84+C77+C74+C68 -> 45 | E107: =E106+E84+E77+E74+E68 -> 9998.7187
A108: 1 | B108: Риф, оголення вапняків біля с. Покровське | C108: пам`ятка природи | D108: Геологічна | E108: 0.2 | F108: Артемівський р-н, 3,5 км на схід від с. Покровське | G108: Покровська сільська рада | H108: Рішення виконкому обласної Ради №310 від 21.06.72
A109: 2 | B109: Оголення Авіловської свити біля села Скельове | C109: пам`ятка природи | D109: Геологічна | E109: 5 | F109: Артемівський р-н, с. Скелєве | G109: Луганська селищна рада | H109: Рішення виконкому обласної Ради №310 від 21.06.72
A110: 3 | B110: Балка Журавльова | C110: пам`ятка природи | D110: Геологічна | E110: 2 | F110: Амвросіївський р-н, с. В. Мішкове | G110: Благодатнівська сільська рада | H110: Рішення виконкому обласної Ради №622 від 15.12.75
A111: 4 | B111: Печера | C111: пам`ятка природи | D111: Геологічна | E111: 0.01 | F111: Новоазовський р-н, с. Гусельщикове | G111: КСП “Росія” | H111: Рішення виконкому обласної Ради №26 від 11.01.78
A112: 5 | B112: Печера №1 | C112: пам`ятка природи | D112: Геологічна | E112: 0.5 | F112: Старобешівський р-н, с. Стила | G112: Стильська сільська рада | H112: Рішення виконкому обласної Ради №276 від 27.06.84
...

Sheet житомирська обл.
A1: Житомирська область
A2: Перелік територій та об`єктів природно-заповідного фонду загальнодержавного та місцевого значення
A4: № з.п. | B4: Назва території чи об’єкта ПЗФ | C4: Категорія | D4: Тип | E4: Площа, га | F4: Місце розташування території чи об`єкту ПЗФ | G4: Назва установи, підпрємства, організації, землекористувача (землевласника), у віданні якого знаходиться територія чи об’єкт ПЗФ | H4: Рішення, згідно з яким створено (змінено) дану територію чи об’єкт ПЗФ
A8: 1 | B8: 2 | C8: 3 | D8: 4 | E8: 5 | F8: 6 | G8: 7 | H8: 8
A9: Території та об`єкти ПЗФ загальнодержавного значення
A10: 1 | B10: Поліський | C10: природний заповідник | E10: 20104 | F10: Овруцький район, с. Селезівка, Копищанське і Перганське лісництва ДП “Олевське ЛГ” та Селезівське лісництво ДП “Словечанське ЛГ” | G10: Поліський природний заповідник Житомирського обласного управління лісового та мисливського господарства | H10: Постанова РМ УРСР від 12.11.1968 р. №584
A11: 2 | B11: «Древлянський» | C11: природний заповідник | E11: 30872.84 | F11: Народицький район, ДП «Народицький спецлісгосп», Народицьке лісництво – 8294 га, Кліщівське лісництво – 5034 га, Заліське лісництво – 3495 га (всього – 16823 га); ДП «Народицький лісгосп АПК», Радчанське лісництво – 57,7 га (всього – 57, 7 га); землі запасу Народицької селищної ради, в тому числі землі населених пунктів – 753,6 га, сіножаті – 3919,14 га, пасовища – 5798 га (усього – 10470,74 га); землі запасу Мотійківської сільської ради, в тому числі землі населених пунктів – 78,3 га, сіножаті – 216,7 га, пасовища – 204,5 га, пасовища радіоактивно забруднені – 13,9 га, сіножаті радіоактивно забруднені – 159,9 га (всього – 673,3 га); землі запасу Селецької сільської ради, в тому числі землі населених пунктів – 18,3 га, сіножаті – 231,1 га, пасовища – 132 га, заболочені землі – 15,5 га, чагарники – 21 га (усього – 418,1 га); 2430 га радіоактивно забруднених земель, що знаходяться в розпорядженні Народицької районної ради (всього – 2430 га) | G11: Міністерство екології та природних ресурсів України | H11: Указ Президента України від 11.12.09 №1038/2009 «Про створення природного заповідника «Древлянський»
B12: Всього природних заповідників | C12: 2 | E12: =SUM(E10:E11) -> 50976.84
A13: 1 | B13: Плотниця | C13: заказник | D13: ландшафтний | E13: 460 | F13: Олевський р-н, ДП “Білокоровицьке ЛГ”, Замисловицьке лісництво, кв. 1, 2, 5, 6, 7 | G13: ДП “Білокоровицьке ЛГ” | H13: Постанова РМ УРСР від 25.02.1980 р. №132
B14: Разом заказників ландшафтних | C14: 1 | E14: =SUM(E13) -> 460
A15: 2 | B15: Поясківський | C15: заказник | D15: лісовий | E15: 113 | F15: Олевський р-н, ДП “Білокоровицьке ЛГ”, Поясківське лісництво, кв. 12 | G15: ДП “Білокоровицьке ЛГ” | H15: Постанова РМ УРСР від 28.10.1974 р. №500
A16: 3 | B16: Туганівський | C16: заказник | D16: лісовий | E16: 245 | F16: Новоград-Волинський р-н, ДП “Новоград-Волинське ДЛМГ”, Ярунське лісництво, кв. 20, 21, 23, 25, 26 | G16: ДП “Новоград-Волинське ДЛМГ” | H16: Постанова РМ УРСР від 28.10.1974 р. №500
B17: Разом заказників лісових | C17: 2 | E17: =SUM(E15:E16) -> 358
A18: 4 | B18: Городницький | D18: ботанічний | E18: 352 | F18: Новоград-Волинський р-н, ДП “Городницьке ЛГ”, Городницьке лісництво, кв. 34, 35, 36 | G18: ДП “Городницьке ЛГ” | H18: Постанова РМ УРСР від 28.10.1974 р. №500
B19: Разом заказників ботанічних | C19: 1 | E19: =SUM(E18) -> 352
A20: 5 | B20: Казява | C20: заказник | D20: загальнозоологічний | E20: 1859 | F20: Новоград-Волинський р-н, ДП «Городницький лісгосп», Броницьке лісництво, кв.11, 12, 13, 17, 18, 19, 20, 21, 22, 27, 28, 29, 30, 31, 35, 36 | G20: ДП «Городницький лісгосп» | H20: Постанова РМ УРСР від 25. 02. 1980 р. №132
A21: 6 | B21: Кутне | C21: заказник | D21: загальнозоологічний | E21: 922 | F21: Овруцький р-н, ДП “Овруцький спецлісгосп”, Борутинське лісництво, кв. 49, 57, 58, 59, 60, 61, 62, 63, 64 | G21: ДП “Овруцький спецлісгосп” | H21: Постанова РМ УРСР від 12.12.1983 р. № 495
B22: Разом заказників загальнозоологічних | C22: 2 | E22: =SUM(E20:E21) -> 2781
A23: 7 | B23: Часниківський | C23: заказник | D23: орнітологічний | E23: 612 | F23: Ємільчинський р-н, ДП “Ємільчинське ЛГ”, Кочичинське лісництво, кв. 45, 46, 47, 53, 45, 55 | G23: ДП “Ємільчинське ЛГ” | H23: Постанова РМ УРСР від 25.02.1980 р. № 132
B24: Разом заказників орнітологічних | C24: 1 | E24: =SUM(E23) -> 612
A25: 8 | B25: Дідове озеро | C25: заказник | D25: гідрологічний | E25: 294 | F25: Овруцький р-н, ДП “Словечанське ЛГ”, Кованське лісництво, кв. 11, 12, 13, 14 | G25: ДП “Словечанське ЛГ” | H25: Постанова РМ УРСР від 25.02.1980 р. № 132
A26: 9 | B26: Забарський | C26: заказник | D26: гідрологічний | E26: 1095 | F26: Ємільчинський р-н, ДП “Ємільчинське ЛГ”, Глумчанське лісництво, кв. 1, 2, 3, 6, 7, 8, 12, 18, 19 | G26: ДП “Ємільчинське ЛГ” | H26: Постанова РМ УРСР від 25.02.1980 р. № 132
A27: 10 | B27: Червоновільсь-кий | C27: заказник | D27: гідрологічний | E27: 805 | F27: Новоград-Волинський р-н, ДП “Городницьке ЛГ”, Червоновільське лісництво, кв. 1, 2, 3, 5, 6, 7, 12, 13 | G27: ДП “Городницьке ЛГ” | H27: Постанова РМ УРСР від 25.02.1980 р. № 132
B28: Разом заказників гідрологічних | C28: 3 | E28: =SUM(E25:E27) -> 2194
B29: Всьго заказників загальнодержавного значення | C29: =C28+C24+C22+C19+C17+C14 -> 10 | E29: =E28+E24+E22+E19+E17+E14 -> 6757
A30: 1 | B30: Корніїв | C30: пам`ятка природи | D30: ботанічна | E30: 15 | F30: Овруцький р-н, ДП “Словечанське ЛГ”, Кованське лісництво, кв.37 | G30: ДП “Словечанське ЛГ” | H30: Розпорядження РМ УРСР від 14.10.1975р. № 780-Р
A31: 2 | B31: Модрина | C31: пам`ятка природи | D31: ботанічна | E31: 36 | F31: Новоград-Волинський р-н, ДП “Городницьке ЛГ” , Дзержинське лісництво, кв.28 | G31: ДП “Городницьке ЛГ” | H31: Розпорядження РМ УРСР від 07.08.1963р. № 1180-Р
B32: Всього пам`яток природи загальнодержавного значення | C32: 2 | E32: =SUM(E30:E31) -> 51
A33: 1 | B33: Ботанічний сад Житомирського національного агроекологічного університету | C33: ботанічний сад | E33: 35.4 | F33: м. Житомир, вул. Корольова, 39 та хутір “Затишшя” | G33: Житомирський національний агроекологічний університет | H33: Розпорядження РМ УРСР від 07.08.1963 р. № 1180-Рі Постанова КМУ від 12.10.1992 р. № 584
B34: Всього ботанічних садів загальнодержавного значення | C34: 1 | E34: =SUM(E33) -> 35.4
A35: 1 | B35: Верхівнянський | C35: парк-пам`ятка садово-паркового мистецтва | E35: 33.7 | F35: Ружинськнй р-н, с. Верхівня | G35: Верхівнянська філія Житомирського агротехнічного коледжу | H35: Постанова РМ УРСР від 29.01.1960 р. № 105
A36: 2 | B36: Городницький | C36: парк-пам`ятка садово-паркового мистецтва | E36: 21 | F36: Новоград-Волинський р-н, ДП “Городницьке ЛГ”, Городницьке лісництво, кв. 65 | G36: ДП “Городницьке ЛГ” | H36: Постанова РМ УРСР від 29.01.1960 р. № 105
A37: 3 | B37: Івницький | C37: парк-пам`ятка садово-паркового мистецтва | E37: 14 | F37: Андрушівський р-н, ДП “Коростишівське ЛГ”, Івницьке лісництво, кв. 82 | G37: ДП “Коростишівське ЛГ” | H37: Постанова РМ УРСР від 29.01.1960 р. № 105
A38: 4 | B38: Новочорторийський | C38: парк-пам`ятка садово-паркового мистецтва | E38: 19.2 | F38: Любарський р-н, с. Нова Чортория | G38: Новочорторийський державний аграрний технікум | H38: Постанова РМ УРСР від 29.01.1960 р. № 105
A39: 5 | B39: Трощанський | C39: парк-пам`ятка садово-паркового мистецтва | E39: 31.9 | F39: Чуднівський район, с. Троща, ДП “Дзержинський лісгосп АПК”, кв. 56 | G39: ДП “Дзержинський лісгосп АПК” | H39: Постанова РМ УРСР від 29.01.1960р. № 105
B40: Всього парків-пам`яток садово-паркового мистецтва загальнодержавного значення | C40: 5 | E40: =SUM(E35:E39) -> 119.8
B41: Всього територій та об`єктів ПЗФ загальнодержавного значення | C41: =C40+C34+C32+C29+C12 -> 20 | E41: =E40+E34+E32+E29+E12 -> 57940.04
A42: Території та об`єкти місцевого значення
A43: 1 | B43: Гамарня | C43: заказник | D43: ландшафтний | E43: 1131 | F43: Малинський р-н, ДП “Малинське ЛГ”, Слобідське лісництво, кв.40, 41, 42, 43 | G43: ДП “Малинське ЛГ” | H43: Рішення облвиконкому від 03.12.1982 р. №489
A44: 2 | B44: Древлянський | C44: заказник | D44: ландшафтний | E44: 9182.76 | F44: Народицький район, ДП «Народицький спецлісгосп»; ДП «Народицький лісгосп АПК», Базарське л-во; землі запасу Базарської с/р; землі запасу Межиліської с/р | G44: ДП «Народицький спецлісгосп», ДП «Народицький лісгосп АПК», Базарська с/р, Межиліська с/р | H44: Рішення 8 сесії обласної ради п’ятого скликання від 05.04.07 № 191 «Про утворення об’єкту природно-заповідного фонду місцевого значення»; уточнено площу заказника рішенням 8 сесії Житомирської обласної ради шостого скликання від 15.12.11 №373 «Про створення нових та уточнення площ існуючих об’єктів природно-заповідного фонду місцевого значення, про зміну користувача заповідного об’єкта»
A45: 3 | B45: Миколинці | C45: заказник | D45: ландшафтний | E45: 723 | F45: ДП «Ємільчинський лісгосп АПК», Барашівське л-во, кв. 84-87, 100, 101, 104 | G45: ДП «Ємільчинський лісгосп АПК» | H45: Рішення 15 сесії обласної ради п’ятого скликання від 26.06.08 № 595 «Про утворення об’єктів природно-заповідного фонду місцевого значення»
A46: 4 | B46: Глушець | C46: заказник | D46: ландшафтний | E46: 944 | F46: Овруцький р-н, ДП «Словечанський лісгосп АПК», Овруцьке лісництво, квартали 1,2 | G46: ДП «Словечанський лісгосп АПК» | H46: Рішення 20 сесії обласної ради п’ятого скликання від 28.05.09 № 819 «Про утворення об’єктів природно-заповідного фонду місцевого значення»
A47: 5 | B47: Калинка | C47: заказник | D47: ландшафтний | E47: 55 | F47: Малинський р-н, ДП “Малинське ЛГ”, Любовицьке лісництво, квартал 13 | G47: ДП “Малинське ЛГ” | H47: Рішення 21 сесії обласної ради п’ятого скликання від 09.09.09 № 883 «Про утворення та розширення об’єктів природно-заповідного фонду місцевого значення»
A48: 6 | B48: Раївка | C48: заказник | D48: ландшафтний | E48: 206.5 | F48: Радомишльський р-н, ДП «Радомишльське ЛМГ»,Білківське лісництво, кв. 90 (вид. 4,6,7,8), кв. 91 (вид. 2-18), кв. 92 (вид. 4,10,17,19), кв. 93 (вид. 2-18), кв. 94, кв. 95, кв. 98 (вид. 10-12) | G48: ДП «Радомишльське ЛМГ» | H48: Рішення 21 сесії обласної ради п’ятого скликання від 09.09.09 № 883 «Про утворення та розширення об’єктів природно-заповідного фонду місцевого значення»
A49: 7 | B49: „Березовий гай” | C49: заказник | D49: ландшафтний | E49: 234 | F49: Радомишльський р-н, ДП «Радомишльське ЛМГ», Потіївське лісництво, кв. 1-6 | G49: ДП «Радомишльське ЛМГ» | H49: Рішення 21 сесії обласної ради п’ятого скликання від 09.09.09 № 883 «Про утворення та розширення об’єктів природно-заповідного фонду місцевого значення»
A50: 8 | B50: Полігон | C50: заказник | D50: ландшафтний | E50: 2293.3 | F50: Коростенський р-н, ДП «Коростенське ЛМГ», Бехівське лісництво, кв. 114-136 (крім кварталу 116, вид. 19; кварталу 117, вид. 14; кварталу 123, вид. 19 та кварталу 124, вид. 2) | G50: ДП «Коростенське ЛМГ» | H50: Рішення двадцять шостої сесії Житомирської обласної ради п’ятого скликання від 08.09.10 №1163 «Про утворення об’єктів природно-заповідного фонду місцевого значення»
A51: 9 | B51: Михайловичі | C51: заказник | D51: ландшафтний | E51: 139.6 | F51: Коростенський р-н, ДП «Коростенське ЛМГ», Бехівське л-во, кв. 16 (вид. 16-18) – 18, 26, 28 | G51: ДП «Коростенське ЛМГ» | H51: Рішення 17 сесії обласної ради п’ятого скликання від 14.11.08 № 665 «Про утворення об’єктів природно-заповідного фонду місцевого значення
A52: 10 | B52: Пилипівка | C52: заказник | D52: ландшафтний | E52: 54.9 | F52: Житомирський р-н, ДП «Житомирський лісгосп», Пилипівське лісництво, кв. 38 | G52: ДП «Житомирський лісгосп» | H52: Рішення 8 сесії Житомирської обласної ради шостого скликання від 15.12.11 №373 «Про створення нових та уточнення площ існуючих об’єктів природно-заповідного фонду місцевого значення, про зміну користувача заповідного об’єкта»
A53: 11 | B53: Здрівля | C53: заказник | D53: ландшафтний | E53: 67.9 | F53: Малинський район, ДП «Малинський лісгосп», Малинське лісництво, кв. 64 (площа 58 га), кв. 63, вид. 10, 13, 14 (площа 9,9 га) | G53: ДП «Малинський лісгосп» | H53: Рішення IX сесії Житомирської обласної ради VI скликання від 22.03.12 № 503 «Про створення нових та уточнення площі існуючого об’єкта природно-заповідного фонду місцевого значення»
A54: 12 | B54: Багно | C54: заказник | D54: ландшафтний | E54: 36.2 | F54: Малинський район, ДП «Малинський лісгосп АПК», Ворсівське лісництво, кв. 8, вид. 53 - 66 | G54: ДП «Малинський лісгосп АПК» | H54: Рішення IX сесії Житомирської обласної ради VI скликання від 22.03.12 № 503 «Про створення нових та уточнення площі існуючого об’єкта природно-заповідного фонду місцевого значення»
... A57: 15 | B57: Партизанський | C57: заказник | D57: ландшафтний | E57: 22.9 | F57: Новоград-Волинський район, ДП «Новоград-Волинське ДЛМГ», Пищівське лісництво, кв. 35, вид. 3 (площа 9,2 га), кв. 35, вид. 8 (площа 5,8 га), кв. 35, вид. 9 (площа 6,0 га), кв. 35, вид. 15 (площа 1,9 га) | G57: ДП «Новоград-Волинське ДЛМГ» | H57: Рішення XII сесії Житомирської обласної ради VI скликання від 22.11.12 № 718 «Про створення нових і зміну меж існуючих об’єктів природно-заповідного фонду місцевого значення»
B58: Разом заказників ландшафтних | C58: 15 | E58: =SUM(E43:E57) -> 15776.06
A59: 16 | B59: Андрушівський ліс-1 | C59: заказник | D59: лісовий | E59: 2.8 | F59: Андрушівський р-н, ДП “Попільнянське ЛГ”, Андрушівське лісництво, кв.69, вид.2 | G59: ДП “Попільнянське ЛГ” | H59: Рішення облвиконкому від 03.12.1982 р. №489
A60: 17 | B60: Андрушівський ліс-2 | C60: заказник | D60: лісовий | E60: 2.8 | F60: Андрушівський р-н, ДП “Попільнянське ЛГ”, Андрушівське лісництво, кв. 53, вид. 8 | G60: ДП “Попільнянське ЛГ” | H60: Рішення облвиконкому від 03.12.1982 р. №489
A61: 18 | B61: Баньки | C61: заказник | D61: лісовий | E61: 1339 | F61: Олевський р-н., ДП “Олевське ЛГ” , Олевське лісництво, кв. 10, 14, 15, 17, 22, 31, 41; Сновидовицьке лісництво, кв. 40, 41, 46, 47, 48, 54 | G61: ДП “Олевське ЛГ” | H61: Рішення 14 сесії обласної ради XXIII скликання від 04.07.2000 р.
A62: 19 | B62: Баранівський | C62: заказник | D62: лісовий | E62: 550 | F62: Баранівський р-н, ДП “Баранівське ЛМГ”, Баранівське лісництво, кв. 34, 35, 36, 37, 48, 49, 50, 51 | G62: ДП “Баранівське ЛМГ” | H62: Рішення дев’ятої сесії обласної ради XXII скликання від 22.11.1997 р.
A63: 20 | B63: Березовий | C63: заказник | D63: лісовий | E63: 36 | F63: Овруцький р-н, ДП “Словечанське ЛГ”, Можарівське лісництво, кв. 78, вид. 10, 11, 16, 18, Нагорянське лісництво, кв. 61, вид. 7, 17, кв. 68, вид. 6 | G63: ДП “Словечанське ЛГ” | H63: Рішення 14 сесії обласної ради XXIII скликання від 04.07.2000 р.
A64: 21 | B64: Білоко-ровицький | C64: заказник | D64: лісовий | E64: 18 | F64: Олевський р-н, ДП “Білокоровицьке ЛГ”, Білокоровицьке лісництво, кв. 72, вид. 27 | G64: ДП “Білокоровицьке ЛГ” | H64: Рішення облвиконкому від 23.12.1991 р. №360
A65: 22 | B65: Ботанічна | C65: заказник | D65: лісовий | E65: 0.6 | F65: Новоград-Волинський р-н, ДП “Новоград-Волинське ДЛМГ”, Піщівське лісництво, кв. 96, вид.11 | G65: ДП “Новоград-Волинське ДЛМГ” | H65: Рішення облвиконкому від 20.11.1967 р. № 610
A66: 23 | B66: Будки | C66: заказник | D66: лісовий | E66: 444 | F66: Ємільчинський р-н, ДП “Ємільчинське ЛГ”, Ємільчинське лісництво, кв. 28, 29, 36, 37 | G66: ДП “Ємільчинське ЛГ” | H66: Рішення облвиконкому від 01.02.1988 р. № 27
A67: 24 | B67: Бучина | C67: заказник | D67: лісовий | E67: 2 | F67: Любарський р-н, ДП “Бердичівське ЛГ”, Любарське лісництво, кв. 14, вид. 27 | G67: ДП “Бердичівське ЛГ” | H67: Рішення облвиконкому від 07.03.1991 р. № 68
A68: 25 | B68: Верчова ділянка | C68: заказник | D68: лісовий | E68: 2 | F68: Олевський р-н, ДП “Олевське ЛГ”, Юрівське лісництво, кв. 14, вид. 6 | G68: ДП “Олевське ЛГ” | H68: Рішення облвиконкому від 23.12.1991 р. № 360
A69: 26 | B69: Гута | C69: заказник | D69: лісовий | E69: 77 | F69: Радомишльський р-н, ДП “Радомишльське ЛМГ”, Радомишльське лісництво, кв. 49, вид. 11; кв. 50, вид. 24; кв.51, вид. 31 | G69: ДП “Радомишльське ЛМГ” | H69: Рішення облвиконкому від 23.12.1991 р. № 360
A70: 27 | B70: Даньов | C70: заказник | D70: лісовий | E70: 226 | F70: Ємільчинський р-н, ДП “Ємільчинське ЛГ”, Глумчанське лісництво, кв. 46, 52 | G70: ДП “Ємільчинське ЛГ” | H70: Рішення облвиконкому від 07.03.1991 р. № 68
... A110: 67 | B110: Перепища | C110: заказник | D110: лісовий | E110: 57 | F110: Ружинський район, ДП «Попільнянське лісове господарство», Ружинське лісництво, кв. 70 | G110: ДП «Попільнянське лісове господарство» | H110: Рішення XII сесії Житомирської обласної ради VI скликання від 22.11.12 № 718 «Про створення нових і зміну меж існуючих об’єктів природно-заповідного фонду місцевого значення»
B111: Разом заказників лісових | C111: 52 | E111: =SUM(E59:E110) -> 31990.4
A112: 68 | B112: Відьма | C112: заказник | D112: гідрологічний | E112: 15 | F112: Ємільчинський р-н, ДП «Ємільчинське ЛГ», Ємільчинське л-во, кв. 5, вид. 1-3, 6 | G112: ДП «Ємільчинське ЛГ» | H112: Рішення 15 сесії обласної ради п’ятого скликання від 26.06.08 № 595 «Про утворення об’єктів природно-заповідного фонду місцевого значення»
A113: 69 | B113: Лозанове | C113: заказник | D113: гідрологічний | E113: 14.6 | F113: Коростенський р-н, ДП «Коростенське ЛМГ», Бехівське л-во, кв. 117, вид. 14; кв. 124, вид. 2 | G113: ДП «Коростенське ЛМГ» | H113: Рішення 17 сесії обласної ради п’ятого скликання від 14.11.08 № 665 «Про утворення об’єктів природно-заповідного фонду місцевого значення
A114: 70 | B114: Мицьківський | C114: заказник | D114: гідрологічний | E114: 39.4 | F114: Новоград-Волинський р-н, ДП «Новоград-Волинське ДЛМГ», Курчицьке л-во, кв. 15, вид. 11-13, кв. 16, вид. 2, 3, 5, 6-8 | G114: ДП «Новоград-Волинське ДЛМГ» | H114: Рішення 16 сесії обласної ради п’ятого скликання від 15.08.08 № 642 «Про утворення об’єктів природно-заповідного фонду місцевого значення»
A115: 71 | B115: Переспа | C115: заказник | D115: гідрологічний | E115: 117 | F115: Ємільчинський р-н, ДП «Ємільчинське ЛГ», Жужельське л-во, кв. 5, вид. 1-13 | G115: , ДП «Ємільчинське ЛГ» | H115: Рішення 15 сесії обласної ради п’ятого скликання від 26.06.08 № 595 «Про утворення об’єктів природно-заповідного фонду місцевого значення» (площа – 80,2 га). Розширено рішенням XXIV сесії Житомирської обласної ради V скликання від 11.05.10 № 1084 «Про зміну меж об’єктів природно-заповідного фонду місцевого значення» з 80,2 га до 117,0 га
A116: 72 | B116: Хвощове болото | C116: заказник | D116: гідрологічний | E116: 11.6 | F116: Коростенський р-н, ДП «Коростенське ЛМГ», Бехівське л-во, кв. 123, вид. 2; кв. 116, вид. 19 | G116: ДП «Коростенське ЛМГ» | H116: Рішення 17 сесії обласної ради п’ятого скликання від 14.11.08 № 665 «Про утворення об’єктів природно-заповідного фонду місцевого значення
A117: 73 | B117: Бучмани | C117: заказник | D117: гідрологічний | E117: 836.5 | F117: Лугинський р-н, ДП “Лугинське ЛГ”, Дивлинське лісництво, кв. 2, вид. 1, 10; кв. 7, вид. 1, 2, 4, 10; кв. 8, вид. 9, 10, 11, 12; кв.17, вид. 1, 2, 3, 4, 6; кв. 18, вид. 17; кв. 27, вид. 1, 2, 3, 4, 5; кв. 28, вид.1. | G117: ДП “Лугинське ЛГ” | H117: Рішення облвиконкому від 01.02.1988 р. № 27 (295,0 га). Розширено рішенням 26 сесії обласної ради 5 скликання від 08.09.10 № 1163 «Про утворення об’єктів природно-заповідного фонду місцевого значення» (розширено з 295,0 га до 836,5 га)
A118: 74 | B118: Вовчі острови | C118: заказник | D118: гідрологічний | E118: 452 | F118: Ємільчинський р-н, ДП “Ємільчинське ЛГ”, Ємільчинське лісництво, кв. 13, 14, 23, 24 | G118: ДП “Ємільчинське ЛГ” | H118: Рішення облвиконкому від 02.04.1984 р. № 115
A119: 75 | B119: Волосне | C119: заказник | D119: гідрологічний | E119: 271 | F119: Коростенський р-н, ДП “Коростенське ЛМГ” , Ушомирське лісництво, кв. 36, вид. 16, 17, 23, 30 | G119: ДП “Коростенське ЛМГ” | H119: Рішення облвиконкому від 21.01.1982 р. № 26 (20,0 га). Розширено рішенням 26 сесії обласної ради 5 скликання від 08.09.10 № 1163 «Про утворення об’єктів природно-заповідного фонду місцевого значення» (розширено з 20,0 га до 271,0 га)
A120: 76 | B120: Галове | C120: заказник | D120: гідрологічний | E120: 185 | F120: Малинський р-н, ДП “Малинське ЛГ”, Любовицьке лісництво, кв. 39, вид.9 | G120: ДП “Малинське ЛГ” | H120: Рішення облвиконкому від 03.12.1982 р. № 489
A121: 77 | B121: Галове болото | C121: заказник | D121: гідрологічний | E121: 92.5 | F121: Коростишівський р-н, ДП “Коростишівське ЛГ”, Коростишівське лісництво, кв. 15, вид. 21, 34; кв. 16, вид 23, 27; кв. 20, вид. 4, 11; кв. 21, вид. 1. | G121: ДП “Коростишівське ЛГ” | H121: Рішення облвиконкому від 17.09.1979 р. № 398
A122: 78 | B122: Зимник | C122: заказник | D122: гідрологічний | E122: 191 | F122: Олевський р-н, ДП “Олевське ЛГ”, Руднянське лісництво, кв. 54, вид. 1-11, 21, 22, 42; кв.55, вид. 1-15, 20, 24-26, 45; кв.60, вид. 1-8, 10, 11, 33, 46-49, | G122: ДП “Олевське ЛГ” | H122: Рішення облвиконкому від 02.04.1984 р. № 115
A123: 79 | B123: Клунище | C123: заказник | D123: гідрологічний | E123: 63 | F123: Малинський р-н, ДП “Малинське ЛГ”, Слобідське лісництво, кв. 7, вид. 2, 5; кв. 8, вид.8; кв. 9, вид.1 | G123: ДП “Малинське ЛГ” | H123: Рішення облвиконкому від 03.12.1982 р. № 489
... A138: 94 | B138: Іванівський | C138: заказник | D138: гідрологічний | E138: 57.1 | F138: Новоград-Волинський район, ДП «Новоград-Волинське ДЛМГ», Новоград-Волинське лісництво, кв. 26, вид. 7 (площа 5,0 га), кв. 27, вид. 5 (площа 7,0 га), кв. 28, вид. 5 (площа 0,3 га), кв. 28, вид. 7 (площа 10 га), кв. 28, вид. 8 (площа 1,4 га), кв. 28, вид. 18 (площа 1,1 га); кв. 29, вид. 2 (площа 2,5 га), кв. 29, вид. 6 (площа 7,6 га), кв. 29, вид. 7 (площа 1,2 га), кв. 29, вид. 8 (площа 1,5 га), кв. 29, вид. 9 (площа 1,9 га), кв. 29, вид. 10 (площа 0,3 га), кв. 29, вид. 19 (площа 2,1 га); кв. 30, вид. 9 (площа 0,9 га), кв. 30, вид. 10 (площа 1,3 га), кв. 30, вид. 11 (площа 9,3 га), кв. 30, вид. 12 (площа 0,5 га), кв. 30, вид. 13 (площа 2,0 га), кв. 30, вид. 15 (площа 1,2 га) | G138: ДП «Новоград-Волинське ДЛМГ» | H138: Рішення XII сесії Житомирської обласної ради VI скликання від 22.11.12 № 718 «Про створення нових і зміну меж існуючих об’єктів природно-заповідного фонду місцевого значення»
B139: Разом заказників гідрологічних | C139: 27 | E139: =SUM(E112:E138) -> 8166.9
A140: 95 | B140: Страусово перо | C140: заказник | D140: ботанічний | E140: 29.2 | F140: Новоград-Волинський р-н, ДП “Городницьке ЛГ”, Городницьке лісництво, кв. 29, вид. 21, 23; кв. 28, вид. 51, 52, кв. 31, вид. 1, 2, 9, 17 | G140: ДП “Городницьке ЛГ» | H140: Рішення 16 сесії обласної ради п’ятого скликання від 15.08.08 № 642 «Про утворення об’єктів природно-заповідного фонду місцевого значення»
A141: 96 | B141: Берви | C141: заказник | D141: ботанічний | E141: 392 | F141: Радомишльський р-н., ДП “Радомишльське ЛМГ”, Поташнянське лісництво, кв. 46, вид. 22-38; кв. 47, вид. 1-28; кв. 48, вид. 1-23; кв. 49, вид. 1-15; кв. 60, вид. 1-9; кв. 61, вид. 1-24; кв. 62, вид. 1-12 | G141: ДП “Радомишльське ЛМГ” | H141: Рішення облвиконкому від 03.12.1982 р. №489
A142: 97 | B142: Вереси | C142: заказник | D142: ботанічний | E142: 335 | F142: Олевський р-н, ДП “Олевське ЛГ”, Кам’янське лісництво, кв. 41, 43, 44 | G142: ДП “Олевське ЛГ” | H142: Рішення 11 сесії 23 скликання облради від 29.11.2001
A143: 98 | B143: Вересна | C143: заказник | D143: ботанічний | E143: 56 | F143: Новоград-Волинський р-н, ДП “Новоград-Волинське ДЛМГ”, Ярунське лісництво, кв. 53 | G143: ДП “Новоград-Волинське ДЛМГ” | H143: Рішення облвиконкому від 23.12.1991 р. № 360
A144: 99 | B144: Ветьва | C144: заказник | D144: ботанічний | E144: 352 | F144: Олевський р-н, ДП “Олевське ЛГ”, Журжевицьке лісництво, кв. 12, вид. 1, 9, 10, 11, 16, 17; кв. 15, вид. 1, 2, 7, 8, 9, 14, 17, 23, 25; кв. 16, вид. 12-14, 16-26; кв. 17, вид. 8-11, 13-19; кв. 21, вид. 1-4, 6, 7, 8, 10, 16, 20; кв. 22; 28. | G144: ДП “Олевське ЛГ” | H144: Рішення 11 сесії 23 скликання облради від 29.11.2001
A145: 100 | B145: Густі острови | C145: заказник | D145: ботанічний | E145: 1252 | F145: Олевський р-н, ДП “Олевське ЛГ”, Журжевицьке лісництво, кв. 29, вид. 10, 15, 17, 18, 20-30; кв. 35, 36, 41; Руднянське лісництво, кв. 19, 20, 21, 27, 28, 35, 42, 43, 49. | G145: ДП “Олевське ЛГ” | H145: Рішення 11 сесії 23 скликання облради від 29.11.2001
A146: 101 | B146: Давиди | C146: заказник | D146: ботанічний | E146: 85.3 | F146: Володарсько-Волинський р-н, ДП “Володарсько-Волинський лісгосп АПК”, кв. 41; кв.42, вид. 16, 21, 22, 23, 24; кв. 55, вид. 22, 23, 24, 25, 26, 50, 51, 52, 53. | G146: ДП “Володарсько-Волинський лісгосп АПК” | H146: Рішення 11 сесії 23 скликання облради від 29.11.2001
A147: 102 | B147: Діброва | C147: заказник | D147: ботанічний | E147: 698 | F147: Олевський р-н, ДП “Олевське ЛГ”, Руднянське лісництво, кв. 69, 70,77, 82, 84, 85. | G147: ДП “Олевське ЛГ” | H147: Рішення 11 сесії 23 скликання облради від 29.11.2001
A148: 103 | B148: Жовтневе | C148: заказник | D148: ботанічний | E148: 48.2 | F148: Попільнянський р-н, ДП “Попільнянське ЛГ”, Ходорківське лісництво, кв. 86, вид. 16; кв. 87, вид. 7; кв. 95, вид.11; кв. 96, вид. 1, 8. | G148: ДП “Попільнянське ЛГ” | H148: Рішення облвиконкому від 07.03.1991р. №68
A149: 104 | B149: Зажеревська дача | C149: заказник | D149: ботанічний | E149: 170 | F149: Лугинський р-н, ДП “Лугинське ЛГ”, Лугинське лісництво, кв. 96, 97 | G149: ДП “Лугинське ЛГ” | H149: Рішення облвиконкому від 17.09.1979 р. № 398
A150: 105 | B150: Замисло-вицький | C150: заказник | D150: ботанічний | E150: 116 | F150: Олевський р-н, ДП “Білокоровицьке ЛГ”, Поясківське лісництво, кв. 19 | G150: ДП “Білокоровицьке ЛГ” | H150: Рішення облвиконкому від 17.09.1979 р. № 398
A151: 106 | B151: Зелений мох | C151: заказник | D151: ботанічний | E151: 50 | F151: Овруцький р-н, ДП “Словечанське ЛГ” , Велідницьке лісництво, кв. 73, вид. 1, 2, 5, 6, 7, 14, 15; кв. 74, вид. 1, 2, 3, 12, 13, 19 | G151: ДП “Словечанське ЛГ” | H151: Рішення сесії обласної ради XXII скликання від 03.03.1995 р.
... A167: 122 | B167: Тішевки | C167: заказник | D167: ботанічний | E167: 14.5 | F167: Романівський район, ДП «Бердичівське ЛГ», Романівське лісництво, кв. 34, вид. 1 | G167: ДП “Бердичівське ЛГ” | H167: Рішення 23 сесії Житомирської обласної ради п’ятого скликання від 18.03.10 № 1023 «Про утворення об’єкта природно-заповідного фонду місцевого значення» (площа становить 14,0 га). Рішенням XII сесії Житомирської обласної ради VI скликання від 22.11.12 № 718 «Про створення нових і зміну меж існуючих об’єктів природно-заповідного фонду місцевого значення» площу заказника змінено з 14,0 га на 14,5 га
B168: Разом заказників ботанічних | C168: 28 | E168: =SUM(E140:E167) -> 7957.2
A169: 123 | B169: Барвенкове | C169: заказник | D169: загально­зоологічний | E169: 41.9 | F169: Коростенський р-н, ДП “Коростенське ЛМГ”, Ушомирське лісництво, кв. 9, вид. 29; кв. 10, вид. 21, 22, 23, 26. | G169: ДП “Коростенське ЛМГ” | H169: Рішення облвиконкому від 21.01.1982 р. № 26
A170: 124 | B170: Берльоне | C170: заказник | D170: загально­зоологічний | E170: 778 | F170: Олевський р-н, ДП “Олевське ЛГ”, Комсомольське лісництво, кв. 8-13, 15, 17 | G170: ДП “Олевське ЛГ” | H170: Рішення 11 сесії 23 скликання облради від 29.11.2001
A171: 125 | B171: Боброве болото | C171: заказник | D171: загально­зоологічний | E171: 56 | F171: Коростишівський р-н, ДП “Коростишівське ЛГ”, Смолівське лісництво, кв.117, вид. 1-19 | G171: ДП “Коростишівське ЛГ” | H171: Рішення облвиконкому від 07.03.1991 р. № 68
A172: 126 | B172: Довгий брід | C172: заказник | D172: загально­зоологічний | E172: 663 | F172: Романівський р-н, ДП “Бердичівське ЛГ”, Дзержинське лісництво, кв. 17, 18, 19, 20, 21, 22, 23, 24, 39, 40, 41, 42, 43 | G172: ДП “Бердичівське ЛГ” | H172: Рішення 11 сесії 23 скликання облради від 29.11.2001
A173: 127 | B173: Довгий мох | C173: заказник | D173: загально­зоологічний | E173: 85 | F173: Овруцький р-н, ДП “Словечанське ЛГ”, Велідницьке лісництво, кв. 83, вид. 18- 20, 25, 26, 28, 34; кв. 84, вид. 10, 18, 24, 25, 28-30; кв. 85, вид. 24, 31; кв. 89, вид. 4, 19-21. | G173: ДП “Словечанське ЛГ” | H173: Рішення сесії обласної ради XXII скликання від 03.03.1995 р.
A174: 128 | B174: Заболоття | C174: заказник | D174: загально­зоологічний | E174: 3000 | F174: Овруцький р-н, ДП “Словечанський лісгосп АПК”, Бігунське лісництво, кв. 4, 8, 12, 14, 18-20, 24-26, 30, 32, 34, 37, 40-43, 45-52. | G174: ДП “Словечанський лісгосп АПК” | H174: Рішення 14 сесії обласної ради XXIII скликання від 04.07.2000 р.
...

Sheet Закарпатська обл.
A1: Закарпатська область
A2: Перелік територій та об`єктів природно-заповідного фонду загальнодержавного та місцевого значення
A4: № з.п. | B4: Назва території чи об’єкта ПЗФ | C4: Категорія | D4: Тип | E4: Площа, га | F4: Місце розташування території чи об`єкту ПЗФ | G4: Назва установи, підпрємства, організації, землекористувача (землевласника), у віданні якого знаходиться територія чи об’єкт ПЗФ | H4: Рішення, згідно з яким створено (змінено) дану територію чи об’єкт ПЗФ
A8: 1 | B8: 2 | C8: 3 | D8: 4 | E8: 5 | F8: 6 | G8: 7 | H8: 8
A9: Території та об`єкти ПЗФ загальнодержавного значення
A10: 1 | B10: Карпатський | C10: Біосферний заповідник | E10: 58035.8 | F10: Рахівський, Тячівський, Хустський, Виноградівський райони м. Рахів | G10: КБЗ | H10: Укази Президента України від 26.11.1993 р. № 563/93, від 11.04.1997 № 325/97, від 14.01.2010 № 25/2010
B11: Всього біосферних заповідників | C11: 1 | E11: =SUM(E10) -> 58035.8
A12: 1 | B12: “Синевир” | C12: Національний природний парк | E12: 42704 | F12: Міжгірський, Хустський райони | G12: НПП “Синевир”, с. Синевир-Остріки | H12: ПРМ УРСР від 05.01.1989 р. № 7 Указ Президента України від 29.12.2009 р. № 1118/2009
A13: 2 | B13: Ужанський | C13: Національний природний парк | E13: 39159.3 | F13: Великоберезнянський р-н | G13: Ужанський НПП, смт. В. Березний | H13: Указ Президента України від 27.09.1999 року № 1230/99
A14: 3 | B14: “Зачарований край” | C14: Національний природний парк | E14: 6101 | F14: Іршавський р-н | G14: НПП "Зачарований край"” | H14: Указ Президента України від 21.05.2009 року № 343/2009
B15: Всього національних природних парків | C15: 3 | E15: =SUM(E12:E14) -> 87964.3
A16: 1 | B16: “Брадульський” | C16: заказник | D16: Ландшафтний | E16: 1026 | F16: Тячівський р-н, с. Руська Мокра, ДП “Мокрянське ЛМГ”, Брадульське л-во, квартали 1-5 | G16: ДП “Мокрянське ЛМГ” | H16: ПРМ УРСР від 28.10.1974 р. № 500, Ріш.ОВК від 23.10.1984 р. № 253
B17: Разом заказників ландшафтних: | C17: 1 | E17: =SUM(E16) -> 1026
A18: 1 | B18: “Росішний” | C18: заказник | D18: Лісовий | E18: 461 | F18: Воловецький р-н, ДП “Воловецьке ЛГ”, Нижньоволовецьке л-во квартали 19, 24, 25 | G18: ДП “Воловецьке ЛГ” | H18: Ріш. ОВК від 25.07.1972 р. № 243, ПРМ УРСР від 28.10.1974 р. № 500, Ріш.ОВК від 23.10.1984 р. № 253
A19: 2 | B19: “Діброва” | C19: заказник | D19: Лісовий | E19: 712 | F19: Рахівський р-н, ДП “Великобичківське ЛМГ”, Лужанське л-во, квартали 5-10 | G19: ДП “Великобичківське ЛМГ” | H19: Ріш. ОВК від 25.07.1972 р. № 243, ПРМ УРСР від 28.10.1974 р. № 500, Ріш.ОВК від 23.10.1984 р. № 253
A20: 3 | B20: “Кам’янка” | C20: заказник | D20: Лісовий | E20: 328 | F20: Міжгірський р-н, ДП “Міжгірське ЛГ”, Остріцьке л-во, кавартал 15, 6, 9, 10, 11 | G20: НПП “Синевир” | H20: ПРМ УРСР від 12.12.1983 р. № 495, Ріш.ОВК від 23.10.1984 р. № 253 (Увійшов до складу НПП “Синевир”, Постанова РМ УРСР від 5 січня 1989р. №7)
B21: Разом заказників лісових: | C21: 3 | E21: =SUM(E18:E20) -> 1501
A22: 1 | B22: “Чорна гора” | C22: заказник | D22: Ботанічний | E22: 823 | F22: Виноградівський р-н, ДП “Виноградівське ЛГ”, Виноградівське л-во, квартал 16-18, 20-25 | G22: ДП “Виноградівське ЛГ” – 76,0 га | H22: Ріш.ОВК від 18.11.1969 року № 414, Ріш. ОВК від 25.07.1972 р. № 243, ПРМ УРСР від 28.10.1974 р. № 500 (747 га передано до складу КБЗ, Указ Президента від 11.04.1997 р. №325/97)
A23: 2 | B23: “Юлівська гора” | C23: заказник | D23: Ботанічний | E23: 176 | F23: Виноградівський р-н, ДП “Виноградівське ЛГ”, Затисянське л-во, квартал 59, виділ 1-16 | G23: ДП “Виноградівське ЛГ” | H23: Ріш.ОВК від 18.11.1969 року № 414, Ріш. ОВК від 25.07.1972 р. № 243, ПРМ УРСР від 28.10.1974 р. № 500 (Передано до складу КБЗ б/в, Указ Президента від 11.04.1997 р. № 325/97)
A24: 3 | B24: "Урочища Затінки і Тересянка” | C24: заказник | D24: Ботанічний | E24: 13 | F24: Рахівський р-н, ДП „Рахівське ЛДГ”, Квасівське л-во, квартал 8, виділ 22, квартал 10, виділ 8, 9, 18, 19 | G24: ДП „Рахівське ЛДГ” | H24: ПРМ УРСР від 28.10.1974 р. № 500, ПРМ УРСР від 03.08.1978 р. №383, Ріш.ОВК від 23.10.1984 р. № 253 (Передано до складу КБЗ б/в Указ Президента.від 11. 04.1997 р. .№ 325/97)
A25: 4 | B25: “Гладинський” | C25: заказник | D25: Ботанічний | E25: 130 | F25: Тячівський р-н, ДП “Брустурянське ЛМГ”, Турбатське л-во, урочище “Чортів” квартал 23, виділ 1-24, 26-33 | G25: ДП “Брустурянське ЛМГ” | H25: ПРМ УРСР від 28.10.1974 р. № 500, Ріш.ОВК від 23.10.1984 р. № 253
A26: 5 | B26: “Горгани і Тавпіширка” | C26: заказник | D26: Ботанічний | E26: 248 | F26: Тячівський р-н, ДП “Брустурянське ЛМГ”, Плайське л-во, квартал 2, виділи 7, 21-25, 27-32, квартал 4, виділи 2, 4, 5-15, 21, 22, 25, 27, 28, квартал 5, виділи 2-5, 8, 9, 16, 17, 29 | G26: ДП “Брустурянське ЛМГ” | H26: Ріш. ОВК від 25.07.1972 р. № 243, ПРМ УРСР від 28.10.1974 р. № 500 Ріш.ОВК від 23.10.1984 р. № 253
A27: 6 | B27: “Кедринський” | C27: заказник | D27: Ботанічний | E27: 166 | F27: Тячівський р-н, ДП “Брустурянське ЛМГ”, Кедринське л-во, квартал 9, виділ 1-8, 10-24, 27, 30, 31, 36-40, 42-48 | G27: ДП “Брустурянське ЛМГ” | H27: Ріш. ОВК від 25.07.1972 р. № 243, ПРМ УРСР від 28.10.1974 р. № 500, Ріш.ОВК від 23.10.1984 р. № 253
A28: 7 | B28: “Керничний” | C28: заказник | D28: Ботанічний | E28: 107 | F28: Тячівський р-н, ДП “Мокрянське ЛМГ”, Мокрянське л-во, квартал 3, виділ 2-5 | G28: ДП “Мокрянське ЛМГ” | H28: ПРМ УРСР від 12.12.1983 р. № 495, Ріш.ОВК від 23.10.1984 р. № 253,
A29: 8 | B29: "Урочища Странзул, Задня, Кедрин” | C29: заказник | D29: Ботанічний | E29: 510 | F29: Тячівський р-н, ДП “Мокрянське ЛМГ”, Брадульське л-во, квартал 6 (виділ 1-27, 35), квартал 29 (виділ 30, 35-44), квартал 30 (9-27), квартал 31 (виділ 1-22), квартал 32 (виділ 4, 12, 13, 33-37) (500,0 га) ДП “Брустурянське ЛМГ”, Плайське л-во, квартал 2, виділ 10, 11 (10,0 га) | G29: ДП “Мокрянське ЛМГ” ДП “Брустурянське ЛМГ” | H29: ПРМ УРСР від 28.10.1974 р. № 500, ПРМ УРСР від 03.08.1978 р. № 383 Ріш.ОВК від 23.10.1984 р. № 253
A30: . | B30: Разом заказників ботаніччних: | C30: 8 | E30: =SUM(E22:E29) -> 2173
A31: 1 | B31: “Річанський” | C31: заказник | D31: Загальнозоо-логічний | E31: 2408 | F31: Іршавський р-н, ДП “Довжанське ЛМГ”, Річанське л-во, квартал 16-20, квартал 25-27, квартал 30-35, квартал 11, виділ 10-15 | G31: ДП “Довжанське ЛМГ” | H31: ПРМ УРСР від 26.12.1985 р. № 451
A32: 2 | B32: “Тур´є-Полянський” | C32: заказник | D32: Загальнозоо-логічний | E32: 2163 | F32: Перечинський р-н, ДП “Перечинське ЛГ”, л-во Шипот, квартал 55-75 | G32: ДП “Перечинське ЛГ” | H32: ПРМ УРСР від 26.12.1985 р. № 451
A33: 3 | B33: “Великодоброньський” | C33: заказник | D33: Загальнозоо-логічний | E33: 1736 | F33: Ужгородський, Мукачівський р-ни, ДП “Ужгородське ЛГ”, Великодобронське л-во, квартал 1-24 | G33: ДП “Ужгородське ЛГ” | H33: Ріш. ОВК від 25.07.1972 р. № 243, ПРМ УРСР від 28.10.1974 р. № 500, Ріш.ОВК від 23.10.1984 р. № 253, (входить до складу РЛП "Притисянський")
A34: 4 | B34: „Потік Оса” | C34: заказник | D34: Загально-зоологічний | E34: 500 | F34: Воловецький р-н, ДП “Воловецьке ЛГ”, Нижньоволовецьке л-во, квартал 8, 9, 12, 13, 15 ,16, 21 | G34: ДП “Воловецьке ЛГ” | H34: Указ Президента України від 09.12.1998 р. № 1341/98
B35: Разом заказників загально-зоологічних | C35: 4 | E35: =SUM(E31:E34) -> 6807
A36: 1 | B36: “Соколові скелі” | C36: заказник | D36: Орнітологічний | E36: 606 | F36: Перечинський р-н, ДП “Перечинське ЛГ”. л-во Шипот, квартал 13, (виділ 1-9), квартал 14, квартал 15 (виділ 1-12), квартал 16, квартал 25, (виділ 1-7), квартал 27, (виділ 1-15) | G36: ДП ,,Перечинське ЛГ” | H36: ПРМ УРСР від 28.10.1974 р. № 500, ПРМ УРСР від 03.08.1978 р. № 383 Ріш.ОВК від 23.10.1984 р. № 253
B37: Разом: заказників орнітологічних | C37: 1 | E37: =SUM(E36) -> 606
A38: 1 | B38: “Апшинецький” | C38: заказник | D38: Гідрологічний | E38: 105 | F38: Рахівський р-н, ДП “Ясінянське ЛМГ”, Чорнотисянське л-во, квартал 1, виділ 1, 2, 5, 9-12, 18-21 | G38: ДП “Ясінянське ЛМГ” | H38: Ріш. ОВК від 25.07.1972 р. № 243, ПРМ УРСР від 28.10.1974 р. № 500, Ріш.ОВК від 23.10.1984 р. № 253
B39: Разом: заказників гідрологічних | C39: 1 | E39: =SUM(E38) -> 105
A40: 1 | B40: “Зачарована долина” | C40: заказник | D40: Геологічний | E40: 150 | F40: Іршавський р-н, ДП “Загатянське ЛГ”, Ільницьке л-во, квартал 16, виділ 1-4, 7, 12, 15, 19, 20, 26-31, квартал 17, виділ 1-5, 7-12, 16, 17, 25 | G40: НПП "Зачарований край" | H40: Ріш. ОВК від 25.07.1972 р. № 243, ПРМ УРСР від 28.10.1974 р. № 500, ПРМ УРСР від 03.08.1978 р. № 383, Ріш.ОВК від 23.10.1984 р. № 253, (входить до складу НПП "Зачарований край" з вилученням)
B41: Разом: | C41: 1 | E41: =SUM(E40) -> 150
B42: Всього заказників загальнодержавного значення | C42: =C41+C39+C37+C35+C30+C21+C17 -> 19 | E42: =E41+E39+E37+E35+E30+E21+E17 -> 12368
A43: 1 | B43: “Гора Високий камінь” | C43: пам`ятка природи | D43: Комплексна | E43: 22 | F43: Воловецький р-н, ДП “Воловецьке ЛГ”, Підполозське л-во квартал 14 виділ 2, 3, Нижньоворітське л-во квартал 13 виділ 6, 7, 10, 11 | G43: ДП “Воловецьке ЛГ” | H43: Ріш. ОВК від 25.07.1972 р. № 243, Розп. РМ УРСР від 14.10.1975 № 780–р, Ріш.ОВК від 23.10.1984 р. № 253
B44: Разом: | C44: 1 | E44: =SUM(E43) -> 22
A45: 1 | B45: “Гора Яворник” | C45: пам`ятка природи | D45: Ботанічна | E45: 100 | F45: Великоберезнянський р-н, ДП “В.Березнянське ЛГ”, Костринське л-во, квартал 16, виділ 11, 12, 15, 17, 25, 26, 29, 31, 33 | G45: ДП “В.Березнянське ЛГ” | H45: Розп. РМ УРСР від 14.10.1975 № 780–р, Ріш ОВК від 23.10.1984 р. № 253 (Увійшла до складу НПП “Ужанський”, Указ Презид. від 27.09.1999 р.№ 1230/99)
A46: 2 | B46: "Урочище Тепла яма” | C46: пам`ятка природи | D46: Ботанічна | E46: 93 | F46: Ужгородський р-н, ДП “Ужгородське ЛГ”, Кам'яницьке л-во, квартал 23, виділ 1, 3, квартал 24, виділ 1, 3, 4 | G46: ДП “Ужгородське ЛГ” | H46: Ріш. ОВК від 25.07.1972 р. № 243, Розп. РМ УРСР від 14.10.1975 № 780–р, Ріш.ОВК від 23.10.1984 р. № 253
A47: 3 | B47: "Урочище "Довгий потік" | C47: пам`ятка природи | D47: Ботанічна | E47: 75 | F47: Рахівський р-н, ДП “Великобичківське ЛМГ”, Кузій-Свидовецьке л-во, урочище “Соколово”, квартал 17, виділ 13, Трибушанське л-во, квартал 17, 19 | G47: ДП “Великобичківське ЛМГ, 21,0 га | H47: Ріш. ОВК від 25.07.1972 р. № 243, Розп. РМ УРСР від 14.10.1975 № 780–р, Ріш ОВК від 23.10.1984 р. № 253 (54,0 га увійши до складу КБЗ з вилученням, 21,0 га - без вилучення)
A48: 4 | B48: “Скелі Близниці” | C48: пам`ятка природи | D48: Ботанічна | E48: 30 | F48: Рахівський р-н, ДП “Великобичківське ЛМГ”, Кевелівське л-во, урочище “Свидовець”, квартал 1, виділ 27, 28, 37, 38, 42, 46 | G48: КБЗ | H48: Ріш. ОВК від 25.07.1972 р. № 243, Розп. РМ УРСР від 14.10.1975 № 780–р, Ріш ОВК від 23.10.1984 р. № 253 (Увійшла до складу КБЗ з вилученням, Указ Президента від 11.04.1997 р. № 325/97 )
A49: 5 | B49: „Березовий гай” | C49: пам`ятка природи | D49: Ботанічна | E49: 35 | F49: Міжгірський р-н, ДП “Міжгірське ЛГ”, Верхньобистрянське л-во, квартал 26, виділ 9, 12, 13 | G49: ДП “Міжгірське ЛГ” | H49: Ріш. ОВК від 25.07.1972 р. № 243, Розп. РМ УРСР від 14.10.1975 № 780–р, Ріш ОВК від 23.10.1984 р. № 253
A50: 6 | B50: “Атак” | C50: пам`ятка природи | D50: Ботанічна | E50: 52 | F50: Берегівський р-н, ДП “Берегівське ЛГ”, Боржавське л-во, квартал 21, виділ 2, 7, 14 | G50: ДП “Берегівське ЛГ” | H50: Ріш. ОВК від 25.07.1972 р. № 243, Розп. РМ УРСР від 14.10.1975 № 780–р, Ріш ОВК від 23.10.1984 р. № 253, входить до складу РЛП "Притисянський"
A51: 7 | B51: “Голятин” | C51: пам`ятка природи | D51: Ботанічна | E51: 42 | F51: Міжгірський р-н, ДП “Міжгірське ЛГ”, Ізківське л-во, квартал 9, виділ 39,41,42,44 | G51: ДП “Міжгірське ЛГ”” | H51: Ріш. ОВК від 25.07.1972 р. № 243, Розп. РМ УРСР від 14.10.1975 № 780–р, Ріш ОВК від 23.10.1984 р. № 253,
B52: Разом пам`яток природи ботанічних | C52: 7 | E52: =SUM(E45:E51) -> 427
A53: 1 | B53: "Болото Чорне багно" ("Чорні багна") | D53: Гідрологічна | E53: 15 | F53: Іршавський р-н, | G53: НПП "Зачарований край" ДП “Загатянське ЛГ”, Ільницьке л-во, квартал 1, виділ 28, квартал 2, виділ 21 | H53: Ріш.ОВК від 18.11.1969 року № 414, Ріш. ОВК від 25.07.1972 р. № 243, Розп. РМ УРСР від 14.10.1975 № 780–р, Ріш ОВК від 23.10.1984 р. № 253 (знаходиться у НПП "Зачарований край", з вилученням)
B54: Разом пам`яток природи гідрологічних: | C54: 1 | E54: =SUM(E53) -> 15
B55: Всього пам'яток природи загальнодержавного значення | C55: =C54+C52+C44 -> 9 | E55: =E54+E52+E44 -> 464
A56: 1 | B56: "Ботанічний сад Ужгородського державного університету" ("Ботанічний сад УжНУ") | C56: ботанічний сад | E56: 86.414 | F56: м. Ужгород, вул, Ольбрахта 6, вул, Тімірязева | G56: УжНУ | H56: ПРМ УРСР від 22.07.1983 р. № 31, Ріш ОВК від 23.10.1984 р. № 253
B57: Всього ботанічних садів загальнодержавного значення: | C57: 1 | E57: =SUM(E56) -> 86.414
A58: 1 | B58: "Парк санаторію "Карпати" | C58: парк-пам`ятка садово-паркового мистецтва | E58: 38 | F58: Мукачівський р-н урочище “Берегвар” | G58: Санаторій “Карпати” | H58: ПРМ УРСР від 29.01.1960 р. № 105, Ріш ОВК від 23.10.1984 р. № 253, Постанова ДКУРСР від 30.08.1990 № 18
B59: Всього парків-пам`яток садово-паркового мистецтва загальнодержавного значення | C59: 1 | E59: =SUM(E58) -> 38
B60: Всього територій та об`єктів ПЗФ загальнодержавного значення | C60: =C59+C57+C55+C42+C15+C11 -> 34 | E60: =E59+E57+E55+E42+E15+E11 -> 158956.51
A61: Території та об`єкти місцевого значення
A62: 1 | B62: РЛП “ Притисянський ” | C62: Регіональний ландшафтний парк | E62: 10330.66 | F62: Берегівський р-н, ДП “Берегівське ЛГ”, Боржавське л-во, квартал 21 (виділ 1, 3-6, 8-13), квартал 24 (виділ 1-10), квартал 26 (виділ 8-15), квартал 28 (виділ 14-23), землі запасу Нижньореметівської сільської ради (разом у Берегівському районі – 300,3 га), Виноградівський р-н, ДП “Виноградівське ЛГ”, Шаланківське л-во, квартал 1 (виділ 1-10), квартал 4 (виділ 1-9), квартал 7 (виділ 1-7), квартал 11 (виділ 1-7, 32, 33), квартал 14 (виділ 1-11), землі запасу Великокопанської с.р., Малокопанської с.р. Пийтерфолвівської с.р., Веряцької с.р., Королівської с.р. Тееківської с.р. Сасівської с.р., Чорнотисівської с.р., Виноградівської м.р., Чепівської с.р., Дротинівської с.р., Фанчиківської с.р., Новосільської с.р., Вилоцької смт.р. (разом у Виноградівському районі – 4839,28 га) Мукачівський р-н, Ужгородський р-н, ДП “Ужгородське ЛГ”, Великодобронське л-во, квартал 1-24 | G62: Відповідно до дотатків рішення обласної ради від 07.08.2009 р. № 908 | H62: Рішення обласної ради від 07.08.2009 р. № 908
A63: 2 | B63: "Синяк" | C63: Регіональний ландшафтний парк | E63: 4631.2958 | F63: Мукачівський р-н, с. Синяк | G63: ДП "Мукачівське ДЛГ" (303,6614 га – з вилученням, 4253,6686 га – без вилучення), Мукачівська РДА (46,3386 га лісів і земель запасу Чинадіївської селищної ради – з вилученням, 27, 6232 га – без вилучення), Центр сприяння розвитку туризму "Синяк" | H63: Рішення обласної ради від 26 травня 2011 року № 229
B64: Всього регіональних ландшафтних парків | C64: 2 | E64: =SUM(E62:E63) -> 14961.956
A65: 1 | B65: “Грабовець” | C65: заказник | D65: Ландшафтний | E65: 188.6 | F65: Міжгірський р-н ДП “Міжгірське ЛГ”, Майданське л-во, урочище Грабовець, квартали 18, 21 | G65: ДП “Міжгірське ЛГ” | H65: Ріш.ОВК від 07.03.1990 р. № 55
A66: 2 | B66: “Остра” | C66: заказник | D66: Ландшафтний | E66: 20 | F66: Ужгородський р-н с. Кам`яниця, | G66: Кам`яницька сільська рада | H66: Ріш.облради від 13.07.2012 р. № 523
B67: Разом заказників ландшафтних | C67: 2 | E67: =SUM(E65:E66) -> 208.6
A68: 1 | B68: “Тихий” | C68: заказник | D68: Лісовий | E68: 25 | F68: Великоберезнянський р-н, ДП “В.Березнянське ЛГ”, Волосянківське л-во, урочище “Тихий”. квартал 19, виділ 19 | G68: ДП “В.Березнянське ЛГ” | H68: Ріш.ОВК від 18.11.1969 року № 414, Ріш.ОВК від 25.07.1972 р. № 243, Ріш.ОВК від 23.10.1984 р. № 253 (Увійшов до складу Ужанського НПП без вилучення площі, Указ Презид. від 27.09.1999 р.№ 1230/99)
A69: 2 | B69: “Дубова” | C69: заказник | D69: Лісовий | E69: 3.1 | F69: Великоберезнянський р-н, ДП “В.Березнянське ЛГ”, Костринське л-во, квартал 1, виділ 18 | G69: ДП “В.Березнянське ЛГ” | H69: Ріш.ОВК від 18.11.1969 року № 414 (3,1 га), Ріш.ОВК від 25.07.1972 р. № 243 (18,0 га), Ріш.ОВК від 23.10.1984 р. № 253 (Увійшов до складу Ужанського НПП Указ Презид. від 27.09.1999 р.№ 1230/99)
A70: 3 | B70: “Уличанка” | C70: заказник | D70: Лісовий | E70: 9.6 | F70: Великоберезнянський р-н, ДП “В. Березнянське ЛГ”, Костринське л-во, квартал 11, виділ 18, 19, 30 | G70: Ужанський НПП | H70: Ріш.ОВК від 18.11.1969 року № 414, Ріш.ОВК від 25.07.1972 р. № 243 (10,0 га), Рішення ОВК від 23.10.1984 р. № 253 (Увійшов до складу Ужанського НПП Указ Презид. від 27.09.1999 р.№ 1230/99)
A71: 4 | B71: “Остра” | C71: заказник | D71: Лісовий | E71: 6.8 | F71: Мукачівський р-н, ДП “Мукачівське ЛГ”, Чинадіївське л-во, квартал 19, виділ 10 | G71: ДП “Мукачівське ЛГ” | H71: Ріш.ОВК від 18.11.1969 року № 414, Ріш.ОВК від 25.07.1972 р. № 243 (7,0 га), Ріш.ОВК від 23.10.1984 р. № 253
A72: 5 | B72: “Красна долина” | C72: заказник | D72: Лісовий | E72: 218.8 | F72: Свалявський р-н, ДП “Свалявське ЛГ”, Ганьковецьке л-во, квартал 17, виділ 15, квартал 18. виділ 7, квартал 20, виділ 3-6, 8, 18, квартал 21 виділ 14 | G72: ДП “Свалявське ЛГ” | H72: Ріш.ОВК від 07.03.1990 р. № 55 (50,0 га), Ріш. 12 сесії 21 склик. облради від 31.05.1993
A73: 6 | B73: “Пинава” | C73: заказник | D73: Лісовий | E73: 30 | F73: Свалявський р-н, ДП “Свалявське ЛГ”, Ганьковецьке л-во, квартал 25, виділ 28, квартал 21, виділ 14 | G73: ДП “Свалявське ЛГ” | H73: Ріш.ОВК від 18.11.1969 року № 414, Ріш.ОВК від 25.07.1972 р. № 243, Ріш.ОВК від 23.10.1984 р. № 253
A74: 7 | B74: “Веймутова сосна” | C74: заказник | D74: Лісовий | E74: 5 | F74: Рахівський р-н, ДП “Великлбичківське ЛМГ”, Діловецьке л-во, квартал 7, виділи 24-26 | G74: ДП “Великлбичківське ЛМГ” | H74: Ріш.ОВК від 18.11.1969 року № 414, Ріш.ОВК від 23.10.1984 р. № 253 (Увійшов до складу КБЗ, Указ Президента від 11.04.1997 р. № 325/97 )
A75: 8 | B75: “Радянські Карпати” | C75: заказник | D75: Лісовий | E75: 648.9 | F75: Рахівський р-н, ДП “Ясінянське ЛМГ”, Лазещинське л-во, квартал 9, 17, 18, 26, 22, 25, Лопушанське л-во, квартал 1, 11, 12, 19, Чорнотисянське л-во, квартал 11, 12, 2, 3, Довжанське л-во, квартал 17, 19,15, 12, Свидовецьке л-во, квартал 7, 12, 14, Станіславське л-во, квартал 20, | G75: ДП “Ясінянське ЛМГ” – 574,9 га | H75: Ріш.ОВК від 07.03.1990 р. № 55, (74,0 га увійшли до складу КБЗ з вилученням, Указ Президента від 11.04.1997 р. № 325/97 )
A76: 9 | B76: “Явірник” | C76: заказник | D76: Лісовий | E76: 37.4 | F76: Тячівський р-н, ДП “Брустурянське ЛМГ”, Кедринське л-во, квартал 6, виділ 25, 26, 28, 29, 30, квартал 10, виділ 11, 38 | G76: ДП “Брустурянське ЛМГ” | H76: Ріш. ОВК від 25.07.1972 р. № 243, Ріш. ОВК від 18.10.1983 № 270, Ріш.ОВК від 23.10.1984 р. № 253
A77: 10 | B77: “Дугласова ялиця” | C77: заказник | D77: Лісовий | E77: 10 | F77: Перечинський р-н, ДП “Перечинське ЛГ”, Тур'я-Реметівське л-во. квартал 5, виділ 8, 13, 15 | G77: ДП “Перечинське ЛГ” | H77: Ріш. ОВК від 25.07.1972 р. № 243 ("Дугласова смерека"), Ріш.ОВК від 23.10.1984 р. № 253, (знаходиться на території заповідного урочища місцевого значення "Розтоки")
A78: 11 | B78: “Анталівська поляна” | C78: заказник | D78: Лісовий | E78: 193.1 | F78: Ужгородський р-н, Ужгородське військове лісництво, квартал 43 (виділ 1, 2) квартал 44 (виділ 1), квартал 3 (виділ 17), квартал 8 (виділ 6), квартал 9 (виділ 8-11), квартал 14 (виділ 3), квартал 39 (виділ 1, 8), квартал 8 (виділ 3, 4) | G78: Ужгородське військове лісництво | H78: Ріш.ОВК від 18.11.1969 року № 414, Ріш. ОВК від 25.07.1972 р. № 243
A79: 12 | B79: “Темнатик” | C79: заказник | D79: Лісовий | E79: 1215 | F79: Воловецький р-н, ДП “Воловецьке ЛГ”, Верхньоволовецьке л-во, квартал 13 (виділ 10, 9), квартал 14 (виділ 12-14), квартал15 (виділ 50-52, 54 (1), 55, 57),квартал 20 (виділ 23, 41, 43, 44), квартал 21 (виділ 1-10), квартал 22 (виділ 1-14 (1), 15 (1), 16, 17, 19-22, квартал 23 (виділ 17, 24-26, 32, 33, 35, 38, 39), квартал 24 (виділ 20, 22, 28-33), квартал 25 (виділ 1-32), квартал 26 (виділ 1-43), квартал 27 (виділ 1-56), квартал 28 (виділ 1-28) | G79: ДП “Воловецьке ЛГ” | H79: Рішення обласної ради від 24.04.2009 р. № 846
... A81: 14 | B81: "Привододільний" | C81: заказник | D81: Лісовий | E81: 722 | F81: Воловецький р-н, ДП «Воловецьке ЛГ», Пашківське лісництво, квартали 1(188,0 га), 2 (95 га), 3 (128,0 га), 4 (165,0 га), 17 (146,0 га) | G81: ДП «Воловецьке ЛГ» | H81: Рішення обласної ради від 16 листопада 2012 року № 553
B82: Разом заказників лісових | C82: 14 | E82: =SUM(E68:E81) -> 3199.1159
A83: 1 | B83: “Голаня” | C83: заказник | D83: Ботанічний | E83: 89.4 | F83: Великоберезнянський р-н, ДП “Великоберезнянське ЛГ”, Жорнавське л-во, квартал 9, виділ 27, квартал 10, виділ 51, 58, 59, 61, 64, 65 | G83: Ужанський НПП | H83: Ріш.ОВК від 07.03.1990 р. № 55, (Увійшов до складу Ужанського НПП Указ Презид. від 27.09.1999 р. № 1230/99)
A84: 2 | B84: “Ерташі” | C84: заказник | D84: Ботанічний | E84: 2.1 | F84: Великоберезнянський р-н, ДП “В, Березнянське ЛГ”, Ставненське л-во, квартал 12, виділ 33, 37 | G84: Ужанський НПП | H84: Ріш.ОВК від 07.03.1990 р. № 55 (Увійшов до складу Ужанського НПП Указ Презид. від 27.09.1999 р.№ 1230/99)
A85: 3 | B85: “Пасіки” | C85: заказник | D85: Ботанічний | E85: 1.2 | F85: Великоберезнянський р-н, околиці с. Забрідь | G85: Солянська сільська рада | H85: Ріш.ОВК від 07.03.1990 р. № 55 (Увійшов до складу Ужанського НПП Указ Презид. від 27.09.1999 р.№ 1230/99)
A86: 4 | B86: “Пікуй” | C86: заказник | D86: Ботанічний | E86: 425.3 | F86: Воловецький р-н, ДП “Воловецьке ЛГ”, Пашківське л-во квартал 20, Нижньоворітське квартал 2, 5, Підполозьське л-во квартал 6 | G86: ДП “Воловецьке ЛГ” | H86: Рішення ОВК від 07.03.1990 р. № 55
A87: 5 | B87: “Голиця” | C87: заказник | D87: Ботанічний | E87: 79.5 | F87: Воловецький р-н, смт. Нижні Ворота, урочище Голиця (31,5 га), урочище Межипоточини (48,0 га) | G87: Гірсько–Карпатська дослідна станція | H87: Рішення ОВК від 07.03.1990 р. № 55
A88: 6 | B88: “Млаки” | C88: заказник | D88: Ботанічний | E88: 58 | F88: Рахівський р-н, с. Видричка | G88: Видричанська сільська рада | H88: Ріш.ОВК від 07.03.1990 р. № 55
A89: 7 | B89: “Церлянка” | C89: заказник | D89: Ботанічний | E89: 5 | F89: Рахівський р-н, с. Видричка | G89: Видричанська сільська рада | H89: Ріш.ОВК від 07.03.1990 р. № 55
A90: 8 | B90: “Говерлянка” | C90: заказник | D90: Ботанічний | E90: 2.5 | F90: Рахівський р-н, ДП “Рахівське ЛДГ”, Білотисянське л-во, квартал 21, виділ 23, урочище Говерлянка | G90: ДП “Рахівське ЛДГ” | H90: Ріш.ОВК від 07.03.1990 р. № 55
A91: 9 | B91: “Станислав” | C91: заказник | D91: Ботанічний | E91: 5.3 | F91: Рахівський р-н, ДП “Ясінянське ЛМГ”, Станиславське лісництво, квартал 18, виділи 9, 10, квартал 19, виділ 12, урочище Станислав | G91: ДП “Ясінянське ЛМГ” | H91: Ріш.ОВК від 07.03.1990 р. № 55
A92: 10 | B92: “Арніка” | C92: заказник | D92: Ботанічний | E92: 9.5 | F92: Рахівський р-н, ДП “Великобичківське ЛМГ”, л-во ім. Томащука, квартал 23, виділ 40 | G92: ДП “Великобичківське ЛМГ” | H92: Ріш.ОВК від 18.10.1983 р. № 270, Ріш.ОВК від 23.10.1984 р. № 253
A93: 11 | B93: “Аршична” | C93: заказник | D93: Ботанічний | E93: 24.5 | F93: Тячівський р-н, ДП “Брустурянське ЛМГ”, Кедринське л-во, квартал 5, виділ 22, квартал 9, виділ 25, квартал 10, виділ 1 | G93: ДП “Брустурянське ЛМГ” | H93: Ріш.ОВК від 18.10.1983 р. № 270, Ріш.ОВК від 23.10.1984 р. № 253
A94: 12 | B94: “Бертяник” | C94: заказник | D94: Ботанічний | E94: 53.5 | F94: Тячівський р-н, ДП “Брустурянське ЛМГ”, Плайське л-во, квартал 45, виділи 11, 13 | G94: ДП “Брустурянське ЛМГ” | H94: Ріш.ОВК від 18.10.1983 р. № 270, Ріш.ОВК від 23.10.1984 р. № 253
... A103: 21 | B103: "Егреш" | C103: заказник | D103: Ботанічний | E103: 37.4 | F103: Виноградівський р-н, ДП "Виноградівське ЛГ", Виноградівське л-во, квартал 52, виділи 1, 2, урочище Егреш | G103: ДП "Виноградівське ЛГ" | H103: Рішення обласної ради від 08.07.2010 № 1143
B104: Разом заказників ботанічних: | C104: 21 | E104: =SUM(E83:E103) -> 1176.6
A105: 1 | B105: “Гать” | C105: заказник | D105: Зоологічний | E105: 75 | F105: Іршавський р-н, ДП “Загатянське ЛГ”, Загатянське л-во, квартал 2, виділ 1, 3, 4, 7, 10-13 | G105: ДП “Загатянське ЛГ” | H105: Ріш. ОВК від 25.07.1972 р. № 243, Ріш.ОВК від 23.10.1984 р. № 253
B106: Разом заказників зоологічних | C106: 1 | E106: =SUM(E105) -> 75
A107: 1 | B107: “Товар” | C107: заказник | D107: Орнітологічний сезонний | E107: 49.9 | F107: Берегівський р-н, с. Дийда | G107: Дийдянська сільська рада | H107: Ріш. облради від 11.01.2002 р. № 377
B108: Разом заказників орнітологічних: | C108: 1 | E108: =SUM(E107) -> 49.9
A109: 1 | B109: "Жорнина" | C109: заказник | D109: Ентомологічний тимчасовий на 15 років | E109: 9.8 | F109: Мукачівський р-н, ДП "Мукачівське ЛГ", кв. 15, виділи 9, 10 | G109: ДП "Мукачівське ЛГ" | H109: Рішення обласної ради від 12 серпня 2011 року № 265
B110: Разом заказників ентомологічних | C110: 1 | E110: =SUM(E109) -> 9.8
A111: 1 | B111: “Ріка” | C111: заказник | D111: Іхтіологічний | E111: 394 | F111: Іршавський р-н, ДП “Довжанське ЛМГ”, Річанське л-во, квартал 28, виділи 1-15, квартал 29, виділи 1-7 | G111: ДП “Довжанське ЛМГ” | H111: Ріш. ОВК від 25.07.1972 р. № 243, Ріш. ОВК від 18.10.1983 р. № 270 Ріш ОВК від 23.10.1984 р. № 253 (Знаходиться на території загальнозоологічного заказника загальнодержавного значення “Річанський”)
A112: 2 | B112: “Усть-Чорна” | C112: заказник | D112: Іхтіологічний | E112: 13 км | F112: Тячівський р-н, ДП “Мокрянське ЛМГ”, Усть-Чорнянське л-во, квартал 9, Тиховецьке л-во, квартал 12 | G112: ДП “Мокрянське ЛМГ” | H112: Ріш. ОВК від 07.03.1990 р. № 55
A113: 3 | B113: “Кантина” | C113: заказник | D113: Іхтіологічний | E113: 25 | F113: Міжгірський р-н, ДП “Міжгірське ЛГ”, Синевирське л-во, квартал 13 | G113: НПП “Синевир” | H113: Ріш. ОВК від 25.07.1972 р. № 243, Ріш. ОВК від 23.10.1984 р. № 253 (Увійшов до складу НПП “Синевир” ПРМ УРСР від 05. 01. 1989 р)
...

Sheet Запорізька обл.
A1: Запорізька область
A2: Перелік територій та об`єктів природно-заповідного фонду загальнодержавного та місцевого значення
A4: № з.п. | B4: Назва території чи об’єкта ПЗФ | C4: Категорія | D4: Тип | E4: Площа, га | F4: Місце розташування території чи об`єкту ПЗФ | G4: Назва установи, підпрємства, організації, землекористувача (землевласника), у віданні якого знаходиться територія чи об’єкт ПЗФ | H4: Рішення, згідно з яким створено (змінено) дану територію чи об’єкт ПЗФ
A8: 1 | B8: 2 | C8: 3 | D8: 4 | E8: 5 | F8: 6 | G8: 7 | H8: 8
A9: Території та об`єкти ПЗФ загальнодержавного значення
A10: 1. | B10: «Кам’яні могили» (частина ПЗ Український степовий – Донецька обл.) | C10: природний заповідни | E10: 100 | F10: Куйбишевський р-н, Шевченківська сільська рада, по кордону з Донецькою областю | G10: Академія наук України | H10: Постанова Ради Міністрів України від 08.05.1964р. №451
B11: Всього природних заповідників | C11: 0 | E11: =SUM(E10:E10) -> 100
A12: 1 | B12: «Великий Луг» | C12: національний природний парк | E12: 16756 | F12: Василівський район, м. Дніпрорудне, с. Скельки, Маячка, акваторія Каховського водосховища | G12: Адміністрація НПП | H12: Указ Президента України від 10.08.2006 № 121/2006
A13: 2 | B13: «Приазовський національний природний парк» | C13: національний природний парк | E13: 78126.92 | F13: Бердянський, Мелітопольський, Приазовський райони, міста Бердянськ та Мелітополь | G13: Адміністрація НПП | H13: Указ Президента України від 10.02.2010 №154/2010
B14: Всього національних природних парків | C14: 2 | E14: =SUM(E12:E13) -> 94882.92
A15: 1 | B15: «Молочний лиман» | C15: заказник | D15: гідрологічний | E15: 19000 | F15: Якимівський, Мелітопольський, Приазовський райони | G15: Райдержадміністрації відповідних районів | H15: Постанова Ради МіністрівУкраїни від 28.10.1974р. №500 повністю увійшов до складу Приазовського НПП
A16: 1 | B16: Разом заказників гідрологічних | C16: 1 | E16: =SUM(E15) -> 19000
A17: 1 | B17: «Дніпровські пороги» | C17: заказник | D17: загальногеологічний | E17: 1383 | F17: м. Запоріжжя, о.Хортиця, о.Байда та скелі посеред р.Дніпро | G17: Національний заповідник «Хортиця» | H17: Постанова Ради МіністрівУкраїни від 28.10.1974р. №500
B18: Разом заказників загальногеологічних | C18: 1 | E18: =SUM(E17) -> 1383
A19: 1 | B19: «Алтагірський» | C19: заказник | D19: загальнозоологічний | E19: 950 | F19: Якимівський р-н, околиця с.Радивонівка, Богатирське лісництво, кв. від 1 до 117, без кв. 33, 40, 47, 54, 61 | G19: ДП «Мелітопольське лісомисливське господарство» | H19: Постанова Ради МіністрівУкраїни від 28.10.1974р. №500
A20: 1 | B20: Разом заказників загальнозоологічних | C20: 1 | E20: =SUM(E19) -> 950
A21: 1 | B21: «Старобердянський» | C21: заказник | D21: ландшафтний | E21: 993 | F21: Мелітопольський р-н с.НовоПилипівка по лівому березі р.Молочна | G21: ДП «Мелітопольське лісомисливське господарство» | H21: Ради МіністрівУкраїни від 28.10.1974р. №500, Рішення Запорізької облради від 25.07.1989 № 205 (зміна площі)
A22: 2 | B22: «Заплава р.Берда» | C22: заказник | D22: ландшафтний | E22: 1416.9 | F22: Бердянська міська рада - 564,6 га, ДП «Бердянське лісове господарство» - 620 га, Нововасилівська с/р - 232,3 га | G22: Бердянська міська рада, ДП «Бердянське лісове господарство», Нововасилівська с/р | H22: Указ Президента України від 10.12. 1994р. №750/94 частково увійшов до складу Приазовського НПП
A23: 3 | B23: «Сівашик» | C23: заказник | D23: ландшафтний | E23: 2800 | F23: Якимівський р-н на Схід від с.Атманай | G23: Атманайська сільська рада народних депутатів Якимівського р-ну | H23: Указ Президента України від 20.08.1996р. №715/96 повністю увійшов до складу Приазовського НПП
A24: 4 | B24: «Коса Федотова» | C24: заказник | D24: ландшафтний | E24: 1910 | F24: Якимівський р-н, на захід від с.м.т. Кирилівка, півострів Азовського моря | G24: Кирилівська сільська рада народних депутатів Якимівського р-ну | H24: Указ Президента України від 20.08.1996р. №715/96 повністю увійшов до складу Приазовського НПП
A25: 5 | B25: «Коса Обіточна» | C25: заказник | D25: ландшафтний | E25: 8863 | F25: Приморський р-н, Приморське лісництво ДП «Приморське ЛГ», кв. № 1-56 | G25: ДП «Приморське ЛГ» | H25: Постанова Ради Міністрів України від 11.09.1980 № 524
A26: 6 | B26: «Крутосхили Каховського водосховища» (522,2 га) | C26: заказник | D26: ландшафтний | E26: 522.2 | F26: Василівський р-н,Василівська райрада - 270,2га, Запорізке обласне управління лісового та мисливського господарства - 192го кв. кв. 17 - 20, Скельківська сільська рада - 60 га | G26: Василівська райрада, Запорізке обласне управління лісового та мисливського господарств, Скельківська сільська рада | H26: Указ Президента України від 21.02.2002р. № 167/2002 частково увійшов до складу НПП «Великий Луг»
A27: 7 | B27: «Урочище Білозірське» | C27: заказник | D27: ландшафтний | E27: 390 | F27: Кам’янсько Дніпровський р-н, АТ племзавод «Степной» 130га, АРК «Прибой»- 80га,ДП «Кам’янсько Дніпровське лісове господасртво» - 180га 14кв. | G27: АТ племзавод «Степной», АРК «Прибой», Кам`янко-Дніпровський держлісгосп | H27: Указ Президента Укрсїни від 21.02.2002р. №167/2002
A28: 7 | B28: Разом заказників ландшафтних | C28: 7 | E28: =SUM(E21:E27) -> 16895.1
A29: 1 | B29: «Радіонівський» | C29: заказник | D29: лісовий | E29: 370 | F29: Якимівський р-н, с.Радивонівка, правий берег Молочного лиману, Богатирське лісництво, кв. № 76 -108 | G29: ДП «Мелітопольське лісомисливське господарство» | H29: Ради МіністрівУкраїни від 28.10.1974р. №500, Рішення Запорізької облради від 25.07.1989 № 205 (зміна площі)
A30: 1 | B30: Разом заказників лісових | C30: 1 | E30: =SUM(E29) -> 370
A31: 1 | B31: «Великі і Малі Кучугури» (400 га) | C31: заказник | D31: орнітологічний | E31: 400 | F31: Василівський р-н, Каховське водосховище, Василівське лісництво Запорізького держлісгоспу | G31: ДП «Запорізьке лісомисливське господарство» | H31: Постанова Ради Міністрів України від 28.10.1974р. №500 частково увійшов до складу НПП «Великий Луг»
B32: Разом заказників орнітологічних | C32: 1 | E32: =SUM(E31) -> 400
A33: 12 | B33: Всього заказників загальнодержавного значення | C33: =C32+C30+C28+C20+C18+C16 -> 12 | E33: 38998.1
A34: 1 | B34: «Балка Бальчанська» | C34: пам`ятка природи | D34: ботанічна | E34: 28 | F34: Вільнянський р-н, біля с.Орловське і Ворварівка | G34: Дніпровська с.р. | H34: Розпорядження Ради Міністрів УРСР від 14.10.1975р. №780-Р
A35: 2 | B35: «Балка Россоховата» | C35: пам`ятка природи | D35: ботанічна | E35: 27 | F35: Вільнянський р-н, на північ від с.Ясинувате | G35: Дніпровська с.р. | H35: Розпорядження Ради Міністрів УРСР від 14.10.1975р. №780-Р
A36: 3 | B36: «Урочище Пристіни» | C36: пам`ятка природи | D36: ботанічна | E36: 17 | F36: Запорізький р-н, с.Григорівка | G36: ДП «Запорізьке лісомисливське господарство» | H36: Розпорядження Ради Міністрів УРСР від 14.10.1975р. №780-Р
A37: 3 | B37: Разом пам’яток природи ботанічних | C37: 3 | E37: =SUM(E34:E36) -> 72
A38: 1 | B38: «Камяна могила над р. Молочна» | C38: пам`ятка природи | D38: геологічна | E38: 15 | F38: Мелітопльський р-н 1 км від с.Терпіння | G38: Національна Академія наук України | H38: Постанова Ради міністрів від 7.08.1963р. №1180
A39: 2 | B39: «Гранітні скелі» | C39: пам`ятка природи | D39: геологічна | E39: 15 | F39: Бердянський р-н, в межах земель Миколаївської с/р | G39: Миколаївська с/р | H39: Розпорядження Ради Міністрів УРСР від 14.10.1975р. №780-Р
A40: 2 | B40: Разом пам`яток природи геологічних | C40: 2 | E40: =SUM(E38:E39) -> 30
A41: 1 | B41: «Балка Скотовата» | D41: комплексна | E41: 30 | F41: Гуляйпольський р-н, по межі з Дніпропетровською областю | G41: Новомиколаївська сільська рада | H41: Розпорядження Ради Міністрів УРСР від 14.10.1975р. №780-Р
A42: 2 | B42: «Верхів’я Утлюкського лиману» | D42: комплексна | E42: 280 | F42: Якимівський р-н, с.Давидівка | G42: Давидівська сільска рада | H42: Указ Президента України від 20.08.1996р. №715/96 повністю увійшов до складу Приазовського НПП
A43: 2 | B43: Разом пам`яток природи комплексних | C43: 2 | E43: =SUM(E41:E42) -> 310
A44: 7 | B44: Всього пам’яток природи загальнодержавного значення | C44: =C43+C40+C37 -> 7 | E44: =E43+E40+E37 -> 412
B45: «Парк ім. Горького» | C45: парк-пам`ятка садово-паркового мистецтва | E45: 31 | F45: м.Мелітополь, вул.Богдана Хмельницького | G45: Дирекція парку | H45: Постанова Ради Міністрів УРСР від 29.01.1960р. №105
B46: Всього парків-пам'яток садово-паркового мистецтва | C46: 1 | E46: =SUM(E45) -> 31
B47: Всього територій та об`єктів загальнодержавного значення | C47: =C46+C44+C33+C14+C11 -> 22 | E47: =E46+E44+E33+E14+E11 -> 134424.02
A48: Території та об`єкти місцевого значення
A49: 1 | B49: «Панай» | C49: регіональний ландшафтний парк | E49: 1025 | F49: Василівський р-н | G49: Дирекція НПП «Великий Луг» | H49: Рішення Запорізької обласної ради від 27.11.1998р. №10
B50: Всього регіональних ландшафтних парків | C50: 1 | E50: =SUM(E49) -> 1025 | H50: повністю увійшов до складу НПП «Великий Луг»
A51: 1 | B51: «Золотий берег» | C51: дендрологічний парк | E51: 7.5 | F51: Якимівський р-н, Федотова коса, територія б/в «Золотий берег» | G51: ТОВ «Селенга» | H51: Організовано за рішенням №19 від 18.01.2006 року Запорізької обласної ради
A52: 1 | B52: Всього дендрологічних парків | C52: 1 | E52: =SUM(E51) -> 7.5
A53: 1 | B53: «Таврія» | E53: 290 | F53: Новомиколаївський район, в 2 км від с.Тернуватого | G53: ЗАТ «ЗАЗ» | H53: Розпорядження голови обласної державної адміністрації від 09.07.1997р. № 338
A54: 1 | B54: Всього зоологічних парків | C54: 1 | E54: =SUM(E53) -> 290
A55: 1. | B55: «Цілинна ділянка» | C55: заказник | D55: ботанічний | E55: 0.5 | F55: Токмакський р-н, с.Заможне | G55: Жовтнева сільська рада | H55: Рішення Запорізького облвиконкому від 28.05.1980р. №253
A56: 2. | B56: «Балка Пушинська» | C56: заказник | D56: ботанічний | E56: 1 | F56: Запорізький р-н, с.Біленьке | G56: Біленьківська сільська рада | H56: Рішення Запорізького облвиконкому від 28.05.1980р. №253
A57: 3. | B57: «Цілинна балка» | C57: заказник | D57: ботанічний | E57: 1 | F57: Токмакський р-н, біля с.Жовтневе | G57: Жовтнева сільська рада | H57: Рішення Запорізького облвиконкому від 28.05.1980р. №253
A58: 4. | B58: «Цілинна ділянка» | C58: заказник | D58: ботанічний | E58: 1 | F58: Чернігівський р-н, східна сторона с.м.т.Чернігівка | G58: Чернігівська селищна рада | H58: Рішення Запорізького облвиконкому від 28.05.1980р. №253
A59: 5. | B59: «Троїцька балка» | C59: заказник | D59: ботанічний | E59: 1 | F59: Мелітопольський район, с.Терпіння, Старобердянське лісництво, кв.№ 83 | G59: ДП «Мелітопольске лісомисливське господарство» | H59: Рішення Запорізького облвиконкому від 28.05.1980р. №253
A60: 6. | B60: «Балка Вовча» | C60: заказник | D60: ботанічний | E60: 1.5 | F60: Запорізький р-н, с.Біленьке | G60: Біленьківська сільська рада | H60: Рішення Запорізького облвиконкому від 28.05.1980р. №253
A61: 7. | B61: «Цілинна ділянка» | C61: заказник | D61: ботанічний | E61: 1.5 | F61: Запорізький р-н, околиця с.Смоляне, Крутоярівське лісництво, кв.28 | G61: Запорізьке обласне управління лісного та мисливського гоподарства | H61: Рішення Запорізького облвиконкому від 28.05.1980р. №253
A62: 8. | B62: «Балка «Голубовка» (охоронна зона 30 м) | C62: заказник | D62: ботанічний | E62: 2 | F62: Новомиколаївський район, біля поля №8 сівообігу №1 | G62: Зеленівська сільська рада | H62: Розпорядження Представника Президента від 2.10.1992р. №321
A63: 9. | B63: «Цілинна ділянка» | C63: заказник | D63: ботанічний | E63: 2 | F63: Новомиколаївський район. с.Любицьке | G63: Любицька сільська рада | H63: Рішення Запорізького облвиконкому від 28.05.1980р. №253
A64: 10. | B64: «Цілинні пришляхові смуги» | C64: заказник | D64: ботанічний | E64: 2 | F64: Гуляйпольський р-н біля с.Комсомольське | G64: Комсомольська сільська рада | H64: Рішення Запорізького облвиконкому від 28.05.1980р. №253
A65: 11. | B65: «Балка Данилівська» | C65: заказник | D65: ботанічний | E65: 2 | F65: Гуляйпольський р-н с.Успенівка | G65: Новомиколаївська сільська рада | H65: Рішення Запорізького облвиконкому від 28.05.1980р. №253
A66: 12. | B66: «Цілинна ділянка» | C66: заказник | D66: ботанічний | E66: 2 | F66: Гуляйпольський р-н с.Любимівка | G66: Любимівська сільська рада | H66: Рішення Запорізького облвиконкому від 28.05.1980р. №253
... A149: 95. | B149: «Цілинна ділянка» | C149: заказник | D149: ботанічний | E149: 502 | F149: Мелітопольський район, пойма р.Молочна, околиця с. Мордвинівка | G149: Мордвинівська сільська рада | H149: Рішення Запорізького облвиконкому від 28.05.1980р. №253
A150: 96 | B150: "Грушева балка" | C150: заказник | D150: ботанічний | E150: 52.1 | H150: Рішення Запорізької обласної ради від 28.03.2013 №31
A151: 97 | B151: "Роздольненська цілинна балка" | C151: заказник | D151: ботанічний | E151: 53.8 | H151: Рішення Запорізької обласної ради від 30.05.2013 №20
A152: 98 | B152: "Балка Дорожнянська" | C152: заказник | D152: ботанічний | E152: 56 | H152: Рішення Запорізької обласної ради від 31.10.2013 №15
A153: 99 | B153: «Балка Зразкова» | C153: заказник | D153: ботанічний | E153: 53 | F153: Михайлівський район, на території Старобогданівської сільської ради | G153: Михайлівська РДА | H153: Рішення Запорізької обласної ради від 05.07.2011 №11
A154: 99 | B154: Разом заказників ботанічних | C154: 99 | E154: =SUM(E55:E153) -> 3025.2
A155: 1 | B155: «Ділянка цілини» | C155: заказник | D155: ентомологічний | E155: 2 | F155: Куйбишевський р-н, біля с.Сміле, балка «Янчур» | G155: Смілевська сільська рада | H155: Рішення Запорізького облвиконкому від 25.09.1984р. №315
A156: 2 | B156: «Цілинна балка» | C156: заказник | D156: ентомологічний | E156: 2 | F156: Великобілозерський р-н, в межах земель Новопетрівської с/р | G156: Новопетрівська сільська рада | H156: Рішення Запорізького облвиконкому від 25.09.1984р. №315
A157: 3 | B157: «Цілинна балка» | C157: заказник | D157: ентомологічний | E157: 2 | F157: Великобілозерський, в межах земель Гюнівської с/р, лукопасовищна сівозміна | G157: Гюнівська сільська рада | H157: Рішення Запорізького облвиконкому від 25.09.1984р. №315
A158: 4 | B158: «Південий схил балки луго пасовищного сівообігу №3» | C158: заказник | D158: ентомологічний | E158: 2 | F158: Кам’янсько Дніпровський р-н, поле №3, с. Заповітне | G158: Заповітненська сільська рада | H158: Рішення Запорізького облвиконкому від 25.09.1984р. №315
A159: 5 | B159: «Цілинна балка» | C159: заказник | D159: ентомологічний | E159: 2 | F159: Кам’янсько Дніпровський р-н, с.Новодніпровка | G159: Новодніпровська сільська рада | H159: Рішення виконкому Запорізької облради № 431 від22.09.1982
A160: 6 | B160: «Цілинна балка» | C160: заказник | D160: ентомологічний | E160: 2 | F160: Великобілозерський, в межах земель Червоної с/р | G160: Червона с/р | H160: Рішення Запорізького облвиконкому від 25.09.1984р. №315
A161: 7 | B161: «Цілинна балка» | C161: заказник | D161: ентомологічний | E161: 2 | F161: Великобілозерський, в межах земель Великобілозірської с/р, бригада № 2, між IV-V полями сівозміни | G161: Великобілозірська сільська рада | H161: Рішення Запорізького облвиконкому від 25.09.1984р. №315
A162: 8 | B162: «Цілинна ділянка в гирлі р. Арабка» | C162: заказник | D162: ентомологічний | E162: 2 | F162: Мелітопольський район, с. Вознсенівка | G162: Вознесенівська сільська рада | H162: Рішення Запорізького облвиконкому від 25.09.1984р. №315
A163: 9 | B163: «Степова ділянка» | C163: заказник | D163: ентомологічний | E163: 2.9 | F163: Великобілозерський, в межах земель Червоної с/р | G163: Червона с/р | H163: Рішення Запорізького облвиконкому від 9.10.1990р. №281
A164: 10 | B164: «Цілинна балка» | C164: заказник | D164: ентомологічний | E164: 4 | F164: Запорізький р-н, с. Нижня Хортиця | G164: Розумівська сільська рада | H164: Рішення Запорізького облвиконкому від 25.09.1984р. №315
A165: 11 | B165: «Цілинна ділянка в поймі р.Молочна» | C165: заказник | D165: ентомологічний | E165: 4 | F165: Мелітопольський район, с.Вознесенівка | G165: Вознесенівська сільська рада | H165: Рішення Запорізького облвиконкому від 25.09.1984р. №315
A166: 12 | B166: «Узлісся на острогах балки» | C166: заказник | D166: ентомологічний | E166: 5 | F166: Токмакський р-н, КСП ім.Калініна | G166: Остриківська сільська рада | H166: Рішення Запорізького облвиконкому від 25.09.1984р. №315
... A197: 43 | B197: Цілинна балка | C197: заказник | D197: ентомологічний | E197: 2 | F197: Кам`янсько-Дніпровський район, в межах земель Дніпровської сільської ради | G197: Дніпровська сільська рада | H197: Рішення Запорізького облвиконкому від 25.09.1984р. №315
A198: 43 | B198: Разом заказників ентомологічних | C198: 43 | E198: =SUM(E155:E197) -> 939.9
A199: 1 | B199: «Каштанівський» | C199: заказник | D199: загальнозоологічний | E199: 12 | F199: Новомиколаївський район, 1 км на північ від с.Каштанівка | G199: Новоіванківська сільська рада | H199: Рішення Запорізької обласної ради від 27.11.1998р. №10
A200: 2 | B200: «Герпетологічний заказник» | C200: заказник | D200: загальнозоологічний | E200: 23 | F200: Василівський р-н, біля с.Широке | G200: Широківська сільська рада | H200: Рішення Запоізького облвиконкому від 09.10.1990р. №281
A201: 3 | B201: «Д’яконські сади» | C201: заказник | D201: загальнозоологічний | E201: 33.7 | F201: Кам’янсько Дніпровський район с.Велика Знам’янка | G201: Великознам`янська сільська рада | H201: Розпорядження представника Президента від 2.10.1992р. №321
A202: 4 | B202: «Лубенцівський» | C202: заказник | D202: загальнозоологічний | E202: 142.9 | F202: Новомиколаївський та Вільнянський райони, 1,5 км на захід від с.Богунівка | G202: Новоіванківська сільська рада, Максимівська сільська рада | H202: Рішення Запорізької обласної ради від 17.08.1998р. №7
A203: 4 | B203: Разом заказників загальнозоологічних | C203: 4 | E203: =SUM(E199:E202) -> 211.6
A204: 1. | B204: «Балка Хуторська» | C204: заказник | D204: ландшафтний | E204: 7 | F204: Запорізький р-н, 300 м на північ від с.Сонячне | G204: Дослідне господарство «Сонячне» Інституту олійних культур | H204: Рішення Запорізької обласної ради №10 від 27.11.1998р
A205: 2. | B205: «Салтичійське степове помістя» | C205: заказник | D205: ландшафтний | E205: 12.77 | F205: Чернігівський р-н, в межах с.Салтичія на лівому березі правої р.Салтич | G205: Обіточненська сільська рада | H205: Рішення Запорізької обласної ради від 25.12.2001р. №5
A206: 3. | B206: «Балка Гадюча» | C206: заказник | D206: ландшафтний | E206: 16.8 | F206: Запорізький р-н, 2,5 км на південий захід від с.Володимирівка | G206: Володимирівська сільська рада | H206: Рішення Запорізької обласної ради №10 від 27.11.1998р
A207: 4. | B207: «Володимирівський» | C207: заказник | D207: ландшафтний | E207: 18 | F207: Запорізький р-н, 500 м на захід від с.Володимирівка | G207: Володимирівська сільська рада | H207: Рішення Запорізької обласної ради №10 від 27.11.1998р
A208: 5. | B208: «Балка Найвер» (охоронна зона 30 м) | C208: заказник | D208: ландшафтний | E208: 27 | F208: Токмакський р-н, в балці «Найвер» кв. № 60, вид. 2 (10 га), вид. 3 (3,5 га), вид. 4 (6,8 га), вид. 5 (6,7 га) Токмацького лісництва | G208: ДП «Приморське лісове господарство» | H208: Розпорядження Представника Президента України в Запорізькій області від 2.04.1992р. №321
A209: 6. | B209: «Цілинна балка» | C209: заказник | D209: ландшафтний | E209: 21.8 | F209: Гуляйпольський р-н в межах земель Гуляйпільське лісництво, кв.3, вид. 2,4-10,12 | G209: ДП «Пологівське ЛМГ» | H209: Рішення Запорізької обласної ради від 27.11.1998р. №10
A210: 7. | B210: «Сосновий бір Куліша» | C210: заказник | D210: ландшафтний | E210: 30 | F210: в межах земель дослідного госпадарства «Соц. Землеробство» Запорізької державної с/г дослідної станції УААН, біля с. Таврія | G210: Дослідне госпадарство «Соц. Землеробства» Запорізької державної с/г дослідної станції УААН | H210: Рішення обласної ради від 17.08.1999р. №7
A211: 8. | B211: «Заплава р.Малий Утлюк» | C211: заказник | D211: ландшафтний | E211: 30.2 | F211: Якимівський район, на правому березі р. Малий утлюк, біля с.Давидівка | G211: Давидівська сільська рада | H211: Рішення Запорізької обласної ради від 25.12.2001р. №5
A212: 9. | B212: «Водяне» | C212: заказник | D212: ландшафтний | E212: 37 | F212: Куйбишевський р-н, 2 км на південий схід від с.Тітово | G212: Титовська сільська рада | H212: Рішення Запорізької обласної ради від 27.11.1998р. №10
A213: 10. | B213: «Урочище скелі» | C213: заказник | D213: ландшафтний | E213: 40 | F213: Чернігівський р-н, в межах с.Верхній Токмак, вздовж лівого та правого берегів р.Томачка | G213: Верхньотокмацька сільська рада | H213: Рішення Запорізької обласної ради від 25.12.2001р. №5
A214: 11. | B214: «Хвойно-листяний ліс з степовою ділянкою і струмком» (охоронна зона 30 м) | C214: заказник | D214: ландшафтний | E214: 43.7 | F214: Новомиколаївський район, біля с.Зарічне | G214: Тернуватська сільська рада | H214: Розпорядження Представника Президента України в Запорізькій області від 2.10.1992р. №321
A215: 12. | B215: «Балка Садова» | C215: заказник | D215: ландшафтний | E215: 45.9 | F215: Новомиколаївський район, в межех полів №2,3 сівозміну Софіївська сільська рада і межує з землями Новомиколаївського кінзаводу | G215: Софіївська сільська рада | H215: Розпорядження представника Президента України від 31.12.1993р. №665
... A253: 50. | B253: «Болотяні місця» | C253: заказник | D253: ландшафтний | E253: 14.6 | F253: Пологівський р-н, | G253: Пологівська РДА | H253: Рішення Запорізької обласної ради від 05.07.2011 №12
...

Sheet Івано-Франківська обл.
A1: Івано-Франківська область
A2: Перелік територій та об`єктів природно-заповідного фонду загальнодержавного та місцевого значення
A4: № з.п. | B4: Назва території чи об’єкта ПЗФ | C4: Категорія | D4: Тип | E4: Площа, га | F4: Місце розташування території чи об`єкту ПЗФ | G4: Назва установи, підпрємства, організації, землекористувача (землевласника), у віданні якого знаходиться територія чи об’єкт ПЗФ | H4: Рішення, згідно з яким створено (змінено) дану територію чи об’єкт ПЗФ
A7: 1 | B7: 2 | C7: 3 | D7: 4 | E7: 5 | F7: 6 | G7: 7 | H7: 8
A8: Території та об`єкти ПЗФ загальнодержавного значення
B9: «Горгани» | C9: Природний заповідник | E9: 5344.2 | F9: Надвірнянський район, Бистрицька та Зеленська сільські ради | G9: Міністерство еколгії та природних ресурсів України | H9: Указ Президента України від 12.09.1996 р. № 831/96
B10: Всього природних заповідників | C10: 1 | E10: =SUM(E9) -> 5344.2
B11: Карпатський | C11: національний природний парк | E11: 50495 | F11: Яремчанська міська рада | G11: Міністерство еколгії та природних ресурсів України | H11: Постанова РМ УРСР від 03.06.1980 р. № 376
B12: «Гуцульщина» | C12: національний природний парк | E12: 32271 | F12: Косівський район | G12: Міністерство еколгії та природних ресурсів України | H12: Указ Президента України від 14.05.2002 р. № 456/2002
B13: Галицький | C13: національний природний парк | E13: 14684.8 | F13: Галицький район | G13: Держкомлісгосп України | H13: Указ Президента України від 09.08.2004 р. № 877/2004
B14: «Синьогора» | C14: національний природний парк | E14: 10866 | F14: Богородчанський район | H14: Указ Президента України від 21.12.2009р. № 1083/2009
B15: «Верховинський» | C15: національний природний парк | E15: 12022.9 | F15: Верховинський район | G15: Міністерство еколгії та природних ресурсів України | H15: Указ Президента України від 22.01.2010 р. № 58/2010
B16: Всього національних природних парків | C16: 5 | E16: =SUM(E11:E15) -> 120339.7
B17: «Грофа» | C17: заказник | D17: ландшафтний | E17: 2533.8 | F17: Рожнятівський район, Довгополянське лісництво,кв.21,36,38; Менгільське лісництво, кв.8,13,22,23,26; Осмолодське лісництво, кв.30,31,36; Різарнянське лісництво, кв.12; Піскавське лісництв, кв.39 | G17: ДП «Осмолодський держлісгосп» | H17: Указ Президента України від 20.08.1996 р. № 715/96
B18: «Козакова долина» | C18: заказник | D18: ландшафтний | E18: 953 | F18: Тисменицький район, Дністровське лісництво, кв.3-16 | G18: ДП «Івано-Франківський держлісгосп» | H18: Постанова РМ УРСР від 16.12.1982 р. № 617
B19: Разом заказників ландшафтних | C19: 2 | E19: =SUM(E17:E18) -> 3486.8
B20: «Урочище «Скит Манявський» | C20: заказник | D20: лісовий | E20: 362 | F20: Богородчанський район, Манявське лісництво, кв. 32-37 | G20: ДП «Солотвинський держлісгосп» | H20: Постанова РМ УРСР від 16.12.1982 р. № 617
B21: «Бредулець-кий» | C21: заказник | D21: лісовий | E21: 106 | F21: Надвірнянський район, Зеленське лісництво, кв.5, вид.1-6; 8-23; 25 | G21: ДП «Надвірнянський держлісгосп» | H21: Постанова РМ УРСР від 28.10.1974 р.№ 500
B22: Разом заказників лісових | C22: 2 | E22: =SUM(E20:E21) -> 468
B23: «Яйківський» | C23: заказник | D23: ботанічний | E23: 263 | F23: Рожнятіваський район, Мшанське лісництво, кв.35, вид.1-71 | G23: ДП «Осмолодський держлісгосп» | H23: Постанова РМ УРСР від 28.10.1974 р. № 500
B24: «Тавпишир-ківський» | C24: заказник | D24: ботанічний | E24: 424 | F24: Надвірнянський район, Бистрицьке лісництво, кв. 36,39,53,57 | G24: ДП «Надвірнянський держлісгосп» | H24: Постанова РМ УРСР від 28.10.1974 р.№ 500
B25: «Кливський» | C25: заказник | D25: ботанічний | E25: 111.5 | F25: Надвірнянський район, Любіжнянське лісництво, кв.20, вид.4-8; 12-17; 24 -28; 30; 31; 33-38 | G25: ДП «Делятинський держлісгосп» | H25: Постанова РМ УРСР від 28.10.1974 р. № 500
B26: «Княждвірсь-кий» | C26: заказник | D26: ботанічний | E26: 208 | F26: Коломийський район, Печеніжинське лісництво кв.1-3,6,7 | G26: ДП «Коломийський держлісгосп» | H26: Постанова РМ УРСР від 28.10.1974 р. № 500
B27: Разом заказників ботанічних | C27: 4 | E27: =SUM(E23:E26) -> 1006.5
B28: «Пожератульський» | C28: заказник | D28: орнітологічний | E28: 207.5 | F28: Надвірнянський район, Поляницьке лісництво, кв.35, вид. 2, 8, 10, 11; кв.36, вид. 4, 5, 6, 9; кв. 37, вид.1-6, 12-17, кв. 38, вид.18, 19, 22, 29 | G28: ДП «Делятинський держлісгосп» | H28: Постанова РМ УРСР від 28.10.1974 р. № 500 (внесені зміни Постановою РМ УРСР № 5 від 07.01.1985 р.)
B29: Разом заказників орнітологічних | C29: 1 | E29: =SUM(E28) -> 207.5
B30: «Турова дача» | C30: заказник | D30: гідрологічний | E30: 255 | F30: Рожнятівський район, Краснянське лісництво, кв. 8,9,10 | G30: ДП «Осмолодський держлісгосп» | H30: Постанова РМ УРСР від 28.10.1974 р.№ 500
B31: Разом заказників гідрологічних | C31: 1 | E31: =SUM(E30) -> 255
B32: Всього заказників загальнодержавного значення | C32: =C31+C29+C27+C22+C19 -> 10 | E32: =E31+E29+E27+E22+E19 -> 5423.8
B33: «Скелі Довбуша» | C33: пам`ятка природи | D33: комплексна | E33: 100 | F33: Долинський район, Поляницьке ллісництво, кв. 9,14 | G33: ДП «Болехівський держлісгосп» | H33: Постанова РМ УРСР від 30.03.1981 р. № 145
B34: «Урочище «Верхнє Озерище» | C34: пам`ятка природи | D34: комплексна | E34: 48 | F34: Надвірнянський район, Річанське лісництво, кв.20, вид.23-33; кв. 23, вид.32-34, кв.24, вид. 1 | G34: ДП «Надвірнянський держлісгосп» | H34: Розпорядження РМ УРСР від 14.10.1975 р. № 780-р
B35: «Касова гора» | C35: пам`ятка природи | D35: комплексна | E35: 65 | F35: Голицький район с. Бовшів | G35: Бовшівська сільська рада | H35: Розпорядження РМ УРСР від 14.10.1975 р. № 780-р
B36: Разом пам`яток природи комплексних | C36: 3 | E36: =SUM(E33:E35) -> 213
B37: «Урочище Масьок» | C37: пам`ятка природи | D37: ботаннічна | E37: 18 | F37: Городенківський район, с. Острівець | G37: Острівецька сільська рада | H37: Розпорядження РМ УРСР від 14.10.1975 р. № 780-р
B38: «Чортова гора» | C38: пам`ятка природи | D38: ботаннічна | E38: 13 | F38: Рогатинський район село Підвиння (9,5 га); село Пуків (3,5 га) | G38: Підвиннянська сільська рада; Пуківська сільська рада | H38: Розпорядження РМ УРСР від 14.10.1975 р. № 780-р
B39: «Урочище «Осій» | C39: пам`ятка природи | D39: ботаннічна | E39: 13.5 | F39: Долинський район, Мало-Тур’янське лісництво, кв.2, вид. 33, 34, 37, 38, 39, 40 | G39: ДП «Вигодський держлісгосп» | H39: Розпорядження РМ УРСР від 14.10.1975 р. № 780-р
B40: «Урочище «Сокіл» | C40: пам`ятка природи | D40: ботаннічна | E40: 29 | F40: Рожнятівський район, Ангелівське лісництво, кв. 34, вид.9-16, 22, 23, 27, 35-37; кв.35, вид 1, 4, 6 | G40: ДП «Осмолодський держлісгосп» | H40: Розпорядження РМ УРСР від 14.10.1975 р. № 780-р
B41: «Урочище «Тарниці» | C41: пам`ятка природи | D41: ботаннічна | E41: 60 | F41: Надвірнянський район, Микуличинське лісництво, кв. 20, вид. 1- 3, 6, 12, 14, 18, 19, 20 | G41: ДП «Делятинський держлісгосп» | H41: Розпорядження РМ УРСР від 14.10.1975 р. № 780-р
B42: Разом пам`яток природи ботанічних | C42: 5 | E42: =SUM(E37:E41) -> 133.5
B43: «Болото Висяче» | C43: пам`ятка природи | D43: гідрологічна | E43: 0.5 | F43: Верховинський район, Буркутське лісництво, кв. 37, вид. 25 | G43: ДП «Верховинський держлісгосп» | H43: Розпорядження РМ УРСР від 14.10.1975 р. № 780-р
B44: «Болото «Ширковець» | C44: пам`ятка природи | D44: гідрологічна | E44: 12 | F44: Долинський район Мізунське лісництво, кв.13, вид.18 | G44: ДП «Вигодський держлісгосп» | H44: Розпорядження РМ УРСР від 14.10.1975 р. № 780-р
B45: «Болото «Лисак» | C45: пам`ятка природи | D45: гідрологічна | E45: 14.4 | F45: Долинський район Свічівське лісництво, кв. 12, вид.20; кв. 15, вид. 2, 3 ,6, 8, 10, 11 | G45: ДП «Вигодський держлісгосп» | H45: Розпорядження РМ УРСР від 14.10.1975 р. № 780-р
B46: «Болото «Мшана» | C46: пам`ятка природи | D46: гідрологічна | E46: 6 | F46: Рожнятівський район, Мшанське лісництво, кв.33, вид. 101,102 | G46: ДП «Осмолодський держлісгосп» | H46: Розпорядження РМ УРСР від 14.10.1975 р. № 780-р
B47: Разом пам`яток природи гідрологічних | C47: 4 | E47: =SUM(E43:E46) -> 32.9
B48: «Старуня» | C48: пам`ятка природи | D48: геологічна | E48: 60 | F48: Богородчанський район, село Старуня | G48: Старунська сільська рада | H48: Постанова РМ УРСР від 21.03.1984 р. № 139
B49: Разом пам`яток природи геологічних | C49: 1 | E49: =SUM(E48) -> 60
B50: Всього пам`яток природи загальнодержавного значення | C50: =C49+C47+C42+C36 -> 13 | E50: =E49+E47+E42+E36 -> 439.4
B51: «Високогір-ний» | C51: дендрологічний парк | E51: 124 | F51: Надвірнянський район, Бистрицьке лісництво, кв.62 | G51: ДП «Надвірнянський держлісгосп» | H51: Постанова РМ УРСР від 22.07.1983 р. № 311
B52: «Діброва» | C52: дендрологічний парк | E52: 8 | F52: Богородчанський район, Богородчанське лісництво, кв.27 | G52: ДП «Солотвинський держлісгосп» | H52: Постанова РМ УРСР від 22.07.1983 р. № 311
B53: «Дружба» | C53: дендрологічний парк | E53: 10 | F53: Тисменицький район, с. Угринів Івано-Франківська міська рада | G53: Прикарпатський держуніверситет ім. В. Стефаника | H53: Постанова РМ УРСР від 22.07.1983 р. № 311
B54: Всього дендрологічних парків загальнодержавного значення | C54: 3 | E54: =SUM(E51:E53) -> 142
B55: «Парк партизанської слави» | C55: парк-пам’ятка садово-паркового мистецтва | E55: 7 | F55: Надвірнянський район, Зарічанське лісництво, кв.24 | G55: ДП «Делятинський держлісгосп» | H55: Постанова Держкомітету УРСР з охорони природи від 17.08.1983 р. № 37
B56: Всього парків-пам`яток садово-паркового мистецтва загальнодержавного значення | C56: 1 | E56: =SUM(E55) -> 7
B57: Всього територій та об`єктів ПЗФ загальнодержавного значення | C57: =C56+C54+C50+C32+C16+C10 -> 33 | E57: =E56+E54+E50+E32+E16+E10 -> 131696.1
A58: Території та об`єкти місцевого значення
B59: Дністровський | C59: регіональний ландшафтний парк | E59: 19656 | F59: Городенківський район, Тлумацький район вздовж ріки Дністер | G59: Городенківська, Тлумацька районні ради | H59: Рішення сесії обласної ради від 15.07.93 р.
B60: «Гуцульщина» | C60: регіональний ландшафтний парк | E60: 17729 | F60: Косівський район | G60: Косівська районна рада, Кутський держлісгосп, Косівський МГЛ | H60: Розпорядження облдержадміністрації від 23.06.97 р. № 443
B61: Поляницький | C61: регіональний ландшафтний парк | E61: 1032 | F61: Долинський район, Поляницьке лісництво вк.9,10,14-16,22-26 | G61: ДП «Болехівський держлісгосп» | H61: Розпорядження облдержадміністрації від 15.07.96 р. № 451
B62: Всього регіональних ландшафтних парків | C62: 3 | E62: =SUM(E59:E61) -> 38417
B63: «Чивчино-Гринявський» | C63: заказник | D63: ландшафтний | E63: 7243 | F63: Верховинський район, Чивчинське лісництво, кв. 11, 13-16, 24, 26-42 Буркутське лісництво, кв.14-19,23-25, 32-35 Паркалабське лісництво, кв.8,9,14,16-20 . Полонини: «алузька», «Прелуки», «Ретундул», «Лустун», «Мале Пір’є», «Попадя»,»Гнітеса», «Чивчин», «Штевйора» | G63: ДП «Верховинський держлісгосп», ДП «Гринявський держлісгосп», Верховинська районна рада | H63: Розпорядження облдержадміністрації від 23.06.97 р. № 443
B64: «Ріка Свіча з притокою Мізунькою» | C64: заказник | D64: ландшафтний | E64: 5940 | F64: Долинський район | G64: Долинська районна рада, сільські ради | H64: Рішення обласної ради від 15.07.93 р.
B65: «Саджавський» | C65: заказник | D65: ландшафтний | E65: 328.6 | F65: Долинський район, межиріччя рр. Свічі та Саджави | G65: Княжелуцька сільська рада | H65: Рішення обласної ради від 15.07.93 р.
B66: «Цапове» | C66: заказник | D66: ландшафтний | E66: 6 | F66: Долинський район, Церківнянське лісництво, кв.8, вид 38 | G66: Болехівський держлісгосп | H66: Розпорядження облдержадміністрації від 15.07.93 р. № 451
B67: «Яськів потік» | C67: заказник | D67: ландшафтний | E67: 20 | F67: Калуський район, Войнилівське лісництво, кв.1,вид.1,3,5,6,16,17 | G67: Калуський держлісгосп | H67: Рішення обласної ради від 15.07.93 р.
B68: «Ріка Лімниця з водоохоронною смугою вздовж берегів шириною 100 м» | C68: заказник | D68: ландшафтний | E68: 2064 | F68: Калуський район Рожнятівський район | G68: Калуська, Рожнятівська районні ради | H68: Рішення облвиконкому від 15.01.79 р. № 13
B69: «Негрова» | C69: заказник | D69: ландшафтний | E69: 47 | F69: Надвірнянський район, Бистрицьке лісництво, кв. 1, вид 1 | G69: ДП «Надвірнянське лісове господарство» | H69: Рішення обласної ради від 17.01.08 № 490-18/2008
B70: «Фарфанянка» | C70: заказник | D70: ландшафтний | E70: 58 | F70: Надвірнянський район, Довбушанське лісництво, кв. 20, вид. 4; кв. 21, вид. 10 | G70: ДП «Надвірнянське лісове господарство» | H70: Рішення обласної ради від 17.01.08 № 490-18/2008
B71: «Бовкоти» | C71: заказник | D71: ландшафтний | E71: 2.2 | F71: Долинський район с. Станківці | G71: Долинський район с. Станківці | H71: Рішення обласної ради від 17.01.08 № 490-18/2008
B72: «Грегіт» | C72: заказник | D72: ландшафтний | E72: 310 | F72: Косівський район, Космацьке лісництво, кв.27,29 | G72: ДП «Кутське лісове господарство» | H72: Розпорядження облдержадміністрації від 15.07.96 р. № 451
B73: «Кам’янистий хребет» | C73: заказник | D73: ландшафтний | E73: 30 | F73: Косівський район, Косівське лісництво, кв.18, вид. 1,14,16,25,36; кв. 19, вид. 3,4,8,11,16,20 | G73: ДП «Кутське лісове господарство» | H73: Розпорядженням облдержадміністрації від 15.07.96 р. № 451
B74: Разом заказників ландшафтних | C74: 11 | E74: =SUM(E63:E73) -> 16048.8
B75: «Урочище «Погорілець» | C75: заказник | D75: лісовий | E75: 220.5 | F75: Богородчанський район, Гутянське лісництво, кв. 45, вид. 1-18; кв. 46, вид. 1-6, 11, 14, 17, 19-24; кв. 47, вид. 13, 15, 16; кв. 48, вид. 1, 2, 9 | G75: ДП «Солотвинський держлісгосп» | H75: Рішення обласної ради від 12.03.04 р. № 350-10/2004
B76: «Урочище «Комарники» | C76: заказник | D76: лісовий | E76: 175 | F76: Богородчанський район, Манявське лісництво, кв. 9, вид. 41-44; кв. 10, вид. 25-29; кв. 11, вид. 26, 27, 29-31; кв. 12, вид. 11-15; кв. 13, вид. 19-30; кв. 14, вид. 13-20; кв. 15, вид. 17, кв. 19, вид. 13, кв. 20, вид. 1-8 | G76: ДП «Солотвинський держлісгосп» | H76: Рішення обласної ради від 12.03.04 р. № 350-10/2004
B77: «Урочище «Шиворіс» | C77: заказник | D77: лісовий | E77: 50 | F77: Богородчанський район, Яблунське лісництво, кв. кв. 36, вид. 16,17; кв. 37, вид. 11,13; кв. 38, вид. 12-15; кв. 39, вид. 12-18 | G77: ДП «Солотвинський держлісгосп» | H77: Рішення обласної ради від 12.03.04 р. № 350-10/2004
B78: «Урочище «Сумарин» | C78: заказник | D78: лісовий | E78: 185 | F78: Богородчанський район, Яблунське лісництво, кв. 17, вид. 1-7; кв. 18, вид. 1-5; кв. 20, вид. 1-2; кв. 21, вид. 1-6; кв. 22, вид. 1-2; кв. 24, вид. 1-16; кв. 23, вид.1-7 | G78: ДП «Солотвинський держлісгосп» | H78: Рішення обласної ради від 12.03.04 р. № 350-10/2004
B79: «Марино» | C79: заказник | D79: лісовий | E79: 763 | F79: Долинський район, Церківнянське лісництво, кв.37-39, 43-47 | G79: ДП «Болехівський держлісгосп» | H79: Рішення обласної ради від 28.12.99 р. № 237-11/99
B80: «Ільма» | C80: заказник | D80: лісовий | E80: 3294 | F80: Долинський район, Ілем’янське лісництво, кв. 1-23 | G80: ДП «Вигодський держлісгосп» | H80: Рішення облвиконкому від 16.10.84 р. № 247
B81: «Страгора» | C81: заказник | D81: лісовий | E81: 840 | F81: Надвірнянський район, Надвірнянське лісництво, кв.46-51 | G81: ДП «Надвірнянський держлісгосп» | H81: Рішення облвиконкому від 16.09.80 р. № 335
B82: «Красна» | C82: заказник | D82: лісовий | E82: 510 | F82: Надвірнянський район, Надвірнянське лісництво, кв.30-37 | G82: ДП «Надвірнянський держлісгосп» | H82: Рішення облвиконкому від 16.09.80 р. № 335
B83: «Потоки» | C83: заказник | D83: лісовий | E83: 153.3 | F83: Надвірнянський район, Надвірнянське лісництво, кв.2, вид. 1-23, кв.3, вид.1-13, кв.5, вид.1-6, кв.6, вид.4, 6-8, 10, 10-16 | G83: ДП «Надвірнянський держлісгосп» | H83: Розпорядження облдержадміністрації від 15.07.96 р., зміни у площі згідно рішення обласної ради від 14.09.2004 р. № 445-12/2004 “Про зміну меж територій та об’єктів природно – заповідного фонду області”
B84: «Журавенків-ський» | C84: заказник | D84: лісовий | E84: 48 | F84: Рогатинський район, Букачівське лісництво, кв.28, вид. 1, 2 | G84: ДП «Рогатинський держлісгосп» | H84: Розпорядження ОДА від 15.07.1996 р. № 451
B85: «Журитин» | C85: заказник | D85: лісовий | E85: 50.9 | F85: Рогатинський район, Пуківське лісництво, кв.2, вид. 7-10 | G85: ДП «Рогатинський держлісгосп» | H85: Розпорядження облдержадміністрації від 15.07.96 р. № 451
B86: «Каменець» | C86: заказник | D86: лісовий | E86: 184 | F86: Косівський район, Кутське лісництво, кв. 24 | G86: ДП «Кутське лісове господарство» | H86: Розпорядження облдержадміністрації від 15.07.96 р. № 451
B87: «Терношори» | C87: заказник | D87: лісовий | E87: 10 | F87: Косівський район, Яворівське лісництво, кв. 26 | G87: Косівський міжгосподарський лсгосп | H87: Розпорядження облдержадміністрації від 15.07.96 р. № 451
B88: Разом заказників лісових | C88: 13 | E88: =SUM(E75:E87) -> 6483.7
B89: «Щавнянська Магура» | C89: заказник | D89: ботанічний | E89: 253.6 | F89: Болехівська міська рада, Козаківське лісництво, кв. 30, вид. 1-6, 8-12, 14-16; кв. 31, вид. 1-3, 5-10, 14-18, 20-25, 31-34; кв. 32, вид. 6-10, 14-16 | G89: Болехівська сільська рада | H89: Рішення обласної ради від 12.03.04 р. № 350-10/2004
B90: «Магура» | C90: заказник | D90: ботанічний | E90: 130.3 | F90: Болехівська міська рада, Козаківське лісництво, кв.31, вид.4, 11-13, 19, 26-30, 35-42 , кв. 32, вид.1-5, 11-13, 17 | G90: ДП «Болехівський держлісгосп» | H90: Рішення обласної ради від 28.12.99 р.№ 237-11/99
B91: «Федів» | C91: заказник | D91: ботанічний | E91: 121 | F91: Болехівська міська рада, Козаківське л-во кв.18 | G91: ДП «Болехівський держлісгосп» | H91: Рішення обласної ради від 28.12.99 р.№ 237-11/99
B92: «Жидовець» | C92: заказник | D92: ботанічний | E92: 41.4 | F92: Долинський район, Витвицьке лісництво, кв. 2, вид.1-7, 9, 13 | G92: ДП «Болехівський держлісгосп» | H92: Рішення обласної ради від 12.03.04 р. № 350-10/2004
B93: «Могила» | C93: заказник | D93: ботанічний | E93: 1.88 | F93: Городенківський район, село Ясенів-Пільний | G93: Ясенів-Пільнянська сільська рада | H93: Рішення облвиконкому від 19.07.88 р. № 218
B94: «Підбавки» | C94: заказник | D94: ботанічний | E94: 0.12 | F94: Городенківський район, село Ясенів-Пільний | G94: Ясенів-Пільнянська сільська рада | H94: Рішення облвиконкому від 19.07.88 р. № 218
B95: «Обертинська долина» | C95: заказник | D95: ботанічний | E95: 29 | F95: Городенківський район, село Чортовець | G95: Чортовецька сільська рада | H95: Рішення обласної ради від 15.07.93 р.
B96: «Вістова» | C96: заказник | D96: ботанічний | E96: 27.5 | F96: Калуський район, Калуське лісництво, кв. 31, вид. 1, 1.1, 2, 2.1, 3, 5 | G96: ДП «Калуський держлісгосп» | H96: Рішення обласної ради від 15.07.93 р. із змінами у площі відповідно до рішення обласної ради від 17.01.08 № 490-18/2008
B97: «Ліскувата» | C97: заказник | D97: ботанічний | E97: 23 | F97: Яремчанська міська рада, Дорівське лісництво, кв.10, вид. 3, 4, 6-8, 10 | G97: Яремчанська міська рада, ДП «Делятинський держлісгосп» | H97: Рішення облвиконкому від 17.05.83 р. № 166
B98: «Діл» | C98: заказник | D98: ботанічний | E98: 3.4 | F98: Надвірнянський район, Зарічанське лісництво, кв.18, вид. 20 | G98: ДП «Делятинський держлісгосп» | H98: Рішення облвиконкому від 17.05.83 р. № 166
B99: «Поляниця» | C99: заказник | D99: ботанічний | E99: 2 | F99: Яремчанська міська рада, Поляницьке лісництво, кв. 8, вид. 8 | G99: ДП «Делятинський держлісгосп» | H99: Рішення облвиконкому від 17.05.83 р. № 166
B100: «Санковичі» | C100: заказник | D100: ботанічний | E100: 41.7 | F100: Яремчанська міська рада | G100: Яремчанська міська рада | H100: Рішення облвиконкому від 17.05.83 р. № 166
