Workbook

Sheet Перелік таблиць
A2: № з.п. | B2: Назва таблиці | C2: сторінка
A3: 1 | B3: Перелік територій та об`єктів природно-запвідного фонду загальнодержавного та місцевого значення
A4: 2 | B4: Структура кількості та площ територій та об"єктів ПЗФ України за категоріями
A5: 3 | B5: Розподіл кількості об"єктів ПЗФ та їх площі за адміністративними одиницями (АО).
A6: 4 | B6: Частка площі ПЗФ України в межах адміністративних одиниць від їх площі
A7: 5 | B7: Динаміка кількості та площі територій та об`єтів ПЗФ з 01.01.2007 по 01.01.2013

Sheet АРК
A1: Автономна республіка Крим
A2: Перелік територій та об`єктів природно-заповідного фонду загальнодержавного та місцевого значення
A4: № з.п. | B4: Назва території чи об’єкта ПЗФ | C4: Категорія | D4: Тип | E4: Площа, га | F4: Місце розташування території чи об`єкту ПЗФ | G4: Назва установи, підпрємства, організації, землекористувача (землевласника), у віданні якого знаходиться територія чи об’єкт ПЗФ | H4: Рішення, згідно з яким створено (змінено) дану територію чи об’єкт ПЗФ
A8: 1 | B8: 2 | C8: 3 | D8: 4 | E8: 5 | F8: 6 | G8: 7 | H8: 8
A9: Території та об`єкти ПЗФ загальнодержавного значення
A10: 1 | B10: Карадазький | C10: природний заповідник | E10: 2874.17 | F10: 98188 м. Феодосія,сел. Курортне | G10: НАН України | H10: Постанова РМ УССРвід 9.08. 1979 р. № 386
A11: 2 | B11: Кримський | C11: природний заповідник | E11: 44175.5 | F11: м. Алушта | G11: Державне управліннясправами ПрезидентаУкраїни | H11: Постанова РМ УССРвід 9.06. 1991 р. № 64
A12: 3 | B12: "МисМарт'ян" | C12: природний заповідник | E12: 240 | F12: м. Ялта,сел. Нікіта | G12: НБС ННЦ | H12: Постанова РМ УССРвід 20.02.1973 р. № 84
A13: 4 | B13: ЯлтинськийГЛ | C13: природний заповідник | E13: 14523 | F13: м. Ялта | G13: ДЛМГ Кримліс | H13: Постанова РМ УССРвід 20.02.1973 р. № 84
A14: 5 | B14: Казантипський | C14: природний заповідник | E14: 450.1 | F14: 98213 Ленінський р-н,м. Щолкіне | G14: Мінприроди України | H14: Указ Президента України від12.05.1998 р. № 458/98
A15: 6 | B15: Опукський | C15: природний заповідник | E15: 1592.3 | F15: Ленінський р-н,с. Яковенкове,вул.. Чорноморська, 1а | G15: Мінприроди України | H15: Указ ПрезидентаУкраїни від12.05.1998 р. № 458/98
B16: Всього природних заповідників | C16: 6 | E16: =SUM(E10:E15) -> 63855.07
A17: 1 | B17: Чарівна гавань | C17: національний природний парк | E17: 10900 | F17: Чорноморський район Оленьовський с/р Окуньовська с/р | G17: Мінприроди України | H17: Указ ПрезидентаУкраїни від11.12.2009 р. № 1037/2009
B18: Всього національних природних парків | C18: 1 | E18: =E17 -> 10900
A19: 1 | B19: Аю-Даг | C19: заказник | D19: ландшафтний | E19: 527 | F19: Запрудниньське л-во, кв.32 сел. Партеніт | G19: ДП «Алуштинське ЛГ» | H19: Пост. РМ УРСР від 28.10.1974 р. № 500
A20: 2 | B20: Великий каньйон Криму | C20: заказник | D20: ландшафтний | E20: 300 | F20: Бахчисарайський р-н, Соколинівське л-во | G20: ДП «Куйбишевське ЛГ» | H20: Пост. РМ УРСР від 28.10.1974 р. № 500
A21: 3 | B21: Плакуча скеля | C21: заказник | D21: ландшафтний | E21: 21.7 | F21: Сімферопольський р-н, с. Пожарське | G21: Пожарська с/р | H21: Пост. РМ УРСР від 13.02.1989 р. № 53
B22: Разом заказників ландшафтних | C22: 3 | E22: =SUM(E19:E21) -> 848.7
A23: 1 | B23: Арабатський | C23: заказник | D23: ботанічний | E23: 600 | F23: Ленінський р-н,с. Кам'янка | G23: СПГ "Семісотка" | H23: Пост. РМ УРСР від 28.10.1974 р. № 500
A24: 2 | B24: Урочище "Карабі-Яйла" | C24: заказник | D24: ботанічний | E24: 491 | F24: Новокленівське л-во, кв. 74,75,84-86 | G24: ДП «Білогірське ЛГ» | H24: Пост. РМ УРСР від 03.08.1978 р. № 383
A25: 3 | B25: Канака | C25: заказник | D25: ботанічний | E25: 160 | F25: Привітненське л-во, кв. 38-40 | G25: ДП «Судакське ЛМГ» | H25: Пост. РМ УРСР від 07.01.1987 р. № 2
A26: 4 | B26: Урочище "Кубалач" | C26: заказник | D26: ботанічний | E26: 526 | F26: Білогірський р-н, с. Мелихово, Пристепне л-во кв. 25,26,28,29,32,33. | G26: ДП «Білогірське ЛГ» | H26: Пост. РМ УРСР від 03.08.1978 р. № 383
A27: 5 | B27: Новий Світ | C27: заказник | D27: ботанічний | E27: 470 | F27: Судакське л-во кв.42-46,67 | G27: ДП «Судакське ЛМГ» | H27: Пост РМ УРСРвід 28.10.1974 р. № 500
A28: 6 | B28: Мале філофорне поле | C28: заказник | D28: ботанічний | E28: 38500 | F28: Акваторія Чорного моря | G28: Науково-дослідна установа «Український науковий центр екології моря» Міністерства екології та природних ресурсів України | H28: Указ Президента Українивід 31.08.2012 р. № 527/2012
B29: Разом заказників ботанічних | C29: 6 | E29: =SUM(E23:E28) -> 40747
A30: 1 | B30: Астанінські плавні | C30: заказник | D30: орнітологічний | E30: 50 | F30: Ленінський р-н, с. Астаніне | H30: Пост. РМ УРСРвід 28.10.1974 р. № 500
A31: 2 | B31: Каркінітський | C31: заказник | D31: орнітологічний | E31: 27646 | F31: Акваторія Чорного моря, Роздольненський р-н, Красноперекопський р-н | G31: Кримський ПЗ | H31: Пост. РМ УРСР від 11.01.1978 р. № 43
B32: Разом заказників орнітологічних | C32: 2 | E32: =SUM(E30:E31) -> 27696
A33: 1 | B33: Хапхальський | C33: заказник | D33: гідрологічний | E33: 250 | F33: м. Алушта, Сонячногірське л-во, кв. 9-11 | G33: ДП «Алуштинське ЛГ» | H33: Пост. РМ УРСР від 28.10.1974 р. № 500
B34: Разом заказників гідрологічних | C34: 1 | E34: =SUM(E33) -> 250
A35: 1 | B35: Качинський каньйон | C35: заказник | D35: геологічний | E35: 100 | F35: Бахчисарайській р-н Михайлівське л-во долина р. Кача кв. 55-57,61 | G35: ДП «Бахчисарайське ЛГ» | H35: Пост. РМ УРСР від 28.10.1974 р. № 500
A36: 2 | B36: Гірський карст Криму | C36: заказник | D36: геологічний | E36: 4316 | F36: Білогірський р-н, Новокленівське л-во, Привітнінське л-во | G36: ДП «Білогірське ЛГ» ДП «Алуштинське ЛГ» ДП «Судакське ЛМГ» | H36: Пост. РМ УРСР від 13.02.1989 р.№ 53
B37: Разом заказників геологічних | C37: 2 | E37: =SUM(E35:E36) -> 4416
B38: Всього заказників загальнодержавного значення | C38: =C37+C34+C32+C29+C22 -> 14 | E38: =E37+E34+E32+E29+E22 -> 73957.7
A39: 1 | B39: Агармишський ліс | C39: пам`ятка природи | D39: комплексна | E39: 40 | F39: м. Старий Крим, Старокримське л-во, кв. 13 | G39: ДП «Старокримське ЛГ» | H39: Пост. РМ УРСР від 14.10.1975 р. № 780-р
A40: 2 | B40: Бельбекський каньон | C40: пам`ятка природи | D40: комплексна | E40: 100 | F40: Бахчисарайський р-н, долина р. Бельбек с. Танкове | G40: ВАТ агрофірма ім. Іліча | H40: Пост. РМ УРСР від 14.10.1975 р. № 780-р
A41: 3 | B41: Гора Ак-Кая | C41: пам`ятка природи | D41: комплексна | E41: 30 | F41: Білогірський р-н,с. Біла Скеля | G41: Вишенська с/р | H41: Пост. РМ УРСР від 30.03.1981 р.№ 145
A42: 4 | B42: Гора Кішка | C42: пам`ятка природи | D42: комплексна | E42: 50 | F42: м. Ялта, смт. Сімеїз | G42: Сімеїзська с/р | H42: Пост. РМ УРСР від 21.03.1984 р. № 139
A43: 5 | B43: Гірський масив "Караул-Оба" | C43: пам`ятка природи | D43: комплексна | E43: 100 | F43: Судакський р-н,с. Новий світ,Морське л-во, кв. 45 | G43: ДП «Судакське ЛМГ» | H43: Пост. РМ УРСР від. 14.10.1975 р. № 780-р
A44: 6 | B44: Гора останец "Мангуп-Кале" | C44: пам`ятка природи | D44: комплексна | E44: 90 | F44: Бахчисарайській р-н,с. Залісне | G44: Бахчисарайський державний історико-культурний заповідник | H44: Пост. РМ УРСР від.14.10.1975 р. № 780-р
...

Sheet Вінницька обл.
A1: Вінницька область
A2: Перелік територій та об`єктів природно-заповідного фонду загальнодержавного та місцевого значення
A4: № з.п. | B4: Назва території чи об’єкта ПЗФ | C4: Категорія | D4: Тип | E4: Площа, га | F4: Місце розташування території чи об`єкту ПЗФ | G4: Назва установи, підпрємства, організації, землекористувача (землевласника), у віданні якого знаходиться територія чи об’єкт ПЗФ | H4: Рішення, згідно з яким створено (змінено) дану територію чи об’єкт ПЗФ
A8: 1 | B8: 2 | C8: 3 | D8: 4 | E8: 5 | F8: 6 | G8: 7 | H8: 8
A9: Території та об`єкти ПЗФ загальнодержавного значення
A10: 1 | B10: «Кармелюкове Поділля» | C10: Національний природний парк | E10: 20203.4 | F10: Чечельницький районБондурівська, Бритавська, Вербська, Демівська, Куренівська, Любомирська, Лузька, Стратіївська, Тартацька, Червоногреблянська сільські ради Чечельницької селищної ради Чечельницького районуТростянецький районс.Торканівка | G10: Мінприроди | H10: Указ Президента України № 1057/2009 від 16 грудня 2009 року
B11: Всього національних природних парків | C11: 1 | E11: =SUM(E10) -> 20203.4
A12: 1 | B12: Урочище "Устянська дача" | C12: заказник | D12: ботанічний | E12: 173 | F12: Бершадський районПоташнянська с/р,Бершадське лісництво,кв. 54-55 | G12: Бершадський ДЛГ | H12: Постанова РМ УРСР від 16.12.82р. №617
A13: 2 | B13: Іллінецький | C13: заказник | D13: ботанічний | E13: 432 | F13: Іллінецький районІллінецька міська рада ,Васильківська сільська рада (кв.36,37),Іллінецьке лісництво,кв.35-37, кв.47-50 | G13: Іллінецький ДЛГ | H13: Постанова РМ УРСР від2.11.84р. №434
A14: 3 | B14: Дашівський | C14: заказник | D14: ботанічний | E14: 116 | F14: Іллінецький районБілківська сільська радаДашівське лісництво кв. 75,76 | G14: Дашівське лісомисливське господарство | H14: Постанова РМ УРСР від2.11.84р. №434
A15: 4 | B15: Урочище "Сестринівська дача" | C15: заказник | D15: ботанічний | E15: 48 | F15: Козятинська сільська рада,Козятинське лісництво,кв. 8 | G15: Хмільницький ДЛГ | H15: Постанова РМ УРСР від16.12.82р. №617
A16: 5 | B16: Дяківці | C16: заказник | D16: ботанічний | E16: 223 | F16: Літинський районДяковецька сільська рада | G16: Хмільницький ДЛГ | H16: Постанова РМ УРСР від2.11.84р. №434
A17: 6 | B17: Бронницький | C17: заказник | D17: ботанічний | E17: 265 | F17: Мог. - Подільський район,Суботіївська сільська радас. Бронниця | G17: Мог. - Подільськийрайагроліс | H17: Постанова РМ УРСР від28.10.74р. №500
A18: 7 | B18: Вендичанська дубина | C18: заказник | D18: ботанічний | E18: 373 | F18: Мог.- Подільський районВендичанська сільська радаЮрковецьке лісництво,кв.кв. 1-11,біля с. Вендичани | G18: Мог .- Подільський ДЛГ | H18: Постанова РМ УРСР від03.08.78р. № 383
A19: 8 | B19: Гарячківська дача | C19: заказник | D19: ботанічний | E19: 774 | F19: Піщанський районСтавківська та Миролюбівська сільські радиРудницьке лісництво кв. кв. 10 -16 ,21-24,28,29,31,33 | G19: Крижопільський ДЛГ | H19: Указ Президента від 21.02.02 № 167/2002
A20: 9 | B20: Гайдамацька балка | C20: заказник | D20: ботанічний | E20: 1217 | F20: Тростянецький район,Ободівська сільська рада,Цибулівське лісництвокв. . 28-38,43-49,55-58. | G20: Ободівське ДЛМГ | H20: Постанова РМ УРСР від13.02.89 р. №53
A21: 10 | B21: Урочище "Журавлівська дача" | C21: заказник | D21: ботанічний | E21: 595 | F21: Тульчинський районСуворівська сільська радаЖуравлівське лісництвокв. кв . 24-27, 36 -39поблизу с. Журавлівка | G21: Тульчинське лісомисливське господарство | H21: Постанова РМ УРСР від16.12.82 р. №617
A22: 11 | B22: Хмільницька дача | C22: заказник | D22: ботанічний | E22: 50 | F22: Хмільницький районШироко - Гребельська сільська радаХмільницьке лісництво,кв.29 | G22: Хмільницький ДЛГ | H22: Постанова Ради Міністрів УРСР від03.08.78 р.. № 383
A23: 12 | B23: Бритавський | C23: заказник | D23: ботанічний | E23: 3259 | F23: Чечельницький районБритавська сільська рада Бритавське лісництво,кв.кв. 24-26,39-42,53-72,76-110 | G23: Чечельницький ДЛГ | H23: Постанова Ради Міністрів УРСР від 02.06.90 р.№ 123
... A25: 14 | B25: Урочище "Криве" | C25: заказник | D25: ботанічний | E25: 226 | F25: Ямпільський районСеверинівська сільська радаСеверинівське лісництво,кв.27-30 | G25: Ямпільський ДЛГ | H25: Постанова РМ УРСР від02.11.84 р. № 434
B26: Разом заказників ботанічних | C26: 14 | E26: =SUM(E12:E25) -> 7969
A27: 1 | B27: Коростовецький | C27: заказник | D27: ландшафтний | E27: 370 | F27: Гайсинський район | G27: Гайсинський ДЛГ | H27: Указ Президента України від 21.02.02. № 167/2002
A28: 2 | B28: Володимирська дубина | C28: заказник | D28: ландшафтний | E28: 133 | F28: Жмеринський район,Браїлівська сільська рада,Гніванське лісництво кв.32-35 | G28: Вінницький лісо-виробничий комплекс | H28: Постанова Ради Міністрів УРСР від28.10.74 р. № 500
A29: 3 | B29: Грабарківський | C29: заказник | D29: ландшафтний | E29: 487 | F29: Могилів - Подільський район,Юрковецька сільська рада,Юрковецьке лісництво ,кв.6-15 | G29: ДП “Могилів -Подільський ДЛГ” | H29: Постанова Ради Міністрів УРСР від28.10.74 р. № 500
A30: 4 | B30: Урочище "Самчинецьке" | C30: заказник | D30: ландшафтний | E30: 218 | F30: Немирівський район,Новообіходська сільська рада,Брацлавське лісництво,кв.1-4 | G30: ДП “Тульчинське ДЛМГ” | H30: Постанова Ради Міністрів УРСР від16.12.82 р. № 617
B31: Разом заказників ландшафтних | C31: 4 | E31: =SUM(E27:E30) -> 1208
A32: 1 | B32: Марксова дубина | C32: заказник | D32: лісовий | E32: 295 | F32: Немирівський район,Марківська сільська рада,Брацлавське лісництво,кв. 35-40 | G32: ДП “Тульчинське ДЛМГ” | H32: Постанова РМ УРСР від28.10.74 р. № 500
B33: Разом заказників лісових | C33: 1 | E33: =SUM(E32) -> 295
A34: 1 | B34: Буго - Деснянський | C34: заказник | D34: загальнозоологічний | E34: 1073 | F34: Вінницький район,Михайлівське лісництво- кв. 15-34Стрижавська с/р - кв. 15,17-21,25,26 =424,0 гаСосонська с/р -кв. 16,22-24 =198,0 гаСтадницька с/р - кв. 27-34=431,0га | G34: Вінницьке ДЛМГ | H34: Постанова РМ УРСР від28.10.74 р. № 500
A35: 2 | B35: Згарський | C35: заказник | D35: загальнозоологічний | E35: 3018.7 | F35: Жмеринський район:с. Лисогірка,с .Почапинці,Літинський район:с. Багринівці,с. Бірків,с. Горбівці,с. Микулинці | G35: Лисогірська сільська рада -59,5 га,Почапинецька сільська рада -716,1 га,Багриновецька сільська рада -499,8 га,Бірківська сільська рада -618,3 га,Горбовецька сільська рада -366,1 га,Микулинецька сільська рада -154,3 га,Літинський виробничий рибцех-444,8 гаЛітинський торфозавод -150,0 гаАдміністрація автомобільних доріг у Вінницькій області -9,8 га | H35: Указ Президента України від 21.02.02 № 167/ 2002
B36: Разом заказників загальнозоологічних | C36: 2 | E36: =SUM(E34:E35) -> 4091.7
B37: Всього заказників загальнодержавного значення | C37: =C36+C33+C31+C26 -> 21 | E37: =E36+E33+E31+E26 -> 13563.7
A38: 1 | B38: Урочище "Княгиня" | C38: пам`ятка природи | D38: комплексна | E38: 53 | F38: Піщанський район,Піщанська с/р,Піщанське лісництво квартали - 1,2 | G38: Крижопільський ДЛГ | H38: Розпорядження Ради Міністрів УРСР від 14.10.75 р. № 780-Р
A39: 2 | B39: Урочище "Стінка" | C39: пам`ятка природи | D39: комплексна | E39: 90 | F39: Ямпільський районПетрашівська с/рПетрашівське лісництво , кв.20 | G39: Ямпільський ДЛГ | H39: Розпорядження Ради Міністрів УРСР від 14.10.75 р. № 780-Р
B40: Разом пам`яток природи комплексних | C40: 2 | E40: =SUM(E38:E39) -> 143
A41: 1 | B41: "Терещуків яр" | C41: пам`ятка природи | D41: ботанічна | E41: 3.8 | F41: Чечельницький районЧечельницька селищна рада, смт. Чечельник, правий берег р. Савранки | G41: Чечельницька селищна рада | H41: Постанова Ради Міністрів УРСР від 28.12.89 р. № 324
A42: 2 | B42: "Ромашково" | C42: пам`ятка природи | D42: ботанічна | E42: 8.7 | F42: Чечельницький районЧечельницька селищна рада | G42: Чечельницька селищна рада | H42: Постанова Ради Міністрів УРСР від 28.12.89 р. № 324
B43: Разом пам`яток природи ботанічних | C43: 2 | E43: =SUM(E41:E42) -> 12.5
A44: 1 | B44: Урочище "Дубина" | C44: пам`ятка природи | D44: загально-зоологічна | E44: 29 | F44: Літинський район,Громадська с/р,Соснівська с/рЛітинське лісництво, кв.23,д. 1 | G44: Хмільницький ДЛГ | H44: Розпорядження Ради Міністрів УРСР від 14.10.75 р.№ 780 - р.
A45: 2 | B45: Урочище "Рибчинецька дубина" | C45: пам`ятка природи | D45: загально-зоологічна | E45: 40 | F45: Хмільницький район,с. Рибчинці с. Маркуші | G45: “Віноблагроліс”,Рибчинецька сільська рада | H45: Розпорядження Ради Міністрів УРСР від 14.10.75 р. № 780 -р.
...

Sheet Волинська обл.
A1: Волинська область
A2: Перелік територій та об`єктів природно-заповідного фонду загальнодержавного та місцевого значення
A4: № з.п. | B4: Назва території чи об’єкта ПЗФ | C4: Категорія | D4: Тип | E4: Площа, га | F4: Місце розташування території чи об`єкту ПЗФ | G4: Назва установи, підпрємства, організації, землекористувача (землевласника), у віданні якого знаходиться територія чи об’єкт ПЗФ | H4: Рішення, згідно з яким створено (змінено) дану територію чи об’єкт ПЗФ
A8: 1 | B8: 2 | C8: 3 | D8: 4 | E8: 5 | F8: 6 | G8: 7 | H8: 8
A9: Території та об`єкти ПЗФ загальнодержавного значення
A10: 1 | B10: Черемський | C10: природний заповідник | E10: 2975.7 | F10: Маневицький район, Черемський природний заповідник | G10: Черемський природний заповідник | H10: Указ Президента України від 19.12.2001 №1234/2001
B11: Всього природних заповідників | C11: 1 | E11: =SUM(E10) -> 2975.7
A12: 1 | B12: Шацький | C12: національний природний парк | E12: 48977 | F12: Шацький національний природний парк,ДП „Шацький учбово-досвідний лісгосп” | G12: Шацький національний природний парк | H12: Указ Президента України від 16.08.1999 № 992/99
A13: 2 | B13: „Прип’ять-Стохід” | C13: національний природний парк | E13: 39315.5 | F13: Любешівський р-н, ДП „Любешівське ЛМГ”, ДП СЛАП «Любешівагроліс», с/р | G13: Національний природний парк „Прип’ять-Стохід” | H13: Указ Президента України від 13.08.07 № 699/2007
A14: 3 | B14: «Цуманська пуща» | C14: національний природний парк | E14: 33475.34 | F14: Ківерцівський р-н, ДП «Цуманське ЛГ», ДП МГ «Звірівське», ДП КСЛП «Ківерціліс», с/р | G14: Ківерцівський національний природний парк «Цуманська пуща» | H14: Указ Президента України від 22.02.2010 № 203/2010
B15: Всього національних природних парків | C15: 3 | E15: =SUM(E12:E14) -> 121767.84
A16: 1 | B16: „Нечимне” | C16: заказник | D16: ландшафтний | E16: 40 | F16: Ковельський р-н, ДП „Ковельське ЛГ”, Скулинське л-во, кв.70 | G16: ДП „Ковельське ЛГ” | H16: Постанова Ради Міністрів України від 25.02.80 №132
A17: 2 | B17: „Чахівський” | C17: заказник | D17: ландшафтний | E17: 72.9 | F17: Шацький р-н, ДП „Любомльське ЛГ”, Головненське л-во, кв.6, вид.6, вид.14,16,18,22-25, кв.7, вид.1,2,5 | G17: ДП „Любомльське ЛГ” | H17: Указ Президента України від 10.12.1994 № 750/94
A18: 3 | B18: „Мошне” | C18: заказник | D18: ландшафтний | E18: 73.3 | F18: Любомльський р-н, ДП „Любомльське ЛГ”, Згоранське л-во, кв.21, вид.5,6,8,11,12,14 | G18: ДП „Любомльське ЛГ” | H18: Указ Президента України від 10.12.1994 № 750/94
A19: 4 | B19: „Згоранські озера” | C19: заказник | D19: ландшафтний | E19: 705.6 | F19: Любомльський р-н, с.Згорани | G19: Любомльське МСЛП | H19: Указ Президента України від 9.12.1998 № 1341/98
A20: 5 | B20: „Кормин” | C20: заказник | D20: ландшафтний | E20: 549 | F20: Ківерцівський р-н, ДП „Цуманське ЛГ”, Берестян-ське л-во: кв.1, вид.1-6,13, кв.2, вид.1-10, кв.4, вид.19-31, кв.7, вид.40,41, кв.12, вид.1-19,43,49, кв.15, вид.25-33, 36-40, кв.20, вид.33, кв.21, 1-21, кв.25, вид.1-32, кв.29, вид.15-34, кв.35, вид.33-47, кв.36, вид.1-17, кв.44, вид.16-37, кв.43, вид.31-41, кв.52, вид.41-47 | G20: ДП „Цуманське ЛГ” | H20: Указ Президента України від 10.12.1994 № 750/94
A21: 6 | B21: „Кручене озеро” | C21: заказник | D21: ландшафтний | E21: 75.9 | F21: Маневицький р-н, ДП „Городоцьке ЛГ”, Трояні вське л-во, кв.28, вид.20-23,26, кв.29, вид.1,5,7 | G21: ДП „Городоцьке ЛГ” | H21: Указ Президента України від 10.12.1994 № 750/94
A22: 7 | B22: „Джерела” | C22: заказник | D22: ландшафтний | E22: 90 | F22: Маневицький р-н, ДП „Маневицьке ЛГ”, Черевахівське л-во, кв.20, вид.3-6,9-11,15,16,18,25,26, кв.21, вид. | G22: ДП „Маневицьке ЛГ” | H22: Указ Президента України від 10.12.1994 № 750/94
A23: 8 | B23: „Стохід” | C23: заказник | D23: ландшафтний | E23: 4420 | F23: Камінь-Каширський і Маневицький райони | G23: ДП „Камінь-Каширське ЛГ”„Городоцьке ЛГ”,с/р | H23: Указ Президента України від 9.12.1998 № 1341/98
B24: Разом заказників ландшафтних | C24: 8 | E24: =SUM(E16:E23) -> 6026.7
A25: 1 | B25: „Воротнів” | C25: заказник | D25: ботанічний | E25: 600 | F25: Ківерцівський р-н, ДП „Ківерцівське ЛГ”, Луцьке л-во, кв.125-130,132-148 | G25: ДП „Ківерцівське ЛГ” | H25: Постанова Ради Міністрів України від 3.08.78 № 383
A26: 2 | B26: „Втенський” | C26: заказник | D26: ботанічний | E26: 130 | F26: Шацький р-н, ДП „Шацьке УДЛГ”, Ростанське л-во, кв.13, вид.15, кв.14, вид.17, кв.20, вид.3, кв.21, вид.1,15 | G26: ДП „Шацьке УДЛГ” | H26: Постанова Ради Міністрів України від 25.02.80 №132
A27: 3 | B27: „Вутвицький” | C27: заказник | D27: ботанічний | E27: 50 | F27: Камінь-Каширський р-н, ДП „Камінь-Каширсь-ке ЛГ”, Нуйнівське л-во, кв.22, вид.2-4,6-10,18-19,31 | G27: ДП „Камінь-Каширсь-ке ЛГ” | H27: Постанова Ради Міністрів України від 25.02.80 №132
A28: 4 | B28: „Губине” | C28: заказник | D28: ботанічний | E28: 418 | F28: Локачинський р-н, ДП „Володимир-Волинське ЛМГ”, Губинс яке л-во, кв.12,13,18,20 | G28: ДП „Володимир-Волинське ЛМГ” | H28: Указ Президента України від 10.12.1994 № 750/94
A29: 5 | B29: „Софіянівський” | C29: заказник | D29: ботанічний | E29: 87.6 | F29: Маневицький р-н, ДП „Маневицьке ЛГ”, Софіянівське л-во, кв.8, вид.19, кв.9 | G29: ДП „Маневицьке ЛГ” | H29: Указ Президента України від 10.12.1994 № 750/94
A30: 6 | B30: „Урочище Суничник” | C30: заказник | D30: ботанічний | E30: 99 | F30: Маневицький р-н, ДП „Городоцьке ЛГ”, Борове л-во, кв.21, вид.17-22,24-26, кв.32, вид.1-11,13-15,17,18,39 | G30: ДП „Городоцьке ЛГ” | H30: Указ Президента України від 10.12.1994 № 750/94
B31: Разом заказників ботанічних | C31: 6 | E31: =SUM(E25:E30) -> 1384.6
A32: 1 | B32: „Рись” | C32: заказник | D32: загально-зоологічний | E32: 320.5 | F32: Маневицький р-н, ДП „Городоцьке ЛГ”, Борове л-во, кв.3, вид.33-37, кв.6, вид.35,36, кв.7, кв.9 | G32: ДП „Городоцьке ЛГ” | H32: Постанова Ради Міністрів України від 2.06.90 № 123
B33: Разом заказників загальнозоологічних | C33: 1 | E33: =SUM(E32) -> 320.5
B34: Всього заказників загальнодержавного значення | C34: =C33+C31+C24 -> 15 | E34: =E33+E31+E24 -> 7731.8
A35: 1 | B35: „Горинські крутосхили” | C35: пам`ятка природи | D35: комплексна | E35: 30 | F35: Ківерцівський р-н, ДП „Цуманське ЛГ”, Горинсь-ке л-во: кв.39,вид.24,26,27,30,32,33,37,40,41,46,47 | G35: ДП „Цуманське ЛГ” | H35: Постанова Ради Міністрів України від 3.08.78 № 383
B36: Разом пам`яток природи комплексних | C36: 1 | E36: =SUM(E35) -> 30
A37: 2 | B37: „Озеро Святе” | C37: пам`ятка природи | D37: гідрологічна | E37: 44 | F37: Ратнівський р-н, ДП „Ратнівське ЛМГ”, Заболотівське л-во, кв.21, вид.10 | G37: ДП „Ратнівське ЛМГ” | H37: Розпорядження Ради Мін. України від 14.10.75 №780
A38: 3 | B38: „Озеро Добре” | C38: пам`ятка природи | D38: гідрологічна | E38: 46 | F38: Камінь-Каширський р-н, ДП „Камінь-Каширське ЛГ”, Нуйнівське л-во, кв.5, вид.23 | G38: ДП „Камінь-Каширське ЛГ” | H38: Розпорядження Ради Мін. України від 14.10.75 №780
B39: Разом пам`яток природи гідрологічних | C39: 2 | E39: =SUM(E37:E38) -> 90
B40: Всього пам`яток природи загальнодержавного значення | C40: =C39+C36 -> 3 | E40: =E36+E39 -> 120
A41: 1 | B41: Луцький ботанічний сад «Волинь» | C41: ботанічний сад | E41: 10 | F41: м.Луцьк, вул.К.Савура | G41: Волинський державний університет (дендрарій пл..2 га); Луцька м/р (пл..8га) | H41: Розпорядження Ради Мін. України від 14.10.75 №780
B42: Всього ботанічних садів загальнодержавного значення | C42: 1 | E42: =SUM(E41) -> 10
A43: 1 | B43: „Байрак” | C43: парк-пам`ятка садово-паркового мистецтва | E43: 13 | F43: Луцький р-н, смт.Рокині | G43: Музей історії сільського господарства Волині | H43: Указ Президента України № 715/96 від 20.08.1996
A44: 2 | B44: „Здоров’я” | C44: парк-пам`ятка садово-паркового мистецтва | E44: 13.6 | F44: Турійський р-н, смт.Луків | G44: Тублікарня ст.Мацеїв Львівської залізниці | H44: Указ Президента України № 715/96 від 20.08.1996
...

Sheet Дніпропетровська обл.
A1: Дніпропетровська область
A2: Перелік територій та об`єктів природно-заповідного фонду загальнодержавного та місцевого значення
A4: № з.п. | B4: Назва території чи об’єкта ПЗФ | C4: Категорія | D4: Тип | E4: Площа, га | F4: Місце розташування території чи об`єкту ПЗФ | G4: Назва установи, підпрємства, організації, землекористувача (землевласника), у віданні якого знаходиться територія чи об’єкт ПЗФ | H4: Рішення, згідно з яким створено (змінено) дану територію чи об’єкт ПЗФ
A8: 1 | B8: 2 | C8: 3 | D8: 4 | E8: 5 | F8: 6 | G8: 7 | H8: 8
A9: Території та об`єкти ПЗФ загальнодержавного значення
A10: 1 | B10: Дніпровсько-Орільський | C10: Природний заповідник | E10: 3766.2 | F10: Дніпропетровський та Петриківський райони, Орільське лісництво | G10: Дніпровсько-Орільський природний заповідник Дніпропетровське обласне управління лісового та мисливського господарства | H10: Постанова РМ УРСР 15.09.1990 № 262
B11: Всього природних заповідників | C11: 1 | E11: =SUM(E10) -> 3766.2
A12: 1. | B12: Приорільський | C12: заказник | D12: ландшафтний | E12: 8377 | F12: Між селами Орілька, Багате та Перещепине Новомосковського району та між селами Личкове,Бузівка, Ковпаківка, Котовка, Степанівка, Заплавка, Гупалівка Магдалинівського району | G12: Магдалинівська, Новомосковська райдержадміністрації, Новомосковський держлісгосп | H12: Указ Президента України 09.12.1998 № 1341/98
A13: 2 | B13: Богданівський | C13: заказник | D13: ландшафтний | E13: 1387 | F13: Нікопольський район | G13: ВАТ «ОГЗК» Марганецький держлісгосп | H13: Указ Президента України 09.12.1998 № 1341/98
A14: 3 | B14: Балка Північна Червона | C14: заказник | D14: ландшафтний | E14: 28 | F14: Північно-західна околиця м. Кривий Ріг | G14: Управління містобудування і архітектури виконкому Криворізької міськради | H14: Постанова РМ УРСР 12.12.1983 №495
A15: 4 | B15: Кільченський | C15: заказник | D15: ландшафтний | E15: 100 | F15: м. Підгородне Дніпропетровського району | G15: Дніпропетровська райдержадміністрація | H15: Постанова РМ УРСР 28.10.1974 №500
A16: 5 | B16: Комарівщина | C16: заказник | D16: ландшафтний | E16: 288 | F16: Відрадне лісництво кв.38,39,45,46,47 | G16: Новомосковський держлісгосп | H16: Постанова РМ УРСР 12.12.1983 №495
A17: 6 | B17: Солоний лиман | C17: заказник | D17: ландшафтний | E17: 341 | F17: Між с. Новотроїцьке, Знаменівка Новомосковського району | G17: Новомосковська райдержадміністрація | H17: Постанова РМ УРСР 25.02.1980 №132
A18: 7 | B18: Інгулецький степ | C18: заказник | D18: ландшафтний | E18: 65.6 | F18: с. Недайвода Криворізького району | G18: Криворізька райдержадміністрація | H18: Указ Президента України від 21.02.2002 №167/2002
A19: 8 | B19: Бакаї | C19: заказник | D19: ландшафтний | E19: 690 | F19: смт. Васильківка, с. Вовчанське Васильківського району | G19: Васильківська райдержадміністрація | H19: Указ Президента України від 12.09.2005 № 1238/2005
A20: 9 | B20: Преображенський | C20: заказник | D20: ландшафтний | E20: 312.6 | F20: с. Богданівка, селище Правда, с. Преображенське Васильківського району | G20: Васильківський держлісгосп, Васильківська райдержадміністрація | H20: Указ Президента України від 12.09.2005 № 1238/2005
A21: 10 | B21: Дебальцевські лимани | C21: заказник | D21: ландшафтний | E21: 429.3 | F21: с. Дебальцеве, с. Перевальське Васильківського району | G21: Васильківська райдержадміністрація | H21: Указ Президента України від 12.09.2005 № 1238/2005
A22: 11 | B22: Вишневський | C22: заказник | D22: ландшафтний | E22: 615 | F22: с. Семенівка, с. Барвінок Криничанського району | G22: Криничанська райдержадміністрація | H22: Указ Президента України від 12.09.2005 № 1238/2005
A23: 12 | B23: Мар’їн гай | C23: заказник | D23: ландшафтний | E23: 2803 | F23: с. Дмитрівка, с. Бажани, с. Миколаївка, с. Катеринівка Петропавлівського району | G23: Павлоградський держлісгосп, Петропавлівська райдержадміністрація | H23: Указ Президента України від 12.09.2005 № 1238/2005
A24: 13 | B24: Петропавлівські лимани | C24: заказник | D24: ландшафтний | E24: 4193 | F24: с. Коханівка, с. Брагинівка, с. Самарське, смт. Петропавлівка, с. Петрівка, с. Миколаївка Петропавлівського району | G24: Павлоградський держлісгосп, Петропавлівська райдержадміністрація | H24: Указ Президента України від 12.09.2005 № 1238/2005
A25: 14 | B25: Кам’янський прибережно-річковий комплекс | C25: заказник | D25: ландшафтний | E25: 2615 | F25: Михайлівка, Кам’янка, Токівське, Ленінське Апостолівського району | G25: Апостолівська райдержадміністрація | H25: Указ Президента України від 25.11.2008 № 1078/2008
B26: Разом заказників ландшафтних | C26: 14 | E26: =SUM(E12:E25) -> 22244.5
A27: 1 | B27: Урочище Яцево | C27: заказник | D27: лісовий | E27: 175 | F27: с. Любимівка Дніпропетровського району, Любимівське лісництво кв.18-20 | G27: Дніпропетровський держлісгосп | H27: Постанова РМ УРСР 19.04.1977 №198
A28: 2 | B28: Велика Западня | C28: заказник | D28: лісовий | E28: 157 | F28: с. Зарічне, Верхньодніпровського району Верхньодніпровське лісництво кв.3,4 | G28: Верхньодніпровський держлісгосп | H28: Постанова РМ УРСР 28.10.1974 №500
A29: 3 | B29: Грушеватський | C29: заказник | D29: лісовий | E29: 598 | F29: с. Іванівка П’ятихатського району П’ятихатське лісництво кв.58-90 | G29: Верхньодніпровський держлісгосп | H29: Постанова РМ УРСР 28.10.1974 №500
A30: 4 | B30: Комісарівський | C30: заказник | D30: лісовий | E30: 947 | F30: с. Новоукраїнка П’ятихатського району П’ятихатське лісництво кв.9-46 | G30: Верхньодніпровський держлісгосп | H30: Постанова РМ УРСР 28.10.1974 №500
A31: 5 | B31: Дібрівський | C31: заказник | D31: лісовий | E31: 1079 | F31: с. Великомихайлівка, Покровського району Великомихайлівське лісництво кв.1-24,26-29,31-39 | G31: Васильківський держлісгосп | H31: Постанова РМ УРСР 28.10.1974 №500
B32: Разом заказників лісових | C32: 5 | E32: =SUM(E27:E31) -> 2956
A33: 1 | B33: Грабівський | C33: заказник | D33: ботанічний | E33: 207 | F33: с. Біленщина, П’ятихатського району Мишурінорізьке лісництво кв.45-47 | G33: Верхньодніпровський держлісгосп | H33: Постанова РМ УРСР 28.10.1974 №500
A34: 2 | B34: Балка Бандурка | C34: заказник | D34: ботанічний | E34: 125 | F34: с. Євецько-Миколаївка, Новомосковського району Новомосковський військлісгосп кв.47,48 | G34: Новомосковський військлісгосп | H34: Постанова РМ УРСР 28.10.1974 №500
B35: Разом заказників ботанічних | C35: 2 | E35: =SUM(E33:E34) -> 332
A36: 1 | B36: Булахівський лиман | C36: заказник | D36: орнітологічний | E36: 100 | F36: с. Булахівка Павлоградського району | G36: Павлоградська райдержадміністрація | H36: Постанова РМ УРСР 19.04.1977 №198
A37: 2 | B37: Волошанська дача | C37: заказник | D37: орнітологічний | E37: 648 | F37: с. Преображенка Юр’ївського району, Юр’ївська виробнича ділянка кв.1-12 | G37: Павлоградський держлісгосп | H37: Постанова РМ УРСР 28.10.1974 №500
B38: Разом заказників орнітологічний | C38: 2 | E38: =SUM(E36:E37) -> 748
B39: Всього заказників загальнодержавного значення | C39: =C38+C35+C32+C26 -> 23 | E39: =E38+E35+E32+E26 -> 26280.5
A40: 1 | B40: Урочище «Лелія» | C40: пам`ятка природи | D40: комплексна | E40: 30 | F40: Біля с. Турово Царичанського району | G40: Царичанська райдержадміністрація | H40: Розпорядження РМ УРСР 14.10.1975 №780-Р
B41: Разом пам`яток природи комплексних | C41: 1 | E41: =SUM(E40) -> 30
A42: 1 | B42: Урочище Паськове | C42: пам`ятка природи | D42: ботанічна | E42: 56 | F42: В 4 км південніше с. Івашкове Верхньодніпровського району Бородаївське лісництво, кв.47 | G42: Верхньодніпровський держлісгосп | H42: Розпорядження РМ УРСР 14.10.1975 №780-Р
B43: Разом пам`яток природи ботанічних | C43: 1 | E43: =SUM(E42) -> 56
A44: 1 | B44: Скелі Мопра | C44: пам`ятка природи | D44: геологічна | E44: 62 | F44: м. Кривий Ріг | G44: Управління містобудування і архітектури виконкому Криворізької міськради | H44: Розпорядження РМ УРСР 14.10.1975 №780-Р
...

Sheet Донецька обл.
A1: Донецька область
A2: Перелік територій та об`єктів природно-заповідного фонду загальнодержавного та місцевого значення
A4: № з.п. | B4: Назва території чи об’єкта ПЗФ | C4: Категорія | D4: Тип | E4: Площа, га | F4: Місце розташування території чи об`єкту ПЗФ | G4: Назва установи, підпрємства, організації, землекористувача (землевласника), у віданні якого знаходиться територія чи об’єкт ПЗФ | H4: Рішення, згідно з яким створено (змінено) дану територію чи об’єкт ПЗФ
A8: 1 | B8: 2 | C8: 3 | D8: 4 | E8: 5 | F8: 6 | G8: 7 | H8: 8
A9: Території та об`єкти ПЗФ загальнодержавного значення
A10: 1 | B10: Український степовий | C10: природний заповідник | E10: 3033.2 | F10: Новоазовський р-н, с. Хомутове | H10: Постанова РМ УРСР №1118 від 22.07.61
A11: в т.ч. відділення:
B12: Хомутовський степ | C12: природний заповідник | E12: 1030.4 | F12: Новоазовський р-н, с. Хомутове | G12: Український степовий природний заповідник | H12: Постанова Маріупольського Окрвиконкому від 24.08.26 Постанова РМ УРСР №1118 від 22.07.61
B13: Кам’яні Могили | C13: природний заповідник | E13: 289.2 | F13: Володарський р-н, | G13: Український степовий природний заповідник | H13: Постанова Президії Маріупольського Окрвиконкому від 05.04.27, постанова РМ УРСР №1118 від 22.07.61
B14: Крейдяна флора | C14: природний заповідник | E14: 1134 | F14: Новокраснівська сільска рада, біля с. Назарівка Слов’янський р-н, біля с. Піскунівка, Краснолиманський р-н , біля с. Закітне та с. Крива Лука Слов’янський (634,0 га) та Краснолиманський р-ни (500,0 га) | G14: Український степовий природний заповідник | H14: Розпорядження РМ УРСР №310 - Р від 14.07.88
B15: Кальміуське | C15: природний заповідник | E15: 579.6 | F15: Тельманівський р-н, с.Стара Ласпа | G15: Український степовий природний заповідник | H15: Указ Президента України від 19.08.08 №723/2008
B16: Всього природних заповідників | C16: 1 | E16: =SUM(E10) -> 3033.2
A17: 1 | B17: Святі Гори | C17: національний природний парк | E17: 40605.5 | F17: Слов’янський та Краснолиманський р-ни, м. Слов’яногірськ | G17: Слов’янський р-н, ДП "Слов'янське лісове господарство", Долинська сільська рада Краснолиманський р-н, Краснолиманська міська рада, Криволуцька сільська рада, м. Святогірськ | H17: Указ Президента України №135/97 від 13.02.97,
A18: 2 | B18: Меотида | C18: національний природний парк | E18: 20720.953 | F18: Володарський, Новоазовський та Першотравневий райони | G18: ДП «Приазовське лісове господарство», Володарська райдержадміністрація, риболовецьке колективне господарство «Прибой», Новоазовська райдержадміністрація | H18: Указ Президента України № 1099/2009 від 25.12.09
B19: Всього національних природних парків | C19: 2 | E19: =SUM(E17:E18) -> 61326.453
A20: 1 | B20: Бердянський | C20: заказник | D20: лісовий | E20: 413 | F20: Амвросіївський р-н, ДП «Амвросіївське лісове господарство», Благодатнівське л-во, кв. 10-14; Степано-Кринське л-во, кв.31-35 | G20: ДП «Амвросіївське лісове господарство» | H20: Постанова РМ УРСР №500 від 28.10.74
A21: 2 | B21: Великоанодольський | C21: заказник | D21: лісовий | E21: 2543 | F21: Волноваський р-н,ДП «Великоанодольське лісове господарство», Великоанодольське л-во, кв. 1-90 | G21: ДП «Великоанодольське лісове господарство» | H21: Постанова РМ УРСР №500 від 28.10.74
B22: Разом заказників лісових | C22: 2 | E22: =SUM(E20:E21) -> 2956
A23: 1 | B23: Білосарайська коса | C23: заказник | D23: ландшафтний | E23: 616 | F23: Першотравневий р-н, ДП «Приазовське лісове господарство», Стародубівське л-во, кв. 51-58, акваторія Азовського моря –200,0 га | G23: ДП «Приазовське лісове господарство» | H23: Постанова РМ УРСР №132 від 25.02.80
B24: Разом заказників ландшафтних | C24: 1 | E24: =SUM(E23) -> 616
A25: 1 | B25: Роздольненський | C25: заказник | D25: геологічний | E25: 100 | F25: Старобешівський р-н, с. Роздольне | G25: Роздольненська сільська рада | H25: Постанова РМ УРСР №500 від 28.10.74
B26: Разом заказників геологічних | C26: 1 | E26: =SUM(E25) -> 100
A27: 1 | B27: «Приазовський чапельник» | C27: заказник | D27: орнітологічний | E27: 100 | F27: Першотравневий р-н, смт. Ялта, | G27: Першотравнева районна рада | H27: Указ Президента України №1207/2000 від 04.11.2000
A28: 2 | B28: «Єланчанські бакаї» | C28: заказник | D28: орнітологічний | E28: 289 | F28: Новоазовський р-н, с. Самсонове | G28: ДП «Тельманівське лісове господарство», АЦ № 27 ДП «Ілліч-Агро Донбас» | H28: Указ Президента України №167/2002 від 21.02.2002
A29: 3 | B29: «Бакаї Кривої коси» | C29: заказник | D29: орнітологічний | E29: 567.6 | F29: Новоазовський р-н, смт Сєдове | G29: ДП «Тельманівське лісове господарство», Седовська селищна.рада | H29: Указ Президента України №167/2002 від 21.02.2002
B30: Разом заказників орнітологічних | C30: 3 | E30: =SUM(E27:E29) -> 956.6
B31: Всього заказників загальнодержавного значення | C31: =C26+C24+C22+C30 -> 7 | E31: =E26+E24+E22+E30 -> 4628.6
A32: 1 | B32: Дружківські закам’янілі дерева | C32: пам`ятка природи | D32: Геологічна | E32: 1 | F32: Костянтинівський р-н, смт Олексієво-Дружківка | G32: Кондратівська сільська рада | H32: Розпорядження РМ УРСР №780 - р від 14.10.75
A33: 2 | B33: Клебан - Бицьке відслонення | C33: пам`ятка природи | D33: Геологічна | E33: 60 | F33: Костянтинівський р-н, лівий берег Клебан-Бикського водосховища | G33: Іллічівська сільська рада | H33: Розпорядження РМ УРСР №780 - р від 14.10.75
A34: 3 | B34: Балка Кровецька | C34: пам`ятка природи | D34: Геологічна | E34: 15 | F34: Костянтинівський р-н, східна околиця с. Іванопілля | G34: Іванопільська сільська рада | H34: Розпорядження РМ УРСР 780 - р від №14.10.75
A35: 4 | B35: Новокатеринівське відслонення | C35: пам`ятка природи | D35: Геологічна | E35: 10 | F35: Старобешівський р-н,с. Новокатеринівка | G35: Осиківська сільська рада | H35: Розпорядження РМ УРСР №780 - р від 14.10.75
A36: 5 | B36: Стильське відслонення | C36: пам`ятка природи | D36: Геологічна | E36: 25 | F36: Старобешівський р-н, с. Стила, берег Стильського водосховища | G36: Стильська сільська рада | H36: Розпорядження РМ УРСР №780 - р від 14.10.75
B37: Разом пам`яток природи геологічних | C37: 5 | E37: =SUM(E32:E36) -> 111
A38: 1 | B38: Балка Гірка | C38: пам`ятка природи | D38: Ботанічна | E38: 4 | F38: Амвросіївський р-н, ДП «Амвросіївське лісове господарство» Амвросіївське л-во, кв. 22, в. 8 | G38: ДП «Амвросіївське лісове господарство» | H38: Розпорядження РМ УРСР №780 - р від 14.10.75
A39: 2 | B39: Маяцька дача | C39: пам`ятка природи | D39: Ботанічна | E39: 18 | F39: Слов’янський р-н, ДП «Слов’янське лісове господарство», Маяцьке л-во, кв. 114 | G39: ДП «Слов’янське лісове господарство» | H39: Розпорядження РМ УРСР №780 - р від 14.10.75
A40: 3 | B40: Урочище Грабове | C40: пам`ятка природи | D40: Ботанічна | E40: 41 | F40: Шахтарський р-н, , ДП «Торезьке лісове господарство», Торезьке л-во, кв. 1 | G40: ДП «Торезьке лісове господарство» | H40: Рішення виконкому обласної ради № 310 від 21. 06. 72 та Розпорядженн Р М УРСР №780 - р від 14.10.75
B41: Разом пам`яток природи ботанічнх | C41: 3 | E41: =SUM(E38:E40) -> 63
A42: 1 | B42: Озеро Ріпне | C42: пам`ятка природи | D42: Гідрологічна | E42: 32 | F42: м. Слов’янськ | G42: ЗАТ лікувально-оздоровчих закладів профспілок України «Укрпрофоздоровниця», дочірнє підприємство «Слов`янська гідрологічна режимно-експлуатаційна станція” | H42: Розпорядження РМ УРСР №780 - р від 14.10.75
A43: 2 | B43: Озеро Сліпне | C43: пам`ятка природи | D43: Гідрологічна | E43: 30 | F43: м. Слов’янськ | G43: ЗАТ лікувально-оздоровчих закладів профспілок України «Укрпрофоздоровниця», дочірнє підприємство «Слов`янська гідрологічна режимно-експлуатаційна станція” | H43: Розпорядження РМ УРСР №780 - р від 14.10.75
B44: Разом пам`яток природи гідрологічних | C44: 2 | E44: =SUM(E42:E43) -> 62
...

Sheet житомирська обл.
A1: Житомирська область
A2: Перелік територій та об`єктів природно-заповідного фонду загальнодержавного та місцевого значення
A4: № з.п. | B4: Назва території чи об’єкта ПЗФ | C4: Категорія | D4: Тип | E4: Площа, га | F4: Місце розташування території чи об`єкту ПЗФ | G4: Назва установи, підпрємства, організації, землекористувача (землевласника), у віданні якого знаходиться територія чи об’єкт ПЗФ | H4: Рішення, згідно з яким створено (змінено) дану територію чи об’єкт ПЗФ
A8: 1 | B8: 2 | C8: 3 | D8: 4 | E8: 5 | F8: 6 | G8: 7 | H8: 8
A9: Території та об`єкти ПЗФ загальнодержавного значення
A10: 1 | B10: Поліський | C10: природний заповідник | E10: 20104 | F10: Овруцький район, с. Селезівка, Копищанське і Перганське лісництва ДП “Олевське ЛГ” та Селезівське лісництво ДП “Словечанське ЛГ” | G10: Поліський природний заповідник Житомирського обласного управління лісового та мисливського господарства | H10: Постанова РМ УРСР від 12.11.1968 р. №584
A11: 2 | B11: «Древлянський» | C11: природний заповідник | E11: 30872.84 | F11: Народицький район, ДП «Народицький спецлісгосп», Народицьке лісництво – 8294 га, Кліщівське лісництво – 5034 га, Заліське лісництво – 3495 га (всього – 16823 га); ДП «Народицький лісгосп АПК», Радчанське лісництво – 57,7 га (всього – 57, 7 га); землі запасу Народицької селищної ради, в тому числі землі населених пунктів – 753,6 га, сіножаті – 3919,14 га, пасовища – 5798 га (усього – 10470,74 га); землі запасу Мотійківської сільської ради, в тому числі землі населених пунктів – 78,3 га, сіножаті – 216,7 га, пасовища – 204,5 га, пасовища радіоактивно забруднені – 13,9 га, сіножаті радіоактивно забруднені – 159,9 га (всього – 673,3 га); землі запасу Селецької сільської ради, в тому числі землі населених пунктів – 18,3 га, сіножаті – 231,1 га, пасовища – 132 га, заболочені землі – 15,5 га, чагарники – 21 га (усього – 418,1 га); 2430 га радіоактивно забруднених земель, що знаходяться в розпорядженні Народицької районної ради (всього – 2430 га) | G11: Міністерство екології та природних ресурсів України | H11: Указ Президента України від 11.12.09 №1038/2009 «Про створення природного заповідника «Древлянський»
B12: Всього природних заповідників | C12: 2 | E12: =SUM(E10:E11) -> 50976.84
A13: 1 | B13: Плотниця | C13: заказник | D13: ландшафтний | E13: 460 | F13: Олевський р-н, ДП “Білокоровицьке ЛГ”, Замисловицьке лісництво, кв. 1, 2, 5, 6, 7 | G13: ДП “Білокоровицьке ЛГ” | H13: Постанова РМ УРСР від 25.02.1980 р. №132
B14: Разом заказників ландшафтних | C14: 1 | E14: =SUM(E13) -> 460
A15: 2 | B15: Поясківський | C15: заказник | D15: лісовий | E15: 113 | F15: Олевський р-н, ДП “Білокоровицьке ЛГ”, Поясківське лісництво, кв. 12 | G15: ДП “Білокоровицьке ЛГ” | H15: Постанова РМ УРСР від 28.10.1974 р. №500
A16: 3 | B16: Туганівський | C16: заказник | D16: лісовий | E16: 245 | F16: Новоград-Волинський р-н, ДП “Новоград-Волинське ДЛМГ”, Ярунське лісництво, кв. 20, 21, 23, 25, 26 | G16: ДП “Новоград-Волинське ДЛМГ” | H16: Постанова РМ УРСР від 28.10.1974 р. №500
B17: Разом заказників лісових | C17: 2 | E17: =SUM(E15:E16) -> 358
A18: 4 | B18: Городницький | D18: ботанічний | E18: 352 | F18: Новоград-Волинський р-н, ДП “Городницьке ЛГ”, Городницьке лісництво, кв. 34, 35, 36 | G18: ДП “Городницьке ЛГ” | H18: Постанова РМ УРСР від 28.10.1974 р. №500
B19: Разом заказників ботанічних | C19: 1 | E19: =SUM(E18) -> 352
A20: 5 | B20: Казява | C20: заказник | D20: загальнозоологічний | E20: 1859 | F20: Новоград-Волинський р-н, ДП «Городницький лісгосп», Броницьке лісництво, кв.11, 12, 13, 17, 18, 19, 20, 21, 22, 27, 28, 29, 30, 31, 35, 36 | G20: ДП «Городницький лісгосп» | H20: Постанова РМ УРСР від 25. 02. 1980 р. №132
A21: 6 | B21: Кутне | C21: заказник | D21: загальнозоологічний | E21: 922 | F21: Овруцький р-н, ДП “Овруцький спецлісгосп”, Борутинське лісництво, кв. 49, 57, 58, 59, 60, 61, 62, 63, 64 | G21: ДП “Овруцький спецлісгосп” | H21: Постанова РМ УРСР від 12.12.1983 р. № 495
B22: Разом заказників загальнозоологічних | C22: 2 | E22: =SUM(E20:E21) -> 2781
A23: 7 | B23: Часниківський | C23: заказник | D23: орнітологічний | E23: 612 | F23: Ємільчинський р-н, ДП “Ємільчинське ЛГ”, Кочичинське лісництво, кв. 45, 46, 47, 53, 45, 55 | G23: ДП “Ємільчинське ЛГ” | H23: Постанова РМ УРСР від 25.02.1980 р. № 132
B24: Разом заказників орнітологічних | C24: 1 | E24: =SUM(E23) -> 612
A25: 8 | B25: Дідове озеро | C25: заказник | D25: гідрологічний | E25: 294 | F25: Овруцький р-н, ДП “Словечанське ЛГ”, Кованське лісництво, кв. 11, 12, 13, 14 | G25: ДП “Словечанське ЛГ” | H25: Постанова РМ УРСР від 25.02.1980 р. № 132
A26: 9 | B26: Забарський | C26: заказник | D26: гідрологічний | E26: 1095 | F26: Ємільчинський р-н, ДП “Ємільчинське ЛГ”, Глумчанське лісництво, кв. 1, 2, 3, 6, 7, 8, 12, 18, 19 | G26: ДП “Ємільчинське ЛГ” | H26: Постанова РМ УРСР від 25.02.1980 р. № 132
A27: 10 | B27: Червоновільсь-кий | C27: заказник | D27: гідрологічний | E27: 805 | F27: Новоград-Волинський р-н, ДП “Городницьке ЛГ”, Червоновільське лісництво, кв. 1, 2, 3, 5, 6, 7, 12, 13 | G27: ДП “Городницьке ЛГ” | H27: Постанова РМ УРСР від 25.02.1980 р. № 132
B28: Разом заказників гідрологічних | C28: 3 | E28: =SUM(E25:E27) -> 2194
B29: Всьго заказників загальнодержавного значення | C29: =C28+C24+C22+C19+C17+C14 -> 10 | E29: =E28+E24+E22+E19+E17+E14 -> 6757
A30: 1 | B30: Корніїв | C30: пам`ятка природи | D30: ботанічна | E30: 15 | F30: Овруцький р-н, ДП “Словечанське ЛГ”, Кованське лісництво, кв.37 | G30: ДП “Словечанське ЛГ” | H30: Розпорядження РМ УРСР від 14.10.1975р. № 780-Р
A31: 2 | B31: Модрина | C31: пам`ятка природи | D31: ботанічна | E31: 36 | F31: Новоград-Волинський р-н, ДП “Городницьке ЛГ” , Дзержинське лісництво, кв.28 | G31: ДП “Городницьке ЛГ” | H31: Розпорядження РМ УРСР від 07.08.1963р. № 1180-Р
B32: Всього пам`яток природи загальнодержавного значення | C32: 2 | E32: =SUM(E30:E31) -> 51
A33: 1 | B33: Ботанічний сад Житомирського національного агроекологічного університету | C33: ботанічний сад | E33: 35.4 | F33: м. Житомир, вул. Корольова, 39 та хутір “Затишшя” | G33: Житомирський національний агроекологічний університет | H33: Розпорядження РМ УРСР від 07.08.1963 р. № 1180-Рі Постанова КМУ від 12.10.1992 р. № 584
B34: Всього ботанічних садів загальнодержавного значення | C34: 1 | E34: =SUM(E33) -> 35.4
A35: 1 | B35: Верхівнянський | C35: парк-пам`ятка садово-паркового мистецтва | E35: 33.7 | F35: Ружинськнй р-н, с. Верхівня | G35: Верхівнянська філія Житомирського агротехнічного коледжу | H35: Постанова РМ УРСР від 29.01.1960 р. № 105
A36: 2 | B36: Городницький | C36: парк-пам`ятка садово-паркового мистецтва | E36: 21 | F36: Новоград-Волинський р-н, ДП “Городницьке ЛГ”, Городницьке лісництво, кв. 65 | G36: ДП “Городницьке ЛГ” | H36: Постанова РМ УРСР від 29.01.1960 р. № 105
A37: 3 | B37: Івницький | C37: парк-пам`ятка садово-паркового мистецтва | E37: 14 | F37: Андрушівський р-н, ДП “Коростишівське ЛГ”, Івницьке лісництво, кв. 82 | G37: ДП “Коростишівське ЛГ” | H37: Постанова РМ УРСР від 29.01.1960 р. № 105
A38: 4 | B38: Новочорторийський | C38: парк-пам`ятка садово-паркового мистецтва | E38: 19.2 | F38: Любарський р-н, с. Нова Чортория | G38: Новочорторийський державний аграрний технікум | H38: Постанова РМ УРСР від 29.01.1960 р. № 105
A39: 5 | B39: Трощанський | C39: парк-пам`ятка садово-паркового мистецтва | E39: 31.9 | F39: Чуднівський район, с. Троща, ДП “Дзержинський лісгосп АПК”, кв. 56 | G39: ДП “Дзержинський лісгосп АПК” | H39: Постанова РМ УРСР від 29.01.1960р. № 105
B40: Всього парків-пам`яток садово-паркового мистецтва загальнодержавного значення | C40: 5 | E40: =SUM(E35:E39) -> 119.8
B41: Всього територій та об`єктів ПЗФ загальнодержавного значення | C41: =C40+C34+C32+C29+C12 -> 20 | E41: =E40+E34+E32+E29+E12 -> 57940.04
A42: Території та об`єкти місцевого значення
A43: 1 | B43: Гамарня | C43: заказник | D43: ландшафтний | E43: 1131 | F43: Малинський р-н, ДП “Малинське ЛГ”, Слобідське лісництво, кв.40, 41, 42, 43 | G43: ДП “Малинське ЛГ” | H43: Рішення облвиконкому від 03.12.1982 р. №489
A44: 2 | B44: Древлянський | C44: заказник | D44: ландшафтний | E44: 9182.76 | F44: Народицький район, ДП «Народицький спецлісгосп»; ДП «Народицький лісгосп АПК», Базарське л-во; землі запасу Базарської с/р; землі запасу Межиліської с/р | G44: ДП «Народицький спецлісгосп», ДП «Народицький лісгосп АПК», Базарська с/р, Межиліська с/р | H44: Рішення 8 сесії обласної ради п’ятого скликання від 05.04.07 № 191 «Про утворення об’єкту природно-заповідного фонду місцевого значення»; уточнено площу заказника рішенням 8 сесії Житомирської обласної ради шостого скликання від 15.12.11 №373 «Про створення нових та уточнення площ існуючих об’єктів природно-заповідного фонду місцевого значення, про зміну користувача заповідного об’єкта»
...

Sheet Закарпатська обл.
A1: Закарпатська область
A2: Перелік територій та об`єктів природно-заповідного фонду загальнодержавного та місцевого значення
A4: № з.п. | B4: Назва території чи об’єкта ПЗФ | C4: Категорія | D4: Тип | E4: Площа, га | F4: Місце розташування території чи об`єкту ПЗФ | G4: Назва установи, підпрємства, організації, землекористувача (землевласника), у віданні якого знаходиться територія чи об’єкт ПЗФ | H4: Рішення, згідно з яким створено (змінено) дану територію чи об’єкт ПЗФ
A8: 1 | B8: 2 | C8: 3 | D8: 4 | E8: 5 | F8: 6 | G8: 7 | H8: 8
A9: Території та об`єкти ПЗФ загальнодержавного значення
A10: 1 | B10: Карпатський | C10: Біосферний заповідник | E10: 58035.8 | F10: Рахівський, Тячівський, Хустський, Виноградівський райони м. Рахів | G10: КБЗ | H10: Укази Президента України від 26.11.1993 р. № 563/93, від 11.04.1997 № 325/97, від 14.01.2010 № 25/2010
B11: Всього біосферних заповідників | C11: 1 | E11: =SUM(E10) -> 58035.8
A12: 1 | B12: “Синевир” | C12: Національний природний парк | E12: 42704 | F12: Міжгірський, Хустський райони | G12: НПП “Синевир”, с. Синевир-Остріки | H12: ПРМ УРСР від 05.01.1989 р. № 7 Указ Президента України від 29.12.2009 р. № 1118/2009
A13: 2 | B13: Ужанський | C13: Національний природний парк | E13: 39159.3 | F13: Великоберезнянський р-н | G13: Ужанський НПП, смт. В. Березний | H13: Указ Президента України від 27.09.1999 року № 1230/99
A14: 3 | B14: “Зачарований край” | C14: Національний природний парк | E14: 6101 | F14: Іршавський р-н | G14: НПП "Зачарований край"” | H14: Указ Президента України від 21.05.2009 року № 343/2009
B15: Всього національних природних парків | C15: 3 | E15: =SUM(E12:E14) -> 87964.3
A16: 1 | B16: “Брадульський” | C16: заказник | D16: Ландшафтний | E16: 1026 | F16: Тячівський р-н, с. Руська Мокра, ДП “Мокрянське ЛМГ”, Брадульське л-во, квартали 1-5 | G16: ДП “Мокрянське ЛМГ” | H16: ПРМ УРСР від 28.10.1974 р. № 500, Ріш.ОВК від 23.10.1984 р. № 253
B17: Разом заказників ландшафтних: | C17: 1 | E17: =SUM(E16) -> 1026
A18: 1 | B18: “Росішний” | C18: заказник | D18: Лісовий | E18: 461 | F18: Воловецький р-н, ДП “Воловецьке ЛГ”, Нижньоволовецьке л-во квартали 19, 24, 25 | G18: ДП “Воловецьке ЛГ” | H18: Ріш. ОВК від 25.07.1972 р. № 243, ПРМ УРСР від 28.10.1974 р. № 500, Ріш.ОВК від 23.10.1984 р. № 253
A19: 2 | B19: “Діброва” | C19: заказник | D19: Лісовий | E19: 712 | F19: Рахівський р-н, ДП “Великобичківське ЛМГ”, Лужанське л-во, квартали 5-10 | G19: ДП “Великобичківське ЛМГ” | H19: Ріш. ОВК від 25.07.1972 р. № 243, ПРМ УРСР від 28.10.1974 р. № 500, Ріш.ОВК від 23.10.1984 р. № 253
A20: 3 | B20: “Кам’янка” | C20: заказник | D20: Лісовий | E20: 328 | F20: Міжгірський р-н, ДП “Міжгірське ЛГ”, Остріцьке л-во, кавартал 15, 6, 9, 10, 11 | G20: НПП “Синевир” | H20: ПРМ УРСР від 12.12.1983 р. № 495, Ріш.ОВК від 23.10.1984 р. № 253 (Увійшов до складу НПП “Синевир”, Постанова РМ УРСР від 5 січня 1989р. №7)
B21: Разом заказників лісових: | C21: 3 | E21: =SUM(E18:E20) -> 1501
A22: 1 | B22: “Чорна гора” | C22: заказник | D22: Ботанічний | E22: 823 | F22: Виноградівський р-н, ДП “Виноградівське ЛГ”, Виноградівське л-во, квартал 16-18, 20-25 | G22: ДП “Виноградівське ЛГ” – 76,0 га | H22: Ріш.ОВК від 18.11.1969 року № 414, Ріш. ОВК від 25.07.1972 р. № 243, ПРМ УРСР від 28.10.1974 р. № 500 (747 га передано до складу КБЗ, Указ Президента від 11.04.1997 р. №325/97)
A23: 2 | B23: “Юлівська гора” | C23: заказник | D23: Ботанічний | E23: 176 | F23: Виноградівський р-н, ДП “Виноградівське ЛГ”, Затисянське л-во, квартал 59, виділ 1-16 | G23: ДП “Виноградівське ЛГ” | H23: Ріш.ОВК від 18.11.1969 року № 414, Ріш. ОВК від 25.07.1972 р. № 243, ПРМ УРСР від 28.10.1974 р. № 500 (Передано до складу КБЗ б/в, Указ Президента від 11.04.1997 р. № 325/97)
A24: 3 | B24: "Урочища Затінки і Тересянка” | C24: заказник | D24: Ботанічний | E24: 13 | F24: Рахівський р-н, ДП „Рахівське ЛДГ”, Квасівське л-во, квартал 8, виділ 22, квартал 10, виділ 8, 9, 18, 19 | G24: ДП „Рахівське ЛДГ” | H24: ПРМ УРСР від 28.10.1974 р. № 500, ПРМ УРСР від 03.08.1978 р. №383, Ріш.ОВК від 23.10.1984 р. № 253 (Передано до складу КБЗ б/в Указ Президента.від 11. 04.1997 р. .№ 325/97)
A25: 4 | B25: “Гладинський” | C25: заказник | D25: Ботанічний | E25: 130 | F25: Тячівський р-н, ДП “Брустурянське ЛМГ”, Турбатське л-во, урочище “Чортів” квартал 23, виділ 1-24, 26-33 | G25: ДП “Брустурянське ЛМГ” | H25: ПРМ УРСР від 28.10.1974 р. № 500, Ріш.ОВК від 23.10.1984 р. № 253
A26: 5 | B26: “Горгани і Тавпіширка” | C26: заказник | D26: Ботанічний | E26: 248 | F26: Тячівський р-н, ДП “Брустурянське ЛМГ”, Плайське л-во, квартал 2, виділи 7, 21-25, 27-32, квартал 4, виділи 2, 4, 5-15, 21, 22, 25, 27, 28, квартал 5, виділи 2-5, 8, 9, 16, 17, 29 | G26: ДП “Брустурянське ЛМГ” | H26: Ріш. ОВК від 25.07.1972 р. № 243, ПРМ УРСР від 28.10.1974 р. № 500 Ріш.ОВК від 23.10.1984 р. № 253
A27: 6 | B27: “Кедринський” | C27: заказник | D27: Ботанічний | E27: 166 | F27: Тячівський р-н, ДП “Брустурянське ЛМГ”, Кедринське л-во, квартал 9, виділ 1-8, 10-24, 27, 30, 31, 36-40, 42-48 | G27: ДП “Брустурянське ЛМГ” | H27: Ріш. ОВК від 25.07.1972 р. № 243, ПРМ УРСР від 28.10.1974 р. № 500, Ріш.ОВК від 23.10.1984 р. № 253
A28: 7 | B28: “Керничний” | C28: заказник | D28: Ботанічний | E28: 107 | F28: Тячівський р-н, ДП “Мокрянське ЛМГ”, Мокрянське л-во, квартал 3, виділ 2-5 | G28: ДП “Мокрянське ЛМГ” | H28: ПРМ УРСР від 12.12.1983 р. № 495, Ріш.ОВК від 23.10.1984 р. № 253,
A29: 8 | B29: "Урочища Странзул, Задня, Кедрин” | C29: заказник | D29: Ботанічний | E29: 510 | F29: Тячівський р-н, ДП “Мокрянське ЛМГ”, Брадульське л-во, квартал 6 (виділ 1-27, 35), квартал 29 (виділ 30, 35-44), квартал 30 (9-27), квартал 31 (виділ 1-22), квартал 32 (виділ 4, 12, 13, 33-37) (500,0 га) ДП “Брустурянське ЛМГ”, Плайське л-во, квартал 2, виділ 10, 11 (10,0 га) | G29: ДП “Мокрянське ЛМГ” ДП “Брустурянське ЛМГ” | H29: ПРМ УРСР від 28.10.1974 р. № 500, ПРМ УРСР від 03.08.1978 р. № 383 Ріш.ОВК від 23.10.1984 р. № 253
A30: . | B30: Разом заказників ботаніччних: | C30: 8 | E30: =SUM(E22:E29) -> 2173
A31: 1 | B31: “Річанський” | C31: заказник | D31: Загальнозоо-логічний | E31: 2408 | F31: Іршавський р-н, ДП “Довжанське ЛМГ”, Річанське л-во, квартал 16-20, квартал 25-27, квартал 30-35, квартал 11, виділ 10-15 | G31: ДП “Довжанське ЛМГ” | H31: ПРМ УРСР від 26.12.1985 р. № 451
A32: 2 | B32: “Тур´є-Полянський” | C32: заказник | D32: Загальнозоо-логічний | E32: 2163 | F32: Перечинський р-н, ДП “Перечинське ЛГ”, л-во Шипот, квартал 55-75 | G32: ДП “Перечинське ЛГ” | H32: ПРМ УРСР від 26.12.1985 р. № 451
A33: 3 | B33: “Великодоброньський” | C33: заказник | D33: Загальнозоо-логічний | E33: 1736 | F33: Ужгородський, Мукачівський р-ни, ДП “Ужгородське ЛГ”, Великодобронське л-во, квартал 1-24 | G33: ДП “Ужгородське ЛГ” | H33: Ріш. ОВК від 25.07.1972 р. № 243, ПРМ УРСР від 28.10.1974 р. № 500, Ріш.ОВК від 23.10.1984 р. № 253, (входить до складу РЛП "Притисянський")
A34: 4 | B34: „Потік Оса” | C34: заказник | D34: Загально-зоологічний | E34: 500 | F34: Воловецький р-н, ДП “Воловецьке ЛГ”, Нижньоволовецьке л-во, квартал 8, 9, 12, 13, 15 ,16, 21 | G34: ДП “Воловецьке ЛГ” | H34: Указ Президента України від 09.12.1998 р. № 1341/98
B35: Разом заказників загально-зоологічних | C35: 4 | E35: =SUM(E31:E34) -> 6807
A36: 1 | B36: “Соколові скелі” | C36: заказник | D36: Орнітологічний | E36: 606 | F36: Перечинський р-н, ДП “Перечинське ЛГ”. л-во Шипот, квартал 13, (виділ 1-9), квартал 14, квартал 15 (виділ 1-12), квартал 16, квартал 25, (виділ 1-7), квартал 27, (виділ 1-15) | G36: ДП ,,Перечинське ЛГ” | H36: ПРМ УРСР від 28.10.1974 р. № 500, ПРМ УРСР від 03.08.1978 р. № 383 Ріш.ОВК від 23.10.1984 р. № 253
B37: Разом: заказників орнітологічних | C37: 1 | E37: =SUM(E36) -> 606
A38: 1 | B38: “Апшинецький” | C38: заказник | D38: Гідрологічний | E38: 105 | F38: Рахівський р-н, ДП “Ясінянське ЛМГ”, Чорнотисянське л-во, квартал 1, виділ 1, 2, 5, 9-12, 18-21 | G38: ДП “Ясінянське ЛМГ” | H38: Ріш. ОВК від 25.07.1972 р. № 243, ПРМ УРСР від 28.10.1974 р. № 500, Ріш.ОВК від 23.10.1984 р. № 253
B39: Разом: заказників гідрологічних | C39: 1 | E39: =SUM(E38) -> 105
A40: 1 | B40: “Зачарована долина” | C40: заказник | D40: Геологічний | E40: 150 | F40: Іршавський р-н, ДП “Загатянське ЛГ”, Ільницьке л-во, квартал 16, виділ 1-4, 7, 12, 15, 19, 20, 26-31, квартал 17, виділ 1-5, 7-12, 16, 17, 25 | G40: НПП "Зачарований край" | H40: Ріш. ОВК від 25.07.1972 р. № 243, ПРМ УРСР від 28.10.1974 р. № 500, ПРМ УРСР від 03.08.1978 р. № 383, Ріш.ОВК від 23.10.1984 р. № 253, (входить до складу НПП "Зачарований край" з вилученням)
B41: Разом: | C41: 1 | E41: =SUM(E40) -> 150
B42: Всього заказників загальнодержавного значення | C42: =C41+C39+C37+C35+C30+C21+C17 -> 19 | E42: =E41+E39+E37+E35+E30+E21+E17 -> 12368
A43: 1 | B43: “Гора Високий камінь” | C43: пам`ятка природи | D43: Комплексна | E43: 22 | F43: Воловецький р-н, ДП “Воловецьке ЛГ”, Підполозське л-во квартал 14 виділ 2, 3, Нижньоворітське л-во квартал 13 виділ 6, 7, 10, 11 | G43: ДП “Воловецьке ЛГ” | H43: Ріш. ОВК від 25.07.1972 р. № 243, Розп. РМ УРСР від 14.10.1975 № 780–р, Ріш.ОВК від 23.10.1984 р. № 253
B44: Разом: | C44: 1 | E44: =SUM(E43) -> 22
...

Sheet Запорізька обл.
A1: Запорізька область
A2: Перелік територій та об`єктів природно-заповідного фонду загальнодержавного та місцевого значення
A4: № з.п. | B4: Назва території чи об’єкта ПЗФ | C4: Категорія | D4: Тип | E4: Площа, га | F4: Місце розташування території чи об`єкту ПЗФ | G4: Назва установи, підпрємства, організації, землекористувача (землевласника), у віданні якого знаходиться територія чи об’єкт ПЗФ | H4: Рішення, згідно з яким створено (змінено) дану територію чи об’єкт ПЗФ
A8: 1 | B8: 2 | C8: 3 | D8: 4 | E8: 5 | F8: 6 | G8: 7 | H8: 8
A9: Території та об`єкти ПЗФ загальнодержавного значення
A10: 1. | B10: «Кам’яні могили» (частина ПЗ Український степовий – Донецька обл.) | C10: природний заповідни | E10: 100 | F10: Куйбишевський р-н, Шевченківська сільська рада, по кордону з Донецькою областю | G10: Академія наук України | H10: Постанова Ради Міністрів України від 08.05.1964р. №451
B11: Всього природних заповідників | C11: 0 | E11: =SUM(E10:E10) -> 100
A12: 1 | B12: «Великий Луг» | C12: національний природний парк | E12: 16756 | F12: Василівський район, м. Дніпрорудне, с. Скельки, Маячка, акваторія Каховського водосховища | G12: Адміністрація НПП | H12: Указ Президента України від 10.08.2006 № 121/2006
A13: 2 | B13: «Приазовський національний природний парк» | C13: національний природний парк | E13: 78126.92 | F13: Бердянський, Мелітопольський, Приазовський райони, міста Бердянськ та Мелітополь | G13: Адміністрація НПП | H13: Указ Президента України від 10.02.2010 №154/2010
B14: Всього національних природних парків | C14: 2 | E14: =SUM(E12:E13) -> 94882.92
A15: 1 | B15: «Молочний лиман» | C15: заказник | D15: гідрологічний | E15: 19000 | F15: Якимівський, Мелітопольський, Приазовський райони | G15: Райдержадміністрації відповідних районів | H15: Постанова Ради МіністрівУкраїни від 28.10.1974р. №500 повністю увійшов до складу Приазовського НПП
A16: 1 | B16: Разом заказників гідрологічних | C16: 1 | E16: =SUM(E15) -> 19000
A17: 1 | B17: «Дніпровські пороги» | C17: заказник | D17: загальногеологічний | E17: 1383 | F17: м. Запоріжжя, о.Хортиця, о.Байда та скелі посеред р.Дніпро | G17: Національний заповідник «Хортиця» | H17: Постанова Ради МіністрівУкраїни від 28.10.1974р. №500
B18: Разом заказників загальногеологічних | C18: 1 | E18: =SUM(E17) -> 1383
A19: 1 | B19: «Алтагірський» | C19: заказник | D19: загальнозоологічний | E19: 950 | F19: Якимівський р-н, околиця с.Радивонівка, Богатирське лісництво, кв. від 1 до 117, без кв. 33, 40, 47, 54, 61 | G19: ДП «Мелітопольське лісомисливське господарство» | H19: Постанова Ради МіністрівУкраїни від 28.10.1974р. №500
A20: 1 | B20: Разом заказників загальнозоологічних | C20: 1 | E20: =SUM(E19) -> 950
